BEGIN:VCALENDAR
VERSION:2.0
PRODID:-//First Presbyterian Church SL - ECPv6.15.20//NONSGML v1.0//EN
CALSCALE:GREGORIAN
METHOD:PUBLISH
X-ORIGINAL-URL:https://firstpresbyterianchurchsl.org
X-WR-CALDESC:Events for First Presbyterian Church SL
REFRESH-INTERVAL;VALUE=DURATION:PT1H
X-Robots-Tag:noindex
X-PUBLISHED-TTL:PT1H
BEGIN:VTIMEZONE
TZID:America/Los_Angeles
BEGIN:DAYLIGHT
TZOFFSETFROM:-0800
TZOFFSETTO:-0700
TZNAME:PDT
DTSTART:20250309T100000
END:DAYLIGHT
BEGIN:STANDARD
TZOFFSETFROM:-0700
TZOFFSETTO:-0800
TZNAME:PST
DTSTART:20251102T090000
END:STANDARD
BEGIN:DAYLIGHT
TZOFFSETFROM:-0800
TZOFFSETTO:-0700
TZNAME:PDT
DTSTART:20260308T100000
END:DAYLIGHT
BEGIN:STANDARD
TZOFFSETFROM:-0700
TZOFFSETTO:-0800
TZNAME:PST
DTSTART:20261101T090000
END:STANDARD
BEGIN:DAYLIGHT
TZOFFSETFROM:-0800
TZOFFSETTO:-0700
TZNAME:PDT
DTSTART:20270314T100000
END:DAYLIGHT
BEGIN:STANDARD
TZOFFSETFROM:-0700
TZOFFSETTO:-0800
TZNAME:PST
DTSTART:20271107T090000
END:STANDARD
END:VTIMEZONE
BEGIN:VEVENT
DTSTART;TZID=America/Los_Angeles:20260201T103000
DTEND;TZID=America/Los_Angeles:20260201T113000
DTSTAMP:20260421T163716
CREATED:20260324T163227Z
LAST-MODIFIED:20260324T163227Z
UID:10000515-1769941800-1769945400@firstpresbyterianchurchsl.org
SUMMARY:Coffee Fellowship
DESCRIPTION:
URL:https://firstpresbyterianchurchsl.org/event/coffee-fellowship/2026-02-01/
LOCATION:First Presbyterian Church of San Leandro\, 180 Estudillo Avenue\, San Leandros\, 94577
CATEGORIES:Fellowship Hall
END:VEVENT
BEGIN:VEVENT
DTSTART;TZID=America/Los_Angeles:20260208T103000
DTEND;TZID=America/Los_Angeles:20260208T113000
DTSTAMP:20260421T163716
CREATED:20260326T181248Z
LAST-MODIFIED:20260326T181248Z
UID:10000863-1770546600-1770550200@firstpresbyterianchurchsl.org
SUMMARY:Coffee Fellowship/Manna Bags & Equal Exchange
DESCRIPTION:
URL:https://firstpresbyterianchurchsl.org/event/coffee-fellowship-manna-bags-equal-exchange/2026-02-08/
LOCATION:First Presbyterian Church of San Leandro\, 180 Estudillo Avenue\, San Leandros\, 94577
CATEGORIES:Fellowship Hall
END:VEVENT
BEGIN:VEVENT
DTSTART;TZID=America/Los_Angeles:20260215T103000
DTEND;TZID=America/Los_Angeles:20260215T113000
DTSTAMP:20260421T163716
CREATED:20260324T163227Z
LAST-MODIFIED:20260324T163227Z
UID:10000516-1771151400-1771155000@firstpresbyterianchurchsl.org
SUMMARY:Coffee Fellowship
DESCRIPTION:
URL:https://firstpresbyterianchurchsl.org/event/coffee-fellowship/2026-02-15/
LOCATION:First Presbyterian Church of San Leandro\, 180 Estudillo Avenue\, San Leandros\, 94577
CATEGORIES:Fellowship Hall
END:VEVENT
BEGIN:VEVENT
DTSTART;TZID=America/Los_Angeles:20260215T140000
DTEND;TZID=America/Los_Angeles:20260215T160000
DTSTAMP:20260421T163716
CREATED:20260326T181642Z
LAST-MODIFIED:20260326T181642Z
UID:10000927-1771164000-1771171200@firstpresbyterianchurchsl.org
SUMMARY:Valentine Paint Party
DESCRIPTION:
URL:https://firstpresbyterianchurchsl.org/event/valentine-paint-party/
LOCATION:First Presbyterian Church of San Leandro\, 180 Estudillo Avenue\, San Leandros\, 94577
CATEGORIES:Fellowship Hall
END:VEVENT
BEGIN:VEVENT
DTSTART;TZID=America/Los_Angeles:20260219T113000
DTEND;TZID=America/Los_Angeles:20260219T133000
DTSTAMP:20260421T163716
CREATED:20260325T184759Z
LAST-MODIFIED:20260325T184759Z
UID:10000772-1771500600-1771507800@firstpresbyterianchurchsl.org
SUMMARY:Young at Heart
DESCRIPTION:
URL:https://firstpresbyterianchurchsl.org/event/young-at-heart/2026-02-19/
LOCATION:First Presbyterian Church of San Leandro\, 180 Estudillo Avenue\, San Leandros\, 94577
CATEGORIES:Fellowship Hall
END:VEVENT
BEGIN:VEVENT
DTSTART;TZID=America/Los_Angeles:20260222T103000
DTEND;TZID=America/Los_Angeles:20260222T113000
DTSTAMP:20260421T163716
CREATED:20260324T163227Z
LAST-MODIFIED:20260324T163227Z
UID:10000517-1771756200-1771759800@firstpresbyterianchurchsl.org
SUMMARY:Coffee Fellowship
DESCRIPTION:
URL:https://firstpresbyterianchurchsl.org/event/coffee-fellowship/2026-02-22/
LOCATION:First Presbyterian Church of San Leandro\, 180 Estudillo Avenue\, San Leandros\, 94577
CATEGORIES:Fellowship Hall
END:VEVENT
END:VCALENDAR