BEGIN:VCALENDAR
VERSION:2.0
PRODID:-//First Presbyterian Church SL - ECPv6.15.20//NONSGML v1.0//EN
CALSCALE:GREGORIAN
METHOD:PUBLISH
X-WR-CALNAME:First Presbyterian Church SL
X-ORIGINAL-URL:https://firstpresbyterianchurchsl.org
X-WR-CALDESC:Events for First Presbyterian Church SL
REFRESH-INTERVAL;VALUE=DURATION:PT1H
X-Robots-Tag:noindex
X-PUBLISHED-TTL:PT1H
BEGIN:VTIMEZONE
TZID:America/Los_Angeles
BEGIN:DAYLIGHT
TZOFFSETFROM:-0800
TZOFFSETTO:-0700
TZNAME:PDT
DTSTART:20270314T100000
END:DAYLIGHT
BEGIN:STANDARD
TZOFFSETFROM:-0700
TZOFFSETTO:-0800
TZNAME:PST
DTSTART:20271107T090000
END:STANDARD
BEGIN:DAYLIGHT
TZOFFSETFROM:-0800
TZOFFSETTO:-0700
TZNAME:PDT
DTSTART:20280312T100000
END:DAYLIGHT
BEGIN:STANDARD
TZOFFSETFROM:-0700
TZOFFSETTO:-0800
TZNAME:PST
DTSTART:20281105T090000
END:STANDARD
BEGIN:DAYLIGHT
TZOFFSETFROM:-0800
TZOFFSETTO:-0700
TZNAME:PDT
DTSTART:20290311T100000
END:DAYLIGHT
BEGIN:STANDARD
TZOFFSETFROM:-0700
TZOFFSETTO:-0800
TZNAME:PST
DTSTART:20291104T090000
END:STANDARD
BEGIN:DAYLIGHT
TZOFFSETFROM:-0800
TZOFFSETTO:-0700
TZNAME:PDT
DTSTART:20300310T100000
END:DAYLIGHT
BEGIN:STANDARD
TZOFFSETFROM:-0700
TZOFFSETTO:-0800
TZNAME:PST
DTSTART:20301103T090000
END:STANDARD
END:VTIMEZONE
BEGIN:VEVENT
DTSTART;TZID=America/Los_Angeles:20280702T103000
DTEND;TZID=America/Los_Angeles:20280702T113000
DTSTAMP:20260422T151528
CREATED:20260324T163227Z
LAST-MODIFIED:20260324T163227Z
UID:10000612-1846146600-1846150200@firstpresbyterianchurchsl.org
SUMMARY:Coffee Fellowship
DESCRIPTION:
URL:https://firstpresbyterianchurchsl.org/event/coffee-fellowship/2028-07-02/
LOCATION:First Presbyterian Church of San Leandro\, 180 Estudillo Avenue\, San Leandros\, 94577
CATEGORIES:Fellowship Hall
END:VEVENT
BEGIN:VEVENT
DTSTART;TZID=America/Los_Angeles:20280709T103000
DTEND;TZID=America/Los_Angeles:20280709T113000
DTSTAMP:20260422T151528
CREATED:20260326T181248Z
LAST-MODIFIED:20260326T181248Z
UID:10000892-1846751400-1846755000@firstpresbyterianchurchsl.org
SUMMARY:Coffee Fellowship/Manna Bags & Equal Exchange
DESCRIPTION:
URL:https://firstpresbyterianchurchsl.org/event/coffee-fellowship-manna-bags-equal-exchange/2028-07-09/
LOCATION:First Presbyterian Church of San Leandro\, 180 Estudillo Avenue\, San Leandros\, 94577
CATEGORIES:Fellowship Hall
END:VEVENT
BEGIN:VEVENT
DTSTART;TZID=America/Los_Angeles:20280716T103000
DTEND;TZID=America/Los_Angeles:20280716T113000
DTSTAMP:20260422T151528
CREATED:20260324T163227Z
LAST-MODIFIED:20260324T163227Z
UID:10000613-1847356200-1847359800@firstpresbyterianchurchsl.org
SUMMARY:Coffee Fellowship
DESCRIPTION:
URL:https://firstpresbyterianchurchsl.org/event/coffee-fellowship/2028-07-16/
LOCATION:First Presbyterian Church of San Leandro\, 180 Estudillo Avenue\, San Leandros\, 94577
CATEGORIES:Fellowship Hall
END:VEVENT
BEGIN:VEVENT
DTSTART;TZID=America/Los_Angeles:20280723T103000
DTEND;TZID=America/Los_Angeles:20280723T113000
DTSTAMP:20260422T151528
CREATED:20260324T163227Z
LAST-MODIFIED:20260324T163227Z
UID:10000614-1847961000-1847964600@firstpresbyterianchurchsl.org
SUMMARY:Coffee Fellowship
DESCRIPTION:
URL:https://firstpresbyterianchurchsl.org/event/coffee-fellowship/2028-07-23/
LOCATION:First Presbyterian Church of San Leandro\, 180 Estudillo Avenue\, San Leandros\, 94577
CATEGORIES:Fellowship Hall
END:VEVENT
BEGIN:VEVENT
DTSTART;TZID=America/Los_Angeles:20280730T103000
DTEND;TZID=America/Los_Angeles:20280730T113000
DTSTAMP:20260422T151528
CREATED:20260324T163227Z
LAST-MODIFIED:20260324T163227Z
UID:10000615-1848565800-1848569400@firstpresbyterianchurchsl.org
SUMMARY:Coffee Fellowship
DESCRIPTION:
URL:https://firstpresbyterianchurchsl.org/event/coffee-fellowship/2028-07-30/
LOCATION:First Presbyterian Church of San Leandro\, 180 Estudillo Avenue\, San Leandros\, 94577
CATEGORIES:Fellowship Hall
END:VEVENT
BEGIN:VEVENT
DTSTART;TZID=America/Los_Angeles:20280806T103000
DTEND;TZID=America/Los_Angeles:20280806T113000
DTSTAMP:20260422T151528
CREATED:20260324T163227Z
LAST-MODIFIED:20260324T163227Z
UID:10000616-1849170600-1849174200@firstpresbyterianchurchsl.org
SUMMARY:Coffee Fellowship
DESCRIPTION:
URL:https://firstpresbyterianchurchsl.org/event/coffee-fellowship/2028-08-06/
LOCATION:First Presbyterian Church of San Leandro\, 180 Estudillo Avenue\, San Leandros\, 94577
CATEGORIES:Fellowship Hall
END:VEVENT
BEGIN:VEVENT
DTSTART;TZID=America/Los_Angeles:20280813T103000
DTEND;TZID=America/Los_Angeles:20280813T113000
DTSTAMP:20260422T151528
CREATED:20260326T181248Z
LAST-MODIFIED:20260326T181248Z
UID:10000893-1849775400-1849779000@firstpresbyterianchurchsl.org
SUMMARY:Coffee Fellowship/Manna Bags & Equal Exchange
DESCRIPTION:
URL:https://firstpresbyterianchurchsl.org/event/coffee-fellowship-manna-bags-equal-exchange/2028-08-13/
LOCATION:First Presbyterian Church of San Leandro\, 180 Estudillo Avenue\, San Leandros\, 94577
CATEGORIES:Fellowship Hall
END:VEVENT
BEGIN:VEVENT
DTSTART;TZID=America/Los_Angeles:20280820T103000
DTEND;TZID=America/Los_Angeles:20280820T113000
DTSTAMP:20260422T151528
CREATED:20260324T163227Z
LAST-MODIFIED:20260324T163227Z
UID:10000617-1850380200-1850383800@firstpresbyterianchurchsl.org
SUMMARY:Coffee Fellowship
DESCRIPTION:
URL:https://firstpresbyterianchurchsl.org/event/coffee-fellowship/2028-08-20/
LOCATION:First Presbyterian Church of San Leandro\, 180 Estudillo Avenue\, San Leandros\, 94577
CATEGORIES:Fellowship Hall
END:VEVENT
BEGIN:VEVENT
DTSTART;TZID=America/Los_Angeles:20280827T103000
DTEND;TZID=America/Los_Angeles:20280827T113000
DTSTAMP:20260422T151528
CREATED:20260324T163227Z
LAST-MODIFIED:20260324T163227Z
UID:10000618-1850985000-1850988600@firstpresbyterianchurchsl.org
SUMMARY:Coffee Fellowship
DESCRIPTION:
URL:https://firstpresbyterianchurchsl.org/event/coffee-fellowship/2028-08-27/
LOCATION:First Presbyterian Church of San Leandro\, 180 Estudillo Avenue\, San Leandros\, 94577
CATEGORIES:Fellowship Hall
END:VEVENT
BEGIN:VEVENT
DTSTART;TZID=America/Los_Angeles:20280903T103000
DTEND;TZID=America/Los_Angeles:20280903T113000
DTSTAMP:20260422T151528
CREATED:20260324T163227Z
LAST-MODIFIED:20260324T163227Z
UID:10000619-1851589800-1851593400@firstpresbyterianchurchsl.org
SUMMARY:Coffee Fellowship
DESCRIPTION:
URL:https://firstpresbyterianchurchsl.org/event/coffee-fellowship/2028-09-03/
LOCATION:First Presbyterian Church of San Leandro\, 180 Estudillo Avenue\, San Leandros\, 94577
CATEGORIES:Fellowship Hall
END:VEVENT
BEGIN:VEVENT
DTSTART;TZID=America/Los_Angeles:20280910T103000
DTEND;TZID=America/Los_Angeles:20280910T113000
DTSTAMP:20260422T151528
CREATED:20260326T181248Z
LAST-MODIFIED:20260326T181248Z
UID:10000894-1852194600-1852198200@firstpresbyterianchurchsl.org
SUMMARY:Coffee Fellowship/Manna Bags & Equal Exchange
DESCRIPTION:
URL:https://firstpresbyterianchurchsl.org/event/coffee-fellowship-manna-bags-equal-exchange/2028-09-10/
LOCATION:First Presbyterian Church of San Leandro\, 180 Estudillo Avenue\, San Leandros\, 94577
CATEGORIES:Fellowship Hall
END:VEVENT
BEGIN:VEVENT
DTSTART;TZID=America/Los_Angeles:20280917T103000
DTEND;TZID=America/Los_Angeles:20280917T113000
DTSTAMP:20260422T151528
CREATED:20260324T163227Z
LAST-MODIFIED:20260324T163227Z
UID:10000620-1852799400-1852803000@firstpresbyterianchurchsl.org
SUMMARY:Coffee Fellowship
DESCRIPTION:
URL:https://firstpresbyterianchurchsl.org/event/coffee-fellowship/2028-09-17/
LOCATION:First Presbyterian Church of San Leandro\, 180 Estudillo Avenue\, San Leandros\, 94577
CATEGORIES:Fellowship Hall
END:VEVENT
BEGIN:VEVENT
DTSTART;TZID=America/Los_Angeles:20280924T103000
DTEND;TZID=America/Los_Angeles:20280924T113000
DTSTAMP:20260422T151528
CREATED:20260324T163227Z
LAST-MODIFIED:20260324T163227Z
UID:10000621-1853404200-1853407800@firstpresbyterianchurchsl.org
SUMMARY:Coffee Fellowship
DESCRIPTION:
URL:https://firstpresbyterianchurchsl.org/event/coffee-fellowship/2028-09-24/
LOCATION:First Presbyterian Church of San Leandro\, 180 Estudillo Avenue\, San Leandros\, 94577
CATEGORIES:Fellowship Hall
END:VEVENT
BEGIN:VEVENT
DTSTART;TZID=America/Los_Angeles:20281001T103000
DTEND;TZID=America/Los_Angeles:20281001T113000
DTSTAMP:20260422T151528
CREATED:20260324T163227Z
LAST-MODIFIED:20260324T163227Z
UID:10000622-1854009000-1854012600@firstpresbyterianchurchsl.org
SUMMARY:Coffee Fellowship
DESCRIPTION:
URL:https://firstpresbyterianchurchsl.org/event/coffee-fellowship/2028-10-01/
LOCATION:First Presbyterian Church of San Leandro\, 180 Estudillo Avenue\, San Leandros\, 94577
CATEGORIES:Fellowship Hall
END:VEVENT
BEGIN:VEVENT
DTSTART;TZID=America/Los_Angeles:20281008T103000
DTEND;TZID=America/Los_Angeles:20281008T113000
DTSTAMP:20260422T151528
CREATED:20260326T181248Z
LAST-MODIFIED:20260326T181248Z
UID:10000895-1854613800-1854617400@firstpresbyterianchurchsl.org
SUMMARY:Coffee Fellowship/Manna Bags & Equal Exchange
DESCRIPTION:
URL:https://firstpresbyterianchurchsl.org/event/coffee-fellowship-manna-bags-equal-exchange/2028-10-08/
LOCATION:First Presbyterian Church of San Leandro\, 180 Estudillo Avenue\, San Leandros\, 94577
CATEGORIES:Fellowship Hall
END:VEVENT
BEGIN:VEVENT
DTSTART;TZID=America/Los_Angeles:20281015T103000
DTEND;TZID=America/Los_Angeles:20281015T113000
DTSTAMP:20260422T151528
CREATED:20260324T163227Z
LAST-MODIFIED:20260324T163227Z
UID:10000623-1855218600-1855222200@firstpresbyterianchurchsl.org
SUMMARY:Coffee Fellowship
DESCRIPTION:
URL:https://firstpresbyterianchurchsl.org/event/coffee-fellowship/2028-10-15/
LOCATION:First Presbyterian Church of San Leandro\, 180 Estudillo Avenue\, San Leandros\, 94577
CATEGORIES:Fellowship Hall
END:VEVENT
BEGIN:VEVENT
DTSTART;TZID=America/Los_Angeles:20281022T103000
DTEND;TZID=America/Los_Angeles:20281022T113000
DTSTAMP:20260422T151528
CREATED:20260324T163227Z
LAST-MODIFIED:20260324T163227Z
UID:10000624-1855823400-1855827000@firstpresbyterianchurchsl.org
SUMMARY:Coffee Fellowship
DESCRIPTION:
URL:https://firstpresbyterianchurchsl.org/event/coffee-fellowship/2028-10-22/
LOCATION:First Presbyterian Church of San Leandro\, 180 Estudillo Avenue\, San Leandros\, 94577
CATEGORIES:Fellowship Hall
END:VEVENT
BEGIN:VEVENT
DTSTART;TZID=America/Los_Angeles:20281029T103000
DTEND;TZID=America/Los_Angeles:20281029T113000
DTSTAMP:20260422T151528
CREATED:20260324T163227Z
LAST-MODIFIED:20260324T163227Z
UID:10000625-1856428200-1856431800@firstpresbyterianchurchsl.org
SUMMARY:Coffee Fellowship
DESCRIPTION:
URL:https://firstpresbyterianchurchsl.org/event/coffee-fellowship/2028-10-29/
LOCATION:First Presbyterian Church of San Leandro\, 180 Estudillo Avenue\, San Leandros\, 94577
CATEGORIES:Fellowship Hall
END:VEVENT
BEGIN:VEVENT
DTSTART;TZID=America/Los_Angeles:20281105T103000
DTEND;TZID=America/Los_Angeles:20281105T113000
DTSTAMP:20260422T151528
CREATED:20260324T163227Z
LAST-MODIFIED:20260324T163227Z
UID:10000626-1857033000-1857036600@firstpresbyterianchurchsl.org
SUMMARY:Coffee Fellowship
DESCRIPTION:
URL:https://firstpresbyterianchurchsl.org/event/coffee-fellowship/2028-11-05/
LOCATION:First Presbyterian Church of San Leandro\, 180 Estudillo Avenue\, San Leandros\, 94577
CATEGORIES:Fellowship Hall
END:VEVENT
BEGIN:VEVENT
DTSTART;TZID=America/Los_Angeles:20281112T103000
DTEND;TZID=America/Los_Angeles:20281112T113000
DTSTAMP:20260422T151528
CREATED:20260326T181248Z
LAST-MODIFIED:20260326T181248Z
UID:10000896-1857637800-1857641400@firstpresbyterianchurchsl.org
SUMMARY:Coffee Fellowship/Manna Bags & Equal Exchange
DESCRIPTION:
URL:https://firstpresbyterianchurchsl.org/event/coffee-fellowship-manna-bags-equal-exchange/2028-11-12/
LOCATION:First Presbyterian Church of San Leandro\, 180 Estudillo Avenue\, San Leandros\, 94577
CATEGORIES:Fellowship Hall
END:VEVENT
BEGIN:VEVENT
DTSTART;TZID=America/Los_Angeles:20281119T103000
DTEND;TZID=America/Los_Angeles:20281119T113000
DTSTAMP:20260422T151528
CREATED:20260324T163227Z
LAST-MODIFIED:20260324T163227Z
UID:10000627-1858242600-1858246200@firstpresbyterianchurchsl.org
SUMMARY:Coffee Fellowship
DESCRIPTION:
URL:https://firstpresbyterianchurchsl.org/event/coffee-fellowship/2028-11-19/
LOCATION:First Presbyterian Church of San Leandro\, 180 Estudillo Avenue\, San Leandros\, 94577
CATEGORIES:Fellowship Hall
END:VEVENT
BEGIN:VEVENT
DTSTART;TZID=America/Los_Angeles:20281126T103000
DTEND;TZID=America/Los_Angeles:20281126T113000
DTSTAMP:20260422T151528
CREATED:20260324T163227Z
LAST-MODIFIED:20260324T163227Z
UID:10000628-1858847400-1858851000@firstpresbyterianchurchsl.org
SUMMARY:Coffee Fellowship
DESCRIPTION:
URL:https://firstpresbyterianchurchsl.org/event/coffee-fellowship/2028-11-26/
LOCATION:First Presbyterian Church of San Leandro\, 180 Estudillo Avenue\, San Leandros\, 94577
CATEGORIES:Fellowship Hall
END:VEVENT
BEGIN:VEVENT
DTSTART;TZID=America/Los_Angeles:20281203T103000
DTEND;TZID=America/Los_Angeles:20281203T113000
DTSTAMP:20260422T151528
CREATED:20260324T163227Z
LAST-MODIFIED:20260324T163227Z
UID:10000629-1859452200-1859455800@firstpresbyterianchurchsl.org
SUMMARY:Coffee Fellowship
DESCRIPTION:
URL:https://firstpresbyterianchurchsl.org/event/coffee-fellowship/2028-12-03/
LOCATION:First Presbyterian Church of San Leandro\, 180 Estudillo Avenue\, San Leandros\, 94577
CATEGORIES:Fellowship Hall
END:VEVENT
BEGIN:VEVENT
DTSTART;TZID=America/Los_Angeles:20281210T103000
DTEND;TZID=America/Los_Angeles:20281210T113000
DTSTAMP:20260422T151528
CREATED:20260326T181248Z
LAST-MODIFIED:20260326T181248Z
UID:10000897-1860057000-1860060600@firstpresbyterianchurchsl.org
SUMMARY:Coffee Fellowship/Manna Bags & Equal Exchange
DESCRIPTION:
URL:https://firstpresbyterianchurchsl.org/event/coffee-fellowship-manna-bags-equal-exchange/2028-12-10/
LOCATION:First Presbyterian Church of San Leandro\, 180 Estudillo Avenue\, San Leandros\, 94577
CATEGORIES:Fellowship Hall
END:VEVENT
BEGIN:VEVENT
DTSTART;TZID=America/Los_Angeles:20281217T103000
DTEND;TZID=America/Los_Angeles:20281217T113000
DTSTAMP:20260422T151528
CREATED:20260324T163227Z
LAST-MODIFIED:20260324T163227Z
UID:10000630-1860661800-1860665400@firstpresbyterianchurchsl.org
SUMMARY:Coffee Fellowship
DESCRIPTION:
URL:https://firstpresbyterianchurchsl.org/event/coffee-fellowship/2028-12-17/
LOCATION:First Presbyterian Church of San Leandro\, 180 Estudillo Avenue\, San Leandros\, 94577
CATEGORIES:Fellowship Hall
END:VEVENT
BEGIN:VEVENT
DTSTART;TZID=America/Los_Angeles:20281224T103000
DTEND;TZID=America/Los_Angeles:20281224T113000
DTSTAMP:20260422T151528
CREATED:20260324T163227Z
LAST-MODIFIED:20260324T163227Z
UID:10000631-1861266600-1861270200@firstpresbyterianchurchsl.org
SUMMARY:Coffee Fellowship
DESCRIPTION:
URL:https://firstpresbyterianchurchsl.org/event/coffee-fellowship/2028-12-24/
LOCATION:First Presbyterian Church of San Leandro\, 180 Estudillo Avenue\, San Leandros\, 94577
CATEGORIES:Fellowship Hall
END:VEVENT
BEGIN:VEVENT
DTSTART;TZID=America/Los_Angeles:20281231T103000
DTEND;TZID=America/Los_Angeles:20281231T113000
DTSTAMP:20260422T151528
CREATED:20260324T163227Z
LAST-MODIFIED:20260324T163227Z
UID:10000632-1861871400-1861875000@firstpresbyterianchurchsl.org
SUMMARY:Coffee Fellowship
DESCRIPTION:
URL:https://firstpresbyterianchurchsl.org/event/coffee-fellowship/2028-12-31/
LOCATION:First Presbyterian Church of San Leandro\, 180 Estudillo Avenue\, San Leandros\, 94577
CATEGORIES:Fellowship Hall
END:VEVENT
BEGIN:VEVENT
DTSTART;TZID=America/Los_Angeles:20290107T103000
DTEND;TZID=America/Los_Angeles:20290107T113000
DTSTAMP:20260422T151528
CREATED:20260324T163227Z
LAST-MODIFIED:20260324T163227Z
UID:10000633-1862476200-1862479800@firstpresbyterianchurchsl.org
SUMMARY:Coffee Fellowship
DESCRIPTION:
URL:https://firstpresbyterianchurchsl.org/event/coffee-fellowship/2029-01-07/
LOCATION:First Presbyterian Church of San Leandro\, 180 Estudillo Avenue\, San Leandros\, 94577
CATEGORIES:Fellowship Hall
END:VEVENT
BEGIN:VEVENT
DTSTART;TZID=America/Los_Angeles:20290114T103000
DTEND;TZID=America/Los_Angeles:20290114T113000
DTSTAMP:20260422T151528
CREATED:20260326T181248Z
LAST-MODIFIED:20260326T181248Z
UID:10000898-1863081000-1863084600@firstpresbyterianchurchsl.org
SUMMARY:Coffee Fellowship/Manna Bags & Equal Exchange
DESCRIPTION:
URL:https://firstpresbyterianchurchsl.org/event/coffee-fellowship-manna-bags-equal-exchange/2029-01-14/
LOCATION:First Presbyterian Church of San Leandro\, 180 Estudillo Avenue\, San Leandros\, 94577
CATEGORIES:Fellowship Hall
END:VEVENT
BEGIN:VEVENT
DTSTART;TZID=America/Los_Angeles:20290121T103000
DTEND;TZID=America/Los_Angeles:20290121T113000
DTSTAMP:20260422T151528
CREATED:20260324T163227Z
LAST-MODIFIED:20260324T163227Z
UID:10000634-1863685800-1863689400@firstpresbyterianchurchsl.org
SUMMARY:Coffee Fellowship
DESCRIPTION:
URL:https://firstpresbyterianchurchsl.org/event/coffee-fellowship/2029-01-21/
LOCATION:First Presbyterian Church of San Leandro\, 180 Estudillo Avenue\, San Leandros\, 94577
CATEGORIES:Fellowship Hall
END:VEVENT
END:VCALENDAR