BEGIN:VCALENDAR
VERSION:2.0
PRODID:-//First Presbyterian Church SL - ECPv6.15.20//NONSGML v1.0//EN
CALSCALE:GREGORIAN
METHOD:PUBLISH
X-WR-CALNAME:First Presbyterian Church SL
X-ORIGINAL-URL:https://firstpresbyterianchurchsl.org
X-WR-CALDESC:Events for First Presbyterian Church SL
REFRESH-INTERVAL;VALUE=DURATION:PT1H
X-Robots-Tag:noindex
X-PUBLISHED-TTL:PT1H
BEGIN:VTIMEZONE
TZID:America/Los_Angeles
BEGIN:DAYLIGHT
TZOFFSETFROM:-0800
TZOFFSETTO:-0700
TZNAME:PDT
DTSTART:20290311T100000
END:DAYLIGHT
BEGIN:STANDARD
TZOFFSETFROM:-0700
TZOFFSETTO:-0800
TZNAME:PST
DTSTART:20291104T090000
END:STANDARD
BEGIN:DAYLIGHT
TZOFFSETFROM:-0800
TZOFFSETTO:-0700
TZNAME:PDT
DTSTART:20300310T100000
END:DAYLIGHT
BEGIN:STANDARD
TZOFFSETFROM:-0700
TZOFFSETTO:-0800
TZNAME:PST
DTSTART:20301103T090000
END:STANDARD
BEGIN:DAYLIGHT
TZOFFSETFROM:-0800
TZOFFSETTO:-0700
TZNAME:PDT
DTSTART:20310309T100000
END:DAYLIGHT
BEGIN:STANDARD
TZOFFSETFROM:-0700
TZOFFSETTO:-0800
TZNAME:PST
DTSTART:20311102T090000
END:STANDARD
BEGIN:DAYLIGHT
TZOFFSETFROM:-0800
TZOFFSETTO:-0700
TZNAME:PDT
DTSTART:20320314T100000
END:DAYLIGHT
BEGIN:STANDARD
TZOFFSETFROM:-0700
TZOFFSETTO:-0800
TZNAME:PST
DTSTART:20321107T090000
END:STANDARD
END:VTIMEZONE
BEGIN:VEVENT
DTSTART;TZID=America/Los_Angeles:20300922T103000
DTEND;TZID=America/Los_Angeles:20300922T113000
DTSTAMP:20260423T164844
CREATED:20260324T163227Z
LAST-MODIFIED:20260324T163227Z
UID:10000701-1916303400-1916307000@firstpresbyterianchurchsl.org
SUMMARY:Coffee Fellowship
DESCRIPTION:
URL:https://firstpresbyterianchurchsl.org/event/coffee-fellowship/2030-09-22/
LOCATION:First Presbyterian Church of San Leandro\, 180 Estudillo Avenue\, San Leandros\, 94577
CATEGORIES:Fellowship Hall
END:VEVENT
BEGIN:VEVENT
DTSTART;TZID=America/Los_Angeles:20300929T103000
DTEND;TZID=America/Los_Angeles:20300929T113000
DTSTAMP:20260423T164844
CREATED:20260324T163227Z
LAST-MODIFIED:20260324T163227Z
UID:10000702-1916908200-1916911800@firstpresbyterianchurchsl.org
SUMMARY:Coffee Fellowship
DESCRIPTION:
URL:https://firstpresbyterianchurchsl.org/event/coffee-fellowship/2030-09-29/
LOCATION:First Presbyterian Church of San Leandro\, 180 Estudillo Avenue\, San Leandros\, 94577
CATEGORIES:Fellowship Hall
END:VEVENT
BEGIN:VEVENT
DTSTART;TZID=America/Los_Angeles:20301006T103000
DTEND;TZID=America/Los_Angeles:20301006T113000
DTSTAMP:20260423T164844
CREATED:20260324T163227Z
LAST-MODIFIED:20260324T163227Z
UID:10000703-1917513000-1917516600@firstpresbyterianchurchsl.org
SUMMARY:Coffee Fellowship
DESCRIPTION:
URL:https://firstpresbyterianchurchsl.org/event/coffee-fellowship/2030-10-06/
LOCATION:First Presbyterian Church of San Leandro\, 180 Estudillo Avenue\, San Leandros\, 94577
CATEGORIES:Fellowship Hall
END:VEVENT
BEGIN:VEVENT
DTSTART;TZID=America/Los_Angeles:20301013T103000
DTEND;TZID=America/Los_Angeles:20301013T113000
DTSTAMP:20260423T164844
CREATED:20260326T181248Z
LAST-MODIFIED:20260326T181248Z
UID:10000919-1918117800-1918121400@firstpresbyterianchurchsl.org
SUMMARY:Coffee Fellowship/Manna Bags & Equal Exchange
DESCRIPTION:
URL:https://firstpresbyterianchurchsl.org/event/coffee-fellowship-manna-bags-equal-exchange/2030-10-13/
LOCATION:First Presbyterian Church of San Leandro\, 180 Estudillo Avenue\, San Leandros\, 94577
CATEGORIES:Fellowship Hall
END:VEVENT
BEGIN:VEVENT
DTSTART;TZID=America/Los_Angeles:20301020T103000
DTEND;TZID=America/Los_Angeles:20301020T113000
DTSTAMP:20260423T164844
CREATED:20260324T163227Z
LAST-MODIFIED:20260324T163227Z
UID:10000704-1918722600-1918726200@firstpresbyterianchurchsl.org
SUMMARY:Coffee Fellowship
DESCRIPTION:
URL:https://firstpresbyterianchurchsl.org/event/coffee-fellowship/2030-10-20/
LOCATION:First Presbyterian Church of San Leandro\, 180 Estudillo Avenue\, San Leandros\, 94577
CATEGORIES:Fellowship Hall
END:VEVENT
BEGIN:VEVENT
DTSTART;TZID=America/Los_Angeles:20301027T103000
DTEND;TZID=America/Los_Angeles:20301027T113000
DTSTAMP:20260423T164844
CREATED:20260324T163227Z
LAST-MODIFIED:20260324T163227Z
UID:10000705-1919327400-1919331000@firstpresbyterianchurchsl.org
SUMMARY:Coffee Fellowship
DESCRIPTION:
URL:https://firstpresbyterianchurchsl.org/event/coffee-fellowship/2030-10-27/
LOCATION:First Presbyterian Church of San Leandro\, 180 Estudillo Avenue\, San Leandros\, 94577
CATEGORIES:Fellowship Hall
END:VEVENT
BEGIN:VEVENT
DTSTART;TZID=America/Los_Angeles:20301103T103000
DTEND;TZID=America/Los_Angeles:20301103T113000
DTSTAMP:20260423T164844
CREATED:20260324T163227Z
LAST-MODIFIED:20260324T163227Z
UID:10000706-1919932200-1919935800@firstpresbyterianchurchsl.org
SUMMARY:Coffee Fellowship
DESCRIPTION:
URL:https://firstpresbyterianchurchsl.org/event/coffee-fellowship/2030-11-03/
LOCATION:First Presbyterian Church of San Leandro\, 180 Estudillo Avenue\, San Leandros\, 94577
CATEGORIES:Fellowship Hall
END:VEVENT
BEGIN:VEVENT
DTSTART;TZID=America/Los_Angeles:20301110T103000
DTEND;TZID=America/Los_Angeles:20301110T113000
DTSTAMP:20260423T164844
CREATED:20260326T181248Z
LAST-MODIFIED:20260326T181248Z
UID:10000920-1920537000-1920540600@firstpresbyterianchurchsl.org
SUMMARY:Coffee Fellowship/Manna Bags & Equal Exchange
DESCRIPTION:
URL:https://firstpresbyterianchurchsl.org/event/coffee-fellowship-manna-bags-equal-exchange/2030-11-10/
LOCATION:First Presbyterian Church of San Leandro\, 180 Estudillo Avenue\, San Leandros\, 94577
CATEGORIES:Fellowship Hall
END:VEVENT
BEGIN:VEVENT
DTSTART;TZID=America/Los_Angeles:20301117T103000
DTEND;TZID=America/Los_Angeles:20301117T113000
DTSTAMP:20260423T164844
CREATED:20260324T163227Z
LAST-MODIFIED:20260324T163227Z
UID:10000707-1921141800-1921145400@firstpresbyterianchurchsl.org
SUMMARY:Coffee Fellowship
DESCRIPTION:
URL:https://firstpresbyterianchurchsl.org/event/coffee-fellowship/2030-11-17/
LOCATION:First Presbyterian Church of San Leandro\, 180 Estudillo Avenue\, San Leandros\, 94577
CATEGORIES:Fellowship Hall
END:VEVENT
BEGIN:VEVENT
DTSTART;TZID=America/Los_Angeles:20301124T103000
DTEND;TZID=America/Los_Angeles:20301124T113000
DTSTAMP:20260423T164844
CREATED:20260324T163227Z
LAST-MODIFIED:20260324T163227Z
UID:10000708-1921746600-1921750200@firstpresbyterianchurchsl.org
SUMMARY:Coffee Fellowship
DESCRIPTION:
URL:https://firstpresbyterianchurchsl.org/event/coffee-fellowship/2030-11-24/
LOCATION:First Presbyterian Church of San Leandro\, 180 Estudillo Avenue\, San Leandros\, 94577
CATEGORIES:Fellowship Hall
END:VEVENT
BEGIN:VEVENT
DTSTART;TZID=America/Los_Angeles:20301201T103000
DTEND;TZID=America/Los_Angeles:20301201T113000
DTSTAMP:20260423T164844
CREATED:20260324T163227Z
LAST-MODIFIED:20260324T163227Z
UID:10000709-1922351400-1922355000@firstpresbyterianchurchsl.org
SUMMARY:Coffee Fellowship
DESCRIPTION:
URL:https://firstpresbyterianchurchsl.org/event/coffee-fellowship/2030-12-01/
LOCATION:First Presbyterian Church of San Leandro\, 180 Estudillo Avenue\, San Leandros\, 94577
CATEGORIES:Fellowship Hall
END:VEVENT
BEGIN:VEVENT
DTSTART;TZID=America/Los_Angeles:20301208T103000
DTEND;TZID=America/Los_Angeles:20301208T113000
DTSTAMP:20260423T164844
CREATED:20260326T181248Z
LAST-MODIFIED:20260326T181248Z
UID:10000921-1922956200-1922959800@firstpresbyterianchurchsl.org
SUMMARY:Coffee Fellowship/Manna Bags & Equal Exchange
DESCRIPTION:
URL:https://firstpresbyterianchurchsl.org/event/coffee-fellowship-manna-bags-equal-exchange/2030-12-08/
LOCATION:First Presbyterian Church of San Leandro\, 180 Estudillo Avenue\, San Leandros\, 94577
CATEGORIES:Fellowship Hall
END:VEVENT
BEGIN:VEVENT
DTSTART;TZID=America/Los_Angeles:20301215T103000
DTEND;TZID=America/Los_Angeles:20301215T113000
DTSTAMP:20260423T164844
CREATED:20260324T163227Z
LAST-MODIFIED:20260324T163227Z
UID:10000710-1923561000-1923564600@firstpresbyterianchurchsl.org
SUMMARY:Coffee Fellowship
DESCRIPTION:
URL:https://firstpresbyterianchurchsl.org/event/coffee-fellowship/2030-12-15/
LOCATION:First Presbyterian Church of San Leandro\, 180 Estudillo Avenue\, San Leandros\, 94577
CATEGORIES:Fellowship Hall
END:VEVENT
BEGIN:VEVENT
DTSTART;TZID=America/Los_Angeles:20301222T103000
DTEND;TZID=America/Los_Angeles:20301222T113000
DTSTAMP:20260423T164844
CREATED:20260324T163227Z
LAST-MODIFIED:20260324T163227Z
UID:10000711-1924165800-1924169400@firstpresbyterianchurchsl.org
SUMMARY:Coffee Fellowship
DESCRIPTION:
URL:https://firstpresbyterianchurchsl.org/event/coffee-fellowship/2030-12-22/
LOCATION:First Presbyterian Church of San Leandro\, 180 Estudillo Avenue\, San Leandros\, 94577
CATEGORIES:Fellowship Hall
END:VEVENT
BEGIN:VEVENT
DTSTART;TZID=America/Los_Angeles:20301229T103000
DTEND;TZID=America/Los_Angeles:20301229T113000
DTSTAMP:20260423T164844
CREATED:20260324T163227Z
LAST-MODIFIED:20260324T163227Z
UID:10000712-1924770600-1924774200@firstpresbyterianchurchsl.org
SUMMARY:Coffee Fellowship
DESCRIPTION:
URL:https://firstpresbyterianchurchsl.org/event/coffee-fellowship/2030-12-29/
LOCATION:First Presbyterian Church of San Leandro\, 180 Estudillo Avenue\, San Leandros\, 94577
CATEGORIES:Fellowship Hall
END:VEVENT
BEGIN:VEVENT
DTSTART;TZID=America/Los_Angeles:20310105T103000
DTEND;TZID=America/Los_Angeles:20310105T113000
DTSTAMP:20260423T164844
CREATED:20260324T163227Z
LAST-MODIFIED:20260324T163227Z
UID:10000713-1925375400-1925379000@firstpresbyterianchurchsl.org
SUMMARY:Coffee Fellowship
DESCRIPTION:
URL:https://firstpresbyterianchurchsl.org/event/coffee-fellowship/2031-01-05/
LOCATION:First Presbyterian Church of San Leandro\, 180 Estudillo Avenue\, San Leandros\, 94577
CATEGORIES:Fellowship Hall
END:VEVENT
BEGIN:VEVENT
DTSTART;TZID=America/Los_Angeles:20310112T103000
DTEND;TZID=America/Los_Angeles:20310112T113000
DTSTAMP:20260423T164844
CREATED:20260326T181248Z
LAST-MODIFIED:20260326T181248Z
UID:10000922-1925980200-1925983800@firstpresbyterianchurchsl.org
SUMMARY:Coffee Fellowship/Manna Bags & Equal Exchange
DESCRIPTION:
URL:https://firstpresbyterianchurchsl.org/event/coffee-fellowship-manna-bags-equal-exchange/2031-01-12/
LOCATION:First Presbyterian Church of San Leandro\, 180 Estudillo Avenue\, San Leandros\, 94577
CATEGORIES:Fellowship Hall
END:VEVENT
BEGIN:VEVENT
DTSTART;TZID=America/Los_Angeles:20310119T103000
DTEND;TZID=America/Los_Angeles:20310119T113000
DTSTAMP:20260423T164844
CREATED:20260324T163227Z
LAST-MODIFIED:20260324T163227Z
UID:10000714-1926585000-1926588600@firstpresbyterianchurchsl.org
SUMMARY:Coffee Fellowship
DESCRIPTION:
URL:https://firstpresbyterianchurchsl.org/event/coffee-fellowship/2031-01-19/
LOCATION:First Presbyterian Church of San Leandro\, 180 Estudillo Avenue\, San Leandros\, 94577
CATEGORIES:Fellowship Hall
END:VEVENT
BEGIN:VEVENT
DTSTART;TZID=America/Los_Angeles:20310126T103000
DTEND;TZID=America/Los_Angeles:20310126T113000
DTSTAMP:20260423T164844
CREATED:20260324T163227Z
LAST-MODIFIED:20260324T163227Z
UID:10000715-1927189800-1927193400@firstpresbyterianchurchsl.org
SUMMARY:Coffee Fellowship
DESCRIPTION:
URL:https://firstpresbyterianchurchsl.org/event/coffee-fellowship/2031-01-26/
LOCATION:First Presbyterian Church of San Leandro\, 180 Estudillo Avenue\, San Leandros\, 94577
CATEGORIES:Fellowship Hall
END:VEVENT
BEGIN:VEVENT
DTSTART;TZID=America/Los_Angeles:20310202T103000
DTEND;TZID=America/Los_Angeles:20310202T113000
DTSTAMP:20260423T164844
CREATED:20260324T163227Z
LAST-MODIFIED:20260324T163227Z
UID:10000716-1927794600-1927798200@firstpresbyterianchurchsl.org
SUMMARY:Coffee Fellowship
DESCRIPTION:
URL:https://firstpresbyterianchurchsl.org/event/coffee-fellowship/2031-02-02/
LOCATION:First Presbyterian Church of San Leandro\, 180 Estudillo Avenue\, San Leandros\, 94577
CATEGORIES:Fellowship Hall
END:VEVENT
BEGIN:VEVENT
DTSTART;TZID=America/Los_Angeles:20310209T103000
DTEND;TZID=America/Los_Angeles:20310209T113000
DTSTAMP:20260423T164844
CREATED:20260326T181248Z
LAST-MODIFIED:20260326T181248Z
UID:10000923-1928399400-1928403000@firstpresbyterianchurchsl.org
SUMMARY:Coffee Fellowship/Manna Bags & Equal Exchange
DESCRIPTION:
URL:https://firstpresbyterianchurchsl.org/event/coffee-fellowship-manna-bags-equal-exchange/2031-02-09/
LOCATION:First Presbyterian Church of San Leandro\, 180 Estudillo Avenue\, San Leandros\, 94577
CATEGORIES:Fellowship Hall
END:VEVENT
BEGIN:VEVENT
DTSTART;TZID=America/Los_Angeles:20310216T103000
DTEND;TZID=America/Los_Angeles:20310216T113000
DTSTAMP:20260423T164844
CREATED:20260324T163227Z
LAST-MODIFIED:20260324T163227Z
UID:10000717-1929004200-1929007800@firstpresbyterianchurchsl.org
SUMMARY:Coffee Fellowship
DESCRIPTION:
URL:https://firstpresbyterianchurchsl.org/event/coffee-fellowship/2031-02-16/
LOCATION:First Presbyterian Church of San Leandro\, 180 Estudillo Avenue\, San Leandros\, 94577
CATEGORIES:Fellowship Hall
END:VEVENT
BEGIN:VEVENT
DTSTART;TZID=America/Los_Angeles:20310223T103000
DTEND;TZID=America/Los_Angeles:20310223T113000
DTSTAMP:20260423T164844
CREATED:20260324T163227Z
LAST-MODIFIED:20260324T163227Z
UID:10000718-1929609000-1929612600@firstpresbyterianchurchsl.org
SUMMARY:Coffee Fellowship
DESCRIPTION:
URL:https://firstpresbyterianchurchsl.org/event/coffee-fellowship/2031-02-23/
LOCATION:First Presbyterian Church of San Leandro\, 180 Estudillo Avenue\, San Leandros\, 94577
CATEGORIES:Fellowship Hall
END:VEVENT
BEGIN:VEVENT
DTSTART;TZID=America/Los_Angeles:20310302T103000
DTEND;TZID=America/Los_Angeles:20310302T113000
DTSTAMP:20260423T164844
CREATED:20260324T163227Z
LAST-MODIFIED:20260324T163227Z
UID:10000719-1930213800-1930217400@firstpresbyterianchurchsl.org
SUMMARY:Coffee Fellowship
DESCRIPTION:
URL:https://firstpresbyterianchurchsl.org/event/coffee-fellowship/2031-03-02/
LOCATION:First Presbyterian Church of San Leandro\, 180 Estudillo Avenue\, San Leandros\, 94577
CATEGORIES:Fellowship Hall
END:VEVENT
BEGIN:VEVENT
DTSTART;TZID=America/Los_Angeles:20310309T103000
DTEND;TZID=America/Los_Angeles:20310309T113000
DTSTAMP:20260423T164844
CREATED:20260326T181248Z
LAST-MODIFIED:20260326T181248Z
UID:10000924-1930818600-1930822200@firstpresbyterianchurchsl.org
SUMMARY:Coffee Fellowship/Manna Bags & Equal Exchange
DESCRIPTION:
URL:https://firstpresbyterianchurchsl.org/event/coffee-fellowship-manna-bags-equal-exchange/2031-03-09/
LOCATION:First Presbyterian Church of San Leandro\, 180 Estudillo Avenue\, San Leandros\, 94577
CATEGORIES:Fellowship Hall
END:VEVENT
BEGIN:VEVENT
DTSTART;TZID=America/Los_Angeles:20310316T103000
DTEND;TZID=America/Los_Angeles:20310316T113000
DTSTAMP:20260423T164844
CREATED:20260324T163227Z
LAST-MODIFIED:20260324T163227Z
UID:10000720-1931423400-1931427000@firstpresbyterianchurchsl.org
SUMMARY:Coffee Fellowship
DESCRIPTION:
URL:https://firstpresbyterianchurchsl.org/event/coffee-fellowship/2031-03-16/
LOCATION:First Presbyterian Church of San Leandro\, 180 Estudillo Avenue\, San Leandros\, 94577
CATEGORIES:Fellowship Hall
END:VEVENT
BEGIN:VEVENT
DTSTART;TZID=America/Los_Angeles:20310323T103000
DTEND;TZID=America/Los_Angeles:20310323T113000
DTSTAMP:20260423T164844
CREATED:20260324T163227Z
LAST-MODIFIED:20260324T163227Z
UID:10000721-1932028200-1932031800@firstpresbyterianchurchsl.org
SUMMARY:Coffee Fellowship
DESCRIPTION:
URL:https://firstpresbyterianchurchsl.org/event/coffee-fellowship/2031-03-23/
LOCATION:First Presbyterian Church of San Leandro\, 180 Estudillo Avenue\, San Leandros\, 94577
CATEGORIES:Fellowship Hall
END:VEVENT
END:VCALENDAR