BEGIN:VCALENDAR
VERSION:2.0
PRODID:-//First Presbyterian Church SL - ECPv6.15.20//NONSGML v1.0//EN
CALSCALE:GREGORIAN
METHOD:PUBLISH
X-WR-CALNAME:First Presbyterian Church SL
X-ORIGINAL-URL:https://firstpresbyterianchurchsl.org
X-WR-CALDESC:Events for First Presbyterian Church SL
REFRESH-INTERVAL;VALUE=DURATION:PT1H
X-Robots-Tag:noindex
X-PUBLISHED-TTL:PT1H
BEGIN:VTIMEZONE
TZID:America/Los_Angeles
BEGIN:DAYLIGHT
TZOFFSETFROM:-0800
TZOFFSETTO:-0700
TZNAME:PDT
DTSTART:20250309T100000
END:DAYLIGHT
BEGIN:STANDARD
TZOFFSETFROM:-0700
TZOFFSETTO:-0800
TZNAME:PST
DTSTART:20251102T090000
END:STANDARD
BEGIN:DAYLIGHT
TZOFFSETFROM:-0800
TZOFFSETTO:-0700
TZNAME:PDT
DTSTART:20260308T100000
END:DAYLIGHT
BEGIN:STANDARD
TZOFFSETFROM:-0700
TZOFFSETTO:-0800
TZNAME:PST
DTSTART:20261101T090000
END:STANDARD
BEGIN:DAYLIGHT
TZOFFSETFROM:-0800
TZOFFSETTO:-0700
TZNAME:PDT
DTSTART:20270314T100000
END:DAYLIGHT
BEGIN:STANDARD
TZOFFSETFROM:-0700
TZOFFSETTO:-0800
TZNAME:PST
DTSTART:20271107T090000
END:STANDARD
END:VTIMEZONE
BEGIN:VEVENT
DTSTART;VALUE=DATE:20260326
DTEND;VALUE=DATE:20260327
DTSTAMP:20260422T144855
CREATED:20260326T201823Z
LAST-MODIFIED:20260326T210018Z
UID:10000962-1774483200-1774569599@firstpresbyterianchurchsl.org
SUMMARY:HOLD- Age Well\, Drive Safe
DESCRIPTION:
URL:https://firstpresbyterianchurchsl.org/event/hold-age-well-drive-safe/
LOCATION:Fellowship Hall\, 180 Estudillo Ave\, San Leandro\, CA\, 94577\, United States
CATEGORIES:Fellowship Hall
END:VEVENT
BEGIN:VEVENT
DTSTART;TZID=America/Los_Angeles:20260329T103000
DTEND;TZID=America/Los_Angeles:20260329T113000
DTSTAMP:20260422T144855
CREATED:20260326T190028Z
LAST-MODIFIED:20260326T190214Z
UID:10000521-1774780200-1774783800@firstpresbyterianchurchsl.org
SUMMARY:Palm Sunday Potluck Brunch
DESCRIPTION:
URL:https://firstpresbyterianchurchsl.org/event/coffee-fellowship-2/
LOCATION:First Presbyterian Church of San Leandro\, 180 Estudillo Avenue\, San Leandros\, 94577
CATEGORIES:Fellowship Hall
END:VEVENT
BEGIN:VEVENT
DTSTART;TZID=America/Los_Angeles:20260405T103000
DTEND;TZID=America/Los_Angeles:20260405T113000
DTSTAMP:20260422T144855
CREATED:20260324T163227Z
LAST-MODIFIED:20260324T163227Z
UID:10000522-1775385000-1775388600@firstpresbyterianchurchsl.org
SUMMARY:Coffee Fellowship
DESCRIPTION:
URL:https://firstpresbyterianchurchsl.org/event/coffee-fellowship/2026-04-05/
LOCATION:First Presbyterian Church of San Leandro\, 180 Estudillo Avenue\, San Leandros\, 94577
CATEGORIES:Fellowship Hall
END:VEVENT
BEGIN:VEVENT
DTSTART;TZID=America/Los_Angeles:20260411T130000
DTEND;TZID=America/Los_Angeles:20260411T170000
DTSTAMP:20260422T144855
CREATED:20260326T201742Z
LAST-MODIFIED:20260326T201742Z
UID:10000961-1775912400-1775926800@firstpresbyterianchurchsl.org
SUMMARY:San Leandro Historical Society Event
DESCRIPTION:
URL:https://firstpresbyterianchurchsl.org/event/san-leandro-historical-society-event/
LOCATION:First Presbyterian Church of San Leandro\, 180 Estudillo Avenue\, San Leandros\, 94577
CATEGORIES:Fellowship Hall
END:VEVENT
BEGIN:VEVENT
DTSTART;TZID=America/Los_Angeles:20260412T103000
DTEND;TZID=America/Los_Angeles:20260412T113000
DTSTAMP:20260422T144855
CREATED:20260326T181248Z
LAST-MODIFIED:20260326T181248Z
UID:10000865-1775989800-1775993400@firstpresbyterianchurchsl.org
SUMMARY:Coffee Fellowship/Manna Bags & Equal Exchange
DESCRIPTION:
URL:https://firstpresbyterianchurchsl.org/event/coffee-fellowship-manna-bags-equal-exchange/2026-04-12/
LOCATION:First Presbyterian Church of San Leandro\, 180 Estudillo Avenue\, San Leandros\, 94577
CATEGORIES:Fellowship Hall
END:VEVENT
BEGIN:VEVENT
DTSTART;TZID=America/Los_Angeles:20260416T113000
DTEND;TZID=America/Los_Angeles:20260416T133000
DTSTAMP:20260422T144855
CREATED:20260325T184759Z
LAST-MODIFIED:20260325T184759Z
UID:10000774-1776339000-1776346200@firstpresbyterianchurchsl.org
SUMMARY:Young at Heart
DESCRIPTION:
URL:https://firstpresbyterianchurchsl.org/event/young-at-heart/2026-04-16/
LOCATION:First Presbyterian Church of San Leandro\, 180 Estudillo Avenue\, San Leandros\, 94577
CATEGORIES:Fellowship Hall
END:VEVENT
BEGIN:VEVENT
DTSTART;TZID=America/Los_Angeles:20260419T103000
DTEND;TZID=America/Los_Angeles:20260419T113000
DTSTAMP:20260422T144855
CREATED:20260324T163227Z
LAST-MODIFIED:20260324T163227Z
UID:10000523-1776594600-1776598200@firstpresbyterianchurchsl.org
SUMMARY:Coffee Fellowship
DESCRIPTION:
URL:https://firstpresbyterianchurchsl.org/event/coffee-fellowship/2026-04-19/
LOCATION:First Presbyterian Church of San Leandro\, 180 Estudillo Avenue\, San Leandros\, 94577
CATEGORIES:Fellowship Hall
END:VEVENT
BEGIN:VEVENT
DTSTART;TZID=America/Los_Angeles:20260426T103000
DTEND;TZID=America/Los_Angeles:20260426T113000
DTSTAMP:20260422T144855
CREATED:20260324T163227Z
LAST-MODIFIED:20260324T163227Z
UID:10000524-1777199400-1777203000@firstpresbyterianchurchsl.org
SUMMARY:Coffee Fellowship
DESCRIPTION:
URL:https://firstpresbyterianchurchsl.org/event/coffee-fellowship/2026-04-26/
LOCATION:First Presbyterian Church of San Leandro\, 180 Estudillo Avenue\, San Leandros\, 94577
CATEGORIES:Fellowship Hall
END:VEVENT
BEGIN:VEVENT
DTSTART;VALUE=DATE:20260430
DTEND;VALUE=DATE:20260501
DTSTAMP:20260422T144855
CREATED:20260401T193908Z
LAST-MODIFIED:20260401T193908Z
UID:10000968-1777507200-1777593599@firstpresbyterianchurchsl.org
SUMMARY:HOLD - Age Well\, Drive Safe
DESCRIPTION:
URL:https://firstpresbyterianchurchsl.org/event/hold-age-well-drive-safe-2/
LOCATION:First Presbyterian Church of San Leandro\, 180 Estudillo Avenue\, San Leandros\, 94577
CATEGORIES:Fellowship Hall
END:VEVENT
BEGIN:VEVENT
DTSTART;TZID=America/Los_Angeles:20260503T103000
DTEND;TZID=America/Los_Angeles:20260503T113000
DTSTAMP:20260422T144855
CREATED:20260324T163227Z
LAST-MODIFIED:20260324T163227Z
UID:10000525-1777804200-1777807800@firstpresbyterianchurchsl.org
SUMMARY:Coffee Fellowship
DESCRIPTION:
URL:https://firstpresbyterianchurchsl.org/event/coffee-fellowship/2026-05-03/
LOCATION:First Presbyterian Church of San Leandro\, 180 Estudillo Avenue\, San Leandros\, 94577
CATEGORIES:Fellowship Hall
END:VEVENT
BEGIN:VEVENT
DTSTART;TZID=America/Los_Angeles:20260510T103000
DTEND;TZID=America/Los_Angeles:20260510T113000
DTSTAMP:20260422T144855
CREATED:20260326T181248Z
LAST-MODIFIED:20260326T181248Z
UID:10000866-1778409000-1778412600@firstpresbyterianchurchsl.org
SUMMARY:Coffee Fellowship/Manna Bags & Equal Exchange
DESCRIPTION:
URL:https://firstpresbyterianchurchsl.org/event/coffee-fellowship-manna-bags-equal-exchange/2026-05-10/
LOCATION:First Presbyterian Church of San Leandro\, 180 Estudillo Avenue\, San Leandros\, 94577
CATEGORIES:Fellowship Hall
END:VEVENT
BEGIN:VEVENT
DTSTART;TZID=America/Los_Angeles:20260517T103000
DTEND;TZID=America/Los_Angeles:20260517T113000
DTSTAMP:20260422T144855
CREATED:20260324T163227Z
LAST-MODIFIED:20260324T163227Z
UID:10000526-1779013800-1779017400@firstpresbyterianchurchsl.org
SUMMARY:Coffee Fellowship
DESCRIPTION:
URL:https://firstpresbyterianchurchsl.org/event/coffee-fellowship/2026-05-17/
LOCATION:First Presbyterian Church of San Leandro\, 180 Estudillo Avenue\, San Leandros\, 94577
CATEGORIES:Fellowship Hall
END:VEVENT
BEGIN:VEVENT
DTSTART;TZID=America/Los_Angeles:20260521T113000
DTEND;TZID=America/Los_Angeles:20260521T133000
DTSTAMP:20260422T144855
CREATED:20260325T184759Z
LAST-MODIFIED:20260325T184759Z
UID:10000775-1779363000-1779370200@firstpresbyterianchurchsl.org
SUMMARY:Young at Heart
DESCRIPTION:
URL:https://firstpresbyterianchurchsl.org/event/young-at-heart/2026-05-21/
LOCATION:First Presbyterian Church of San Leandro\, 180 Estudillo Avenue\, San Leandros\, 94577
CATEGORIES:Fellowship Hall
END:VEVENT
BEGIN:VEVENT
DTSTART;TZID=America/Los_Angeles:20260524T103000
DTEND;TZID=America/Los_Angeles:20260524T113000
DTSTAMP:20260422T144855
CREATED:20260324T163227Z
LAST-MODIFIED:20260324T163227Z
UID:10000527-1779618600-1779622200@firstpresbyterianchurchsl.org
SUMMARY:Coffee Fellowship
DESCRIPTION:
URL:https://firstpresbyterianchurchsl.org/event/coffee-fellowship/2026-05-24/
LOCATION:First Presbyterian Church of San Leandro\, 180 Estudillo Avenue\, San Leandros\, 94577
CATEGORIES:Fellowship Hall
END:VEVENT
BEGIN:VEVENT
DTSTART;TZID=America/Los_Angeles:20260531T103000
DTEND;TZID=America/Los_Angeles:20260531T113000
DTSTAMP:20260422T144855
CREATED:20260324T163227Z
LAST-MODIFIED:20260324T163227Z
UID:10000528-1780223400-1780227000@firstpresbyterianchurchsl.org
SUMMARY:Coffee Fellowship
DESCRIPTION:
URL:https://firstpresbyterianchurchsl.org/event/coffee-fellowship/2026-05-31/
LOCATION:First Presbyterian Church of San Leandro\, 180 Estudillo Avenue\, San Leandros\, 94577
CATEGORIES:Fellowship Hall
END:VEVENT
BEGIN:VEVENT
DTSTART;TZID=America/Los_Angeles:20260607T103000
DTEND;TZID=America/Los_Angeles:20260607T113000
DTSTAMP:20260422T144855
CREATED:20260324T163227Z
LAST-MODIFIED:20260324T163227Z
UID:10000529-1780828200-1780831800@firstpresbyterianchurchsl.org
SUMMARY:Coffee Fellowship
DESCRIPTION:
URL:https://firstpresbyterianchurchsl.org/event/coffee-fellowship/2026-06-07/
LOCATION:First Presbyterian Church of San Leandro\, 180 Estudillo Avenue\, San Leandros\, 94577
CATEGORIES:Fellowship Hall
END:VEVENT
BEGIN:VEVENT
DTSTART;TZID=America/Los_Angeles:20260614T103000
DTEND;TZID=America/Los_Angeles:20260614T113000
DTSTAMP:20260422T144855
CREATED:20260326T181248Z
LAST-MODIFIED:20260326T181248Z
UID:10000867-1781433000-1781436600@firstpresbyterianchurchsl.org
SUMMARY:Coffee Fellowship/Manna Bags & Equal Exchange
DESCRIPTION:
URL:https://firstpresbyterianchurchsl.org/event/coffee-fellowship-manna-bags-equal-exchange/2026-06-14/
LOCATION:First Presbyterian Church of San Leandro\, 180 Estudillo Avenue\, San Leandros\, 94577
CATEGORIES:Fellowship Hall
END:VEVENT
BEGIN:VEVENT
DTSTART;TZID=America/Los_Angeles:20260618T113000
DTEND;TZID=America/Los_Angeles:20260618T133000
DTSTAMP:20260422T144855
CREATED:20260325T184759Z
LAST-MODIFIED:20260325T184759Z
UID:10000776-1781782200-1781789400@firstpresbyterianchurchsl.org
SUMMARY:Young at Heart
DESCRIPTION:
URL:https://firstpresbyterianchurchsl.org/event/young-at-heart/2026-06-18/
LOCATION:First Presbyterian Church of San Leandro\, 180 Estudillo Avenue\, San Leandros\, 94577
CATEGORIES:Fellowship Hall
END:VEVENT
BEGIN:VEVENT
DTSTART;TZID=America/Los_Angeles:20260621T103000
DTEND;TZID=America/Los_Angeles:20260621T113000
DTSTAMP:20260422T144855
CREATED:20260324T163227Z
LAST-MODIFIED:20260324T163227Z
UID:10000530-1782037800-1782041400@firstpresbyterianchurchsl.org
SUMMARY:Coffee Fellowship
DESCRIPTION:
URL:https://firstpresbyterianchurchsl.org/event/coffee-fellowship/2026-06-21/
LOCATION:First Presbyterian Church of San Leandro\, 180 Estudillo Avenue\, San Leandros\, 94577
CATEGORIES:Fellowship Hall
END:VEVENT
BEGIN:VEVENT
DTSTART;TZID=America/Los_Angeles:20260628T103000
DTEND;TZID=America/Los_Angeles:20260628T113000
DTSTAMP:20260422T144855
CREATED:20260324T163227Z
LAST-MODIFIED:20260324T163227Z
UID:10000531-1782642600-1782646200@firstpresbyterianchurchsl.org
SUMMARY:Coffee Fellowship
DESCRIPTION:
URL:https://firstpresbyterianchurchsl.org/event/coffee-fellowship/2026-06-28/
LOCATION:First Presbyterian Church of San Leandro\, 180 Estudillo Avenue\, San Leandros\, 94577
CATEGORIES:Fellowship Hall
END:VEVENT
BEGIN:VEVENT
DTSTART;TZID=America/Los_Angeles:20260705T103000
DTEND;TZID=America/Los_Angeles:20260705T113000
DTSTAMP:20260422T144855
CREATED:20260324T163227Z
LAST-MODIFIED:20260324T163227Z
UID:10000532-1783247400-1783251000@firstpresbyterianchurchsl.org
SUMMARY:Coffee Fellowship
DESCRIPTION:
URL:https://firstpresbyterianchurchsl.org/event/coffee-fellowship/2026-07-05/
LOCATION:First Presbyterian Church of San Leandro\, 180 Estudillo Avenue\, San Leandros\, 94577
CATEGORIES:Fellowship Hall
END:VEVENT
BEGIN:VEVENT
DTSTART;TZID=America/Los_Angeles:20260712T103000
DTEND;TZID=America/Los_Angeles:20260712T113000
DTSTAMP:20260422T144855
CREATED:20260326T181248Z
LAST-MODIFIED:20260326T181248Z
UID:10000868-1783852200-1783855800@firstpresbyterianchurchsl.org
SUMMARY:Coffee Fellowship/Manna Bags & Equal Exchange
DESCRIPTION:
URL:https://firstpresbyterianchurchsl.org/event/coffee-fellowship-manna-bags-equal-exchange/2026-07-12/
LOCATION:First Presbyterian Church of San Leandro\, 180 Estudillo Avenue\, San Leandros\, 94577
CATEGORIES:Fellowship Hall
END:VEVENT
BEGIN:VEVENT
DTSTART;TZID=America/Los_Angeles:20260719T103000
DTEND;TZID=America/Los_Angeles:20260719T113000
DTSTAMP:20260422T144855
CREATED:20260324T163227Z
LAST-MODIFIED:20260324T163227Z
UID:10000533-1784457000-1784460600@firstpresbyterianchurchsl.org
SUMMARY:Coffee Fellowship
DESCRIPTION:
URL:https://firstpresbyterianchurchsl.org/event/coffee-fellowship/2026-07-19/
LOCATION:First Presbyterian Church of San Leandro\, 180 Estudillo Avenue\, San Leandros\, 94577
CATEGORIES:Fellowship Hall
END:VEVENT
BEGIN:VEVENT
DTSTART;TZID=America/Los_Angeles:20260726T103000
DTEND;TZID=America/Los_Angeles:20260726T113000
DTSTAMP:20260422T144855
CREATED:20260324T163227Z
LAST-MODIFIED:20260324T163227Z
UID:10000534-1785061800-1785065400@firstpresbyterianchurchsl.org
SUMMARY:Coffee Fellowship
DESCRIPTION:
URL:https://firstpresbyterianchurchsl.org/event/coffee-fellowship/2026-07-26/
LOCATION:First Presbyterian Church of San Leandro\, 180 Estudillo Avenue\, San Leandros\, 94577
CATEGORIES:Fellowship Hall
END:VEVENT
BEGIN:VEVENT
DTSTART;TZID=America/Los_Angeles:20260802T103000
DTEND;TZID=America/Los_Angeles:20260802T113000
DTSTAMP:20260422T144855
CREATED:20260324T163227Z
LAST-MODIFIED:20260324T163227Z
UID:10000535-1785666600-1785670200@firstpresbyterianchurchsl.org
SUMMARY:Coffee Fellowship
DESCRIPTION:
URL:https://firstpresbyterianchurchsl.org/event/coffee-fellowship/2026-08-02/
LOCATION:First Presbyterian Church of San Leandro\, 180 Estudillo Avenue\, San Leandros\, 94577
CATEGORIES:Fellowship Hall
END:VEVENT
BEGIN:VEVENT
DTSTART;TZID=America/Los_Angeles:20260809T103000
DTEND;TZID=America/Los_Angeles:20260809T113000
DTSTAMP:20260422T144855
CREATED:20260326T181248Z
LAST-MODIFIED:20260326T181248Z
UID:10000869-1786271400-1786275000@firstpresbyterianchurchsl.org
SUMMARY:Coffee Fellowship/Manna Bags & Equal Exchange
DESCRIPTION:
URL:https://firstpresbyterianchurchsl.org/event/coffee-fellowship-manna-bags-equal-exchange/2026-08-09/
LOCATION:First Presbyterian Church of San Leandro\, 180 Estudillo Avenue\, San Leandros\, 94577
CATEGORIES:Fellowship Hall
END:VEVENT
BEGIN:VEVENT
DTSTART;TZID=America/Los_Angeles:20260809T103000
DTEND;TZID=America/Los_Angeles:20260809T130000
DTSTAMP:20260422T144855
CREATED:20260401T194449Z
LAST-MODIFIED:20260401T194449Z
UID:10000970-1786271400-1786280400@firstpresbyterianchurchsl.org
SUMMARY:HOLD - Rise Against Hunger
DESCRIPTION:
URL:https://firstpresbyterianchurchsl.org/event/hold-rise-against-hunger/
LOCATION:First Presbyterian Church of San Leandro\, 180 Estudillo Avenue\, San Leandros\, 94577
CATEGORIES:Fellowship Hall
END:VEVENT
BEGIN:VEVENT
DTSTART;TZID=America/Los_Angeles:20260816T103000
DTEND;TZID=America/Los_Angeles:20260816T113000
DTSTAMP:20260422T144855
CREATED:20260324T163227Z
LAST-MODIFIED:20260324T163227Z
UID:10000536-1786876200-1786879800@firstpresbyterianchurchsl.org
SUMMARY:Coffee Fellowship
DESCRIPTION:
URL:https://firstpresbyterianchurchsl.org/event/coffee-fellowship/2026-08-16/
LOCATION:First Presbyterian Church of San Leandro\, 180 Estudillo Avenue\, San Leandros\, 94577
CATEGORIES:Fellowship Hall
END:VEVENT
BEGIN:VEVENT
DTSTART;TZID=America/Los_Angeles:20260823T103000
DTEND;TZID=America/Los_Angeles:20260823T113000
DTSTAMP:20260422T144855
CREATED:20260324T163227Z
LAST-MODIFIED:20260324T163227Z
UID:10000537-1787481000-1787484600@firstpresbyterianchurchsl.org
SUMMARY:Coffee Fellowship
DESCRIPTION:
URL:https://firstpresbyterianchurchsl.org/event/coffee-fellowship/2026-08-23/
LOCATION:First Presbyterian Church of San Leandro\, 180 Estudillo Avenue\, San Leandros\, 94577
CATEGORIES:Fellowship Hall
END:VEVENT
BEGIN:VEVENT
DTSTART;TZID=America/Los_Angeles:20260830T103000
DTEND;TZID=America/Los_Angeles:20260830T113000
DTSTAMP:20260422T144855
CREATED:20260324T163227Z
LAST-MODIFIED:20260324T163227Z
UID:10000538-1788085800-1788089400@firstpresbyterianchurchsl.org
SUMMARY:Coffee Fellowship
DESCRIPTION:
URL:https://firstpresbyterianchurchsl.org/event/coffee-fellowship/2026-08-30/
LOCATION:First Presbyterian Church of San Leandro\, 180 Estudillo Avenue\, San Leandros\, 94577
CATEGORIES:Fellowship Hall
END:VEVENT
END:VCALENDAR