BEGIN:VCALENDAR
VERSION:2.0
PRODID:-//First Presbyterian Church SL - ECPv6.15.20//NONSGML v1.0//EN
CALSCALE:GREGORIAN
METHOD:PUBLISH
X-WR-CALNAME:First Presbyterian Church SL
X-ORIGINAL-URL:https://firstpresbyterianchurchsl.org
X-WR-CALDESC:Events for First Presbyterian Church SL
REFRESH-INTERVAL;VALUE=DURATION:PT1H
X-Robots-Tag:noindex
X-PUBLISHED-TTL:PT1H
BEGIN:VTIMEZONE
TZID:America/Los_Angeles
BEGIN:DAYLIGHT
TZOFFSETFROM:-0800
TZOFFSETTO:-0700
TZNAME:PDT
DTSTART:20250309T100000
END:DAYLIGHT
BEGIN:STANDARD
TZOFFSETFROM:-0700
TZOFFSETTO:-0800
TZNAME:PST
DTSTART:20251102T090000
END:STANDARD
BEGIN:DAYLIGHT
TZOFFSETFROM:-0800
TZOFFSETTO:-0700
TZNAME:PDT
DTSTART:20260308T100000
END:DAYLIGHT
BEGIN:STANDARD
TZOFFSETFROM:-0700
TZOFFSETTO:-0800
TZNAME:PST
DTSTART:20261101T090000
END:STANDARD
BEGIN:DAYLIGHT
TZOFFSETFROM:-0800
TZOFFSETTO:-0700
TZNAME:PDT
DTSTART:20270314T100000
END:DAYLIGHT
BEGIN:STANDARD
TZOFFSETFROM:-0700
TZOFFSETTO:-0800
TZNAME:PST
DTSTART:20271107T090000
END:STANDARD
END:VTIMEZONE
BEGIN:VEVENT
DTSTART;TZID=America/Los_Angeles:20260104T083000
DTEND;TZID=America/Los_Angeles:20260104T091000
DTSTAMP:20260421T182029
CREATED:20260324T162404Z
LAST-MODIFIED:20260324T162404Z
UID:10000486-1767515400-1767517800@firstpresbyterianchurchsl.org
SUMMARY:Chancel Choir Rehearsal
DESCRIPTION:
URL:https://firstpresbyterianchurchsl.org/event/chancel-choir-rehearsal/2026-01-04/
LOCATION:First Presbyterian Church of San Leandro\, 180 Estudillo Avenue\, San Leandros\, 94577
CATEGORIES:Fireside Room
END:VEVENT
BEGIN:VEVENT
DTSTART;TZID=America/Los_Angeles:20260106T181700
DTEND;TZID=America/Los_Angeles:20260106T193000
DTSTAMP:20260421T182029
CREATED:20260326T164648Z
LAST-MODIFIED:20260326T164650Z
UID:10000722-1767723420-1767727800@firstpresbyterianchurchsl.org
SUMMARY:Chancel Bells Rehearsal
DESCRIPTION:
URL:https://firstpresbyterianchurchsl.org/event/chancel-bells-rehearsal-2/
LOCATION:First Presbyterian Church of San Leandro\, 180 Estudillo Avenue\, San Leandros\, 94577
CATEGORIES:Fireside Room
END:VEVENT
BEGIN:VEVENT
DTSTART;TZID=America/Los_Angeles:20260108T123000
DTEND;TZID=America/Los_Angeles:20260108T143000
DTSTAMP:20260421T182029
CREATED:20260325T183135Z
LAST-MODIFIED:20260325T183135Z
UID:10000747-1767875400-1767882600@firstpresbyterianchurchsl.org
SUMMARY:Heart to Heart Women's Ministry
DESCRIPTION:
URL:https://firstpresbyterianchurchsl.org/event/heart-to-heart-womens-ministry-2/2026-01-08/
LOCATION:First Presbyterian Church of San Leandro\, 180 Estudillo Avenue\, San Leandros\, 94577
CATEGORIES:Fireside Room
END:VEVENT
BEGIN:VEVENT
DTSTART;TZID=America/Los_Angeles:20260108T190000
DTEND;TZID=America/Los_Angeles:20260108T201500
DTSTAMP:20260421T182029
CREATED:20260325T183852Z
LAST-MODIFIED:20260325T183852Z
UID:10000753-1767898800-1767903300@firstpresbyterianchurchsl.org
SUMMARY:Chancel Choir Rehearsal
DESCRIPTION:
URL:https://firstpresbyterianchurchsl.org/event/chancel-choir-rehearsal-2/2026-01-08/
LOCATION:First Presbyterian Church of San Leandro\, 180 Estudillo Avenue\, San Leandros\, 94577
CATEGORIES:Fireside Room
END:VEVENT
BEGIN:VEVENT
DTSTART;TZID=America/Los_Angeles:20260111T083000
DTEND;TZID=America/Los_Angeles:20260111T091000
DTSTAMP:20260421T182029
CREATED:20260324T162404Z
LAST-MODIFIED:20260324T162404Z
UID:10000487-1768120200-1768122600@firstpresbyterianchurchsl.org
SUMMARY:Chancel Choir Rehearsal
DESCRIPTION:
URL:https://firstpresbyterianchurchsl.org/event/chancel-choir-rehearsal/2026-01-11/
LOCATION:First Presbyterian Church of San Leandro\, 180 Estudillo Avenue\, San Leandros\, 94577
CATEGORIES:Fireside Room
END:VEVENT
BEGIN:VEVENT
DTSTART;TZID=America/Los_Angeles:20260111T110000
DTEND;TZID=America/Los_Angeles:20260111T120000
DTSTAMP:20260421T182029
CREATED:20260325T184350Z
LAST-MODIFIED:20260325T184350Z
UID:10000759-1768129200-1768132800@firstpresbyterianchurchsl.org
SUMMARY:The Years of Ripening Class
DESCRIPTION:
URL:https://firstpresbyterianchurchsl.org/event/the-years-of-ripening-class/2026-01-11/
LOCATION:First Presbyterian Church of San Leandro\, 180 Estudillo Avenue\, San Leandros\, 94577
CATEGORIES:Fireside Room
END:VEVENT
BEGIN:VEVENT
DTSTART;TZID=America/Los_Angeles:20260113T181700
DTEND;TZID=America/Los_Angeles:20260113T193000
DTSTAMP:20260421T182029
CREATED:20260326T164724Z
LAST-MODIFIED:20260326T164726Z
UID:10000723-1768328220-1768332600@firstpresbyterianchurchsl.org
SUMMARY:Chancel Bells Rehearsal
DESCRIPTION:
URL:https://firstpresbyterianchurchsl.org/event/chancel-bells-rehearsal-3/
LOCATION:First Presbyterian Church of San Leandro\, 180 Estudillo Avenue\, San Leandros\, 94577
CATEGORIES:Fireside Room
END:VEVENT
BEGIN:VEVENT
DTSTART;TZID=America/Los_Angeles:20260115T190000
DTEND;TZID=America/Los_Angeles:20260115T201500
DTSTAMP:20260421T182029
CREATED:20260326T165039Z
LAST-MODIFIED:20260326T165039Z
UID:10000781-1768503600-1768508100@firstpresbyterianchurchsl.org
SUMMARY:Chancel Choir Rehearsal
DESCRIPTION:
URL:https://firstpresbyterianchurchsl.org/event/chancel-choir-rehearsal-3/
LOCATION:First Presbyterian Church of San Leandro\, 180 Estudillo Avenue\, San Leandros\, 94577
CATEGORIES:Fireside Room
END:VEVENT
BEGIN:VEVENT
DTSTART;TZID=America/Los_Angeles:20260117T090000
DTEND;TZID=America/Los_Angeles:20260117T130000
DTSTAMP:20260421T182029
CREATED:20260325T185053Z
LAST-MODIFIED:20260325T185053Z
UID:10000778-1768640400-1768654800@firstpresbyterianchurchsl.org
SUMMARY:Session Retreat
DESCRIPTION:
URL:https://firstpresbyterianchurchsl.org/event/session-retreat/
LOCATION:First Presbyterian Church of San Leandro\, 180 Estudillo Avenue\, San Leandros\, 94577
CATEGORIES:Fellowship Hall,Fireside Room
END:VEVENT
BEGIN:VEVENT
DTSTART;TZID=America/Los_Angeles:20260118T083000
DTEND;TZID=America/Los_Angeles:20260118T091000
DTSTAMP:20260421T182029
CREATED:20260324T162404Z
LAST-MODIFIED:20260324T162404Z
UID:10000488-1768725000-1768727400@firstpresbyterianchurchsl.org
SUMMARY:Chancel Choir Rehearsal
DESCRIPTION:
URL:https://firstpresbyterianchurchsl.org/event/chancel-choir-rehearsal/2026-01-18/
LOCATION:First Presbyterian Church of San Leandro\, 180 Estudillo Avenue\, San Leandros\, 94577
CATEGORIES:Fireside Room
END:VEVENT
BEGIN:VEVENT
DTSTART;TZID=America/Los_Angeles:20260118T110000
DTEND;TZID=America/Los_Angeles:20260118T120000
DTSTAMP:20260421T182029
CREATED:20260325T184350Z
LAST-MODIFIED:20260325T184350Z
UID:10000760-1768734000-1768737600@firstpresbyterianchurchsl.org
SUMMARY:The Years of Ripening Class
DESCRIPTION:
URL:https://firstpresbyterianchurchsl.org/event/the-years-of-ripening-class/2026-01-18/
LOCATION:First Presbyterian Church of San Leandro\, 180 Estudillo Avenue\, San Leandros\, 94577
CATEGORIES:Fireside Room
END:VEVENT
BEGIN:VEVENT
DTSTART;TZID=America/Los_Angeles:20260119T181700
DTEND;TZID=America/Los_Angeles:20260119T193000
DTSTAMP:20260421T182029
CREATED:20260325T182826Z
LAST-MODIFIED:20260325T182826Z
UID:10000724-1768846620-1768851000@firstpresbyterianchurchsl.org
SUMMARY:Chancel Bells Rehearsal
DESCRIPTION:
URL:https://firstpresbyterianchurchsl.org/event/chancel-bells-rehearsal/2026-01-19/
LOCATION:First Presbyterian Church of San Leandro\, 180 Estudillo Avenue\, San Leandros\, 94577
CATEGORIES:Fireside Room
END:VEVENT
BEGIN:VEVENT
DTSTART;TZID=America/Los_Angeles:20260120T180000
DTEND;TZID=America/Los_Angeles:20260120T190000
DTSTAMP:20260421T182029
CREATED:20260326T171555Z
LAST-MODIFIED:20260326T171555Z
UID:10000787-1768932000-1768935600@firstpresbyterianchurchsl.org
SUMMARY:Session Meeting
DESCRIPTION:
URL:https://firstpresbyterianchurchsl.org/event/session-meeting/2026-01-20/
LOCATION:First Presbyterian Church of San Leandro\, 180 Estudillo Avenue\, San Leandros\, 94577
CATEGORIES:Fireside Room
END:VEVENT
BEGIN:VEVENT
DTSTART;TZID=America/Los_Angeles:20260121T080000
DTEND;TZID=America/Los_Angeles:20260121T170000
DTSTAMP:20260421T182029
CREATED:20260326T172233Z
LAST-MODIFIED:20260326T172233Z
UID:10000854-1768982400-1769014800@firstpresbyterianchurchsl.org
SUMMARY:Chancel Bells Rehearsal
DESCRIPTION:
URL:https://firstpresbyterianchurchsl.org/event/chancel-bells-rehearsal-4/2026-01-21/1/
LOCATION:First Presbyterian Church of San Leandro\, 180 Estudillo Avenue\, San Leandros\, 94577
CATEGORIES:Fireside Room
END:VEVENT
BEGIN:VEVENT
DTSTART;TZID=America/Los_Angeles:20260121T181700
DTEND;TZID=America/Los_Angeles:20260121T193000
DTSTAMP:20260421T182029
CREATED:20260326T172233Z
LAST-MODIFIED:20260326T172233Z
UID:10000855-1769019420-1769023800@firstpresbyterianchurchsl.org
SUMMARY:Chancel Bells Rehearsal
DESCRIPTION:
URL:https://firstpresbyterianchurchsl.org/event/chancel-bells-rehearsal-4/2026-01-21/2/
LOCATION:First Presbyterian Church of San Leandro\, 180 Estudillo Avenue\, San Leandros\, 94577
CATEGORIES:Fireside Room
END:VEVENT
BEGIN:VEVENT
DTSTART;TZID=America/Los_Angeles:20260122T181700
DTEND;TZID=America/Los_Angeles:20260122T193000
DTSTAMP:20260421T182029
CREATED:20260326T172510Z
LAST-MODIFIED:20260326T172510Z
UID:10000857-1769105820-1769110200@firstpresbyterianchurchsl.org
SUMMARY:Winter Bell Camp
DESCRIPTION:
URL:https://firstpresbyterianchurchsl.org/event/winter-bell-camp/
LOCATION:First Presbyterian Church of San Leandro\, 180 Estudillo Avenue\, San Leandros\, 94577
CATEGORIES:Fireside Room
END:VEVENT
BEGIN:VEVENT
DTSTART;TZID=America/Los_Angeles:20260125T083000
DTEND;TZID=America/Los_Angeles:20260125T091000
DTSTAMP:20260421T182029
CREATED:20260324T162404Z
LAST-MODIFIED:20260324T162404Z
UID:10000489-1769329800-1769332200@firstpresbyterianchurchsl.org
SUMMARY:Chancel Choir Rehearsal
DESCRIPTION:
URL:https://firstpresbyterianchurchsl.org/event/chancel-choir-rehearsal/2026-01-25/
LOCATION:First Presbyterian Church of San Leandro\, 180 Estudillo Avenue\, San Leandros\, 94577
CATEGORIES:Fireside Room
END:VEVENT
BEGIN:VEVENT
DTSTART;TZID=America/Los_Angeles:20260125T110000
DTEND;TZID=America/Los_Angeles:20260125T120000
DTSTAMP:20260421T182029
CREATED:20260325T184350Z
LAST-MODIFIED:20260325T184350Z
UID:10000761-1769338800-1769342400@firstpresbyterianchurchsl.org
SUMMARY:The Years of Ripening Class
DESCRIPTION:
URL:https://firstpresbyterianchurchsl.org/event/the-years-of-ripening-class/2026-01-25/
LOCATION:First Presbyterian Church of San Leandro\, 180 Estudillo Avenue\, San Leandros\, 94577
CATEGORIES:Fireside Room
END:VEVENT
BEGIN:VEVENT
DTSTART;TZID=America/Los_Angeles:20260126T181700
DTEND;TZID=America/Los_Angeles:20260126T193000
DTSTAMP:20260421T182029
CREATED:20260325T182826Z
LAST-MODIFIED:20260325T182826Z
UID:10000725-1769451420-1769455800@firstpresbyterianchurchsl.org
SUMMARY:Chancel Bells Rehearsal
DESCRIPTION:
URL:https://firstpresbyterianchurchsl.org/event/chancel-bells-rehearsal/2026-01-26/
LOCATION:First Presbyterian Church of San Leandro\, 180 Estudillo Avenue\, San Leandros\, 94577
CATEGORIES:Fireside Room
END:VEVENT
BEGIN:VEVENT
DTSTART;TZID=America/Los_Angeles:20260128T181700
DTEND;TZID=America/Los_Angeles:20260128T193000
DTSTAMP:20260421T182029
CREATED:20260326T172233Z
LAST-MODIFIED:20260326T172233Z
UID:10000856-1769624220-1769628600@firstpresbyterianchurchsl.org
SUMMARY:Chancel Bells Rehearsal
DESCRIPTION:
URL:https://firstpresbyterianchurchsl.org/event/chancel-bells-rehearsal-4/2026-01-28/
LOCATION:First Presbyterian Church of San Leandro\, 180 Estudillo Avenue\, San Leandros\, 94577
CATEGORIES:Fireside Room
END:VEVENT
BEGIN:VEVENT
DTSTART;TZID=America/Los_Angeles:20260129T190000
DTEND;TZID=America/Los_Angeles:20260129T201500
DTSTAMP:20260421T182029
CREATED:20260326T172618Z
LAST-MODIFIED:20260326T172618Z
UID:10000858-1769713200-1769717700@firstpresbyterianchurchsl.org
SUMMARY:Chancel Choir Rehearsal
DESCRIPTION:
URL:https://firstpresbyterianchurchsl.org/event/chancel-choir-rehearsal-5/
LOCATION:First Presbyterian Church of San Leandro\, 180 Estudillo Avenue\, San Leandros\, 94577
CATEGORIES:Fireside Room
END:VEVENT
BEGIN:VEVENT
DTSTART;TZID=America/Los_Angeles:20260131T100000
DTEND;TZID=America/Los_Angeles:20260131T120000
DTSTAMP:20260421T182029
CREATED:20260326T180234Z
LAST-MODIFIED:20260326T180234Z
UID:10000859-1769853600-1769860800@firstpresbyterianchurchsl.org
SUMMARY:Women's Book Club Annual Brunch and Book Exchange
DESCRIPTION:
URL:https://firstpresbyterianchurchsl.org/event/womens-book-club-annual-brunch-and-book-exchange/
LOCATION:First Presbyterian Church of San Leandro\, 180 Estudillo Avenue\, San Leandros\, 94577
CATEGORIES:Fireside Room
END:VEVENT
END:VCALENDAR