BEGIN:VCALENDAR
VERSION:2.0
PRODID:-//First Presbyterian Church SL - ECPv6.15.20//NONSGML v1.0//EN
CALSCALE:GREGORIAN
METHOD:PUBLISH
X-ORIGINAL-URL:https://firstpresbyterianchurchsl.org
X-WR-CALDESC:Events for First Presbyterian Church SL
REFRESH-INTERVAL;VALUE=DURATION:PT1H
X-Robots-Tag:noindex
X-PUBLISHED-TTL:PT1H
BEGIN:VTIMEZONE
TZID:America/Los_Angeles
BEGIN:DAYLIGHT
TZOFFSETFROM:-0800
TZOFFSETTO:-0700
TZNAME:PDT
DTSTART:20250309T100000
END:DAYLIGHT
BEGIN:STANDARD
TZOFFSETFROM:-0700
TZOFFSETTO:-0800
TZNAME:PST
DTSTART:20251102T090000
END:STANDARD
BEGIN:DAYLIGHT
TZOFFSETFROM:-0800
TZOFFSETTO:-0700
TZNAME:PDT
DTSTART:20260308T100000
END:DAYLIGHT
BEGIN:STANDARD
TZOFFSETFROM:-0700
TZOFFSETTO:-0800
TZNAME:PST
DTSTART:20261101T090000
END:STANDARD
BEGIN:DAYLIGHT
TZOFFSETFROM:-0800
TZOFFSETTO:-0700
TZNAME:PDT
DTSTART:20270314T100000
END:DAYLIGHT
BEGIN:STANDARD
TZOFFSETFROM:-0700
TZOFFSETTO:-0800
TZNAME:PST
DTSTART:20271107T090000
END:STANDARD
END:VTIMEZONE
BEGIN:VEVENT
DTSTART;TZID=America/Los_Angeles:20260503T083000
DTEND;TZID=America/Los_Angeles:20260503T091000
DTSTAMP:20260421T143556
CREATED:20260324T162404Z
LAST-MODIFIED:20260324T162404Z
UID:10000503-1777797000-1777799400@firstpresbyterianchurchsl.org
SUMMARY:Chancel Choir Rehearsal
DESCRIPTION:
URL:https://firstpresbyterianchurchsl.org/event/chancel-choir-rehearsal/2026-05-03/
LOCATION:First Presbyterian Church of San Leandro\, 180 Estudillo Avenue\, San Leandros\, 94577
CATEGORIES:Fireside Room
END:VEVENT
BEGIN:VEVENT
DTSTART;TZID=America/Los_Angeles:20260504T181700
DTEND;TZID=America/Los_Angeles:20260504T193000
DTSTAMP:20260421T143556
CREATED:20260325T182826Z
LAST-MODIFIED:20260325T182826Z
UID:10000739-1777918620-1777923000@firstpresbyterianchurchsl.org
SUMMARY:Chancel Bells Rehearsal
DESCRIPTION:
URL:https://firstpresbyterianchurchsl.org/event/chancel-bells-rehearsal/2026-05-04/
LOCATION:First Presbyterian Church of San Leandro\, 180 Estudillo Avenue\, San Leandros\, 94577
CATEGORIES:Fireside Room
END:VEVENT
BEGIN:VEVENT
DTSTART;TZID=America/Los_Angeles:20260505T133000
DTEND;TZID=America/Los_Angeles:20260505T143000
DTSTAMP:20260421T143556
CREATED:20260326T181732Z
LAST-MODIFIED:20260326T181732Z
UID:10000939-1777987800-1777991400@firstpresbyterianchurchsl.org
SUMMARY:Let's Read This Book!
DESCRIPTION:
URL:https://firstpresbyterianchurchsl.org/event/lets-read-this-book/2026-05-05/
LOCATION:First Presbyterian Church of San Leandro\, 180 Estudillo Avenue\, San Leandros\, 94577
CATEGORIES:Fireside Room
END:VEVENT
BEGIN:VEVENT
DTSTART;TZID=America/Los_Angeles:20260510T083000
DTEND;TZID=America/Los_Angeles:20260510T091000
DTSTAMP:20260421T143556
CREATED:20260324T162404Z
LAST-MODIFIED:20260324T162404Z
UID:10000504-1778401800-1778404200@firstpresbyterianchurchsl.org
SUMMARY:Chancel Choir Rehearsal
DESCRIPTION:
URL:https://firstpresbyterianchurchsl.org/event/chancel-choir-rehearsal/2026-05-10/
LOCATION:First Presbyterian Church of San Leandro\, 180 Estudillo Avenue\, San Leandros\, 94577
CATEGORIES:Fireside Room
END:VEVENT
BEGIN:VEVENT
DTSTART;TZID=America/Los_Angeles:20260511T181700
DTEND;TZID=America/Los_Angeles:20260511T193000
DTSTAMP:20260421T143556
CREATED:20260325T182826Z
LAST-MODIFIED:20260325T182826Z
UID:10000740-1778523420-1778527800@firstpresbyterianchurchsl.org
SUMMARY:Chancel Bells Rehearsal
DESCRIPTION:
URL:https://firstpresbyterianchurchsl.org/event/chancel-bells-rehearsal/2026-05-11/
LOCATION:First Presbyterian Church of San Leandro\, 180 Estudillo Avenue\, San Leandros\, 94577
CATEGORIES:Fireside Room
END:VEVENT
BEGIN:VEVENT
DTSTART;TZID=America/Los_Angeles:20260514T123000
DTEND;TZID=America/Los_Angeles:20260514T143000
DTSTAMP:20260421T143556
CREATED:20260325T183135Z
LAST-MODIFIED:20260325T183135Z
UID:10000751-1778761800-1778769000@firstpresbyterianchurchsl.org
SUMMARY:Heart to Heart Women's Ministry
DESCRIPTION:
URL:https://firstpresbyterianchurchsl.org/event/heart-to-heart-womens-ministry-2/2026-05-14/
LOCATION:First Presbyterian Church of San Leandro\, 180 Estudillo Avenue\, San Leandros\, 94577
CATEGORIES:Fireside Room
END:VEVENT
BEGIN:VEVENT
DTSTART;TZID=America/Los_Angeles:20260514T190000
DTEND;TZID=America/Los_Angeles:20260514T201500
DTSTAMP:20260421T143556
CREATED:20260325T183852Z
LAST-MODIFIED:20260325T183852Z
UID:10000757-1778785200-1778789700@firstpresbyterianchurchsl.org
SUMMARY:Chancel Choir Rehearsal
DESCRIPTION:
URL:https://firstpresbyterianchurchsl.org/event/chancel-choir-rehearsal-2/2026-05-14/
LOCATION:First Presbyterian Church of San Leandro\, 180 Estudillo Avenue\, San Leandros\, 94577
CATEGORIES:Fireside Room
END:VEVENT
BEGIN:VEVENT
DTSTART;TZID=America/Los_Angeles:20260517T083000
DTEND;TZID=America/Los_Angeles:20260517T091000
DTSTAMP:20260421T143556
CREATED:20260324T162404Z
LAST-MODIFIED:20260324T162404Z
UID:10000505-1779006600-1779009000@firstpresbyterianchurchsl.org
SUMMARY:Chancel Choir Rehearsal
DESCRIPTION:
URL:https://firstpresbyterianchurchsl.org/event/chancel-choir-rehearsal/2026-05-17/
LOCATION:First Presbyterian Church of San Leandro\, 180 Estudillo Avenue\, San Leandros\, 94577
CATEGORIES:Fireside Room
END:VEVENT
BEGIN:VEVENT
DTSTART;TZID=America/Los_Angeles:20260518T181700
DTEND;TZID=America/Los_Angeles:20260518T193000
DTSTAMP:20260421T143556
CREATED:20260325T182826Z
LAST-MODIFIED:20260325T182826Z
UID:10000741-1779128220-1779132600@firstpresbyterianchurchsl.org
SUMMARY:Chancel Bells Rehearsal
DESCRIPTION:
URL:https://firstpresbyterianchurchsl.org/event/chancel-bells-rehearsal/2026-05-18/
LOCATION:First Presbyterian Church of San Leandro\, 180 Estudillo Avenue\, San Leandros\, 94577
CATEGORIES:Fireside Room
END:VEVENT
BEGIN:VEVENT
DTSTART;TZID=America/Los_Angeles:20260519T180000
DTEND;TZID=America/Los_Angeles:20260519T190000
DTSTAMP:20260421T143556
CREATED:20260326T171555Z
LAST-MODIFIED:20260326T171555Z
UID:10000791-1779213600-1779217200@firstpresbyterianchurchsl.org
SUMMARY:Session Meeting
DESCRIPTION:
URL:https://firstpresbyterianchurchsl.org/event/session-meeting/2026-05-19/
LOCATION:First Presbyterian Church of San Leandro\, 180 Estudillo Avenue\, San Leandros\, 94577
CATEGORIES:Fireside Room
END:VEVENT
BEGIN:VEVENT
DTSTART;TZID=America/Los_Angeles:20260524T083000
DTEND;TZID=America/Los_Angeles:20260524T091000
DTSTAMP:20260421T143556
CREATED:20260324T162404Z
LAST-MODIFIED:20260324T162404Z
UID:10000506-1779611400-1779613800@firstpresbyterianchurchsl.org
SUMMARY:Chancel Choir Rehearsal
DESCRIPTION:
URL:https://firstpresbyterianchurchsl.org/event/chancel-choir-rehearsal/2026-05-24/
LOCATION:First Presbyterian Church of San Leandro\, 180 Estudillo Avenue\, San Leandros\, 94577
CATEGORIES:Fireside Room
END:VEVENT
BEGIN:VEVENT
DTSTART;TZID=America/Los_Angeles:20260525T181700
DTEND;TZID=America/Los_Angeles:20260525T193000
DTSTAMP:20260421T143556
CREATED:20260325T182826Z
LAST-MODIFIED:20260325T182826Z
UID:10000742-1779733020-1779737400@firstpresbyterianchurchsl.org
SUMMARY:Chancel Bells Rehearsal
DESCRIPTION:
URL:https://firstpresbyterianchurchsl.org/event/chancel-bells-rehearsal/2026-05-25/
LOCATION:First Presbyterian Church of San Leandro\, 180 Estudillo Avenue\, San Leandros\, 94577
CATEGORIES:Fireside Room
END:VEVENT
BEGIN:VEVENT
DTSTART;TZID=America/Los_Angeles:20260531T083000
DTEND;TZID=America/Los_Angeles:20260531T091000
DTSTAMP:20260421T143556
CREATED:20260324T162404Z
LAST-MODIFIED:20260324T162404Z
UID:10000507-1780216200-1780218600@firstpresbyterianchurchsl.org
SUMMARY:Chancel Choir Rehearsal
DESCRIPTION:
URL:https://firstpresbyterianchurchsl.org/event/chancel-choir-rehearsal/2026-05-31/
LOCATION:First Presbyterian Church of San Leandro\, 180 Estudillo Avenue\, San Leandros\, 94577
CATEGORIES:Fireside Room
END:VEVENT
END:VCALENDAR