BEGIN:VCALENDAR
VERSION:2.0
PRODID:-//First Presbyterian Church SL - ECPv6.15.20//NONSGML v1.0//EN
CALSCALE:GREGORIAN
METHOD:PUBLISH
X-WR-CALNAME:First Presbyterian Church SL
X-ORIGINAL-URL:https://firstpresbyterianchurchsl.org
X-WR-CALDESC:Events for First Presbyterian Church SL
REFRESH-INTERVAL;VALUE=DURATION:PT1H
X-Robots-Tag:noindex
X-PUBLISHED-TTL:PT1H
BEGIN:VTIMEZONE
TZID:America/Los_Angeles
BEGIN:DAYLIGHT
TZOFFSETFROM:-0800
TZOFFSETTO:-0700
TZNAME:PDT
DTSTART:20270314T100000
END:DAYLIGHT
BEGIN:STANDARD
TZOFFSETFROM:-0700
TZOFFSETTO:-0800
TZNAME:PST
DTSTART:20271107T090000
END:STANDARD
BEGIN:DAYLIGHT
TZOFFSETFROM:-0800
TZOFFSETTO:-0700
TZNAME:PDT
DTSTART:20280312T100000
END:DAYLIGHT
BEGIN:STANDARD
TZOFFSETFROM:-0700
TZOFFSETTO:-0800
TZNAME:PST
DTSTART:20281105T090000
END:STANDARD
BEGIN:DAYLIGHT
TZOFFSETFROM:-0800
TZOFFSETTO:-0700
TZNAME:PDT
DTSTART:20290311T100000
END:DAYLIGHT
BEGIN:STANDARD
TZOFFSETFROM:-0700
TZOFFSETTO:-0800
TZNAME:PST
DTSTART:20291104T090000
END:STANDARD
BEGIN:DAYLIGHT
TZOFFSETFROM:-0800
TZOFFSETTO:-0700
TZNAME:PDT
DTSTART:20300310T100000
END:DAYLIGHT
BEGIN:STANDARD
TZOFFSETFROM:-0700
TZOFFSETTO:-0800
TZNAME:PST
DTSTART:20301103T090000
END:STANDARD
BEGIN:DAYLIGHT
TZOFFSETFROM:-0800
TZOFFSETTO:-0700
TZNAME:PDT
DTSTART:20310309T100000
END:DAYLIGHT
BEGIN:STANDARD
TZOFFSETFROM:-0700
TZOFFSETTO:-0800
TZNAME:PST
DTSTART:20311102T090000
END:STANDARD
END:VTIMEZONE
BEGIN:VEVENT
DTSTART;TZID=America/Los_Angeles:20280718T180000
DTEND;TZID=America/Los_Angeles:20280718T190000
DTSTAMP:20260422T151634
CREATED:20260326T171555Z
LAST-MODIFIED:20260326T171555Z
UID:10000817-1847556000-1847559600@firstpresbyterianchurchsl.org
SUMMARY:Session Meeting
DESCRIPTION:
URL:https://firstpresbyterianchurchsl.org/event/session-meeting/2028-07-18/
LOCATION:First Presbyterian Church of San Leandro\, 180 Estudillo Avenue\, San Leandros\, 94577
CATEGORIES:Fireside Room
END:VEVENT
BEGIN:VEVENT
DTSTART;TZID=America/Los_Angeles:20280815T180000
DTEND;TZID=America/Los_Angeles:20280815T190000
DTSTAMP:20260422T151634
CREATED:20260326T171555Z
LAST-MODIFIED:20260326T171555Z
UID:10000818-1849975200-1849978800@firstpresbyterianchurchsl.org
SUMMARY:Session Meeting
DESCRIPTION:
URL:https://firstpresbyterianchurchsl.org/event/session-meeting/2028-08-15/
LOCATION:First Presbyterian Church of San Leandro\, 180 Estudillo Avenue\, San Leandros\, 94577
CATEGORIES:Fireside Room
END:VEVENT
BEGIN:VEVENT
DTSTART;TZID=America/Los_Angeles:20280919T180000
DTEND;TZID=America/Los_Angeles:20280919T190000
DTSTAMP:20260422T151634
CREATED:20260326T171555Z
LAST-MODIFIED:20260326T171555Z
UID:10000819-1852999200-1853002800@firstpresbyterianchurchsl.org
SUMMARY:Session Meeting
DESCRIPTION:
URL:https://firstpresbyterianchurchsl.org/event/session-meeting/2028-09-19/
LOCATION:First Presbyterian Church of San Leandro\, 180 Estudillo Avenue\, San Leandros\, 94577
CATEGORIES:Fireside Room
END:VEVENT
BEGIN:VEVENT
DTSTART;TZID=America/Los_Angeles:20281017T180000
DTEND;TZID=America/Los_Angeles:20281017T190000
DTSTAMP:20260422T151634
CREATED:20260326T171555Z
LAST-MODIFIED:20260326T171555Z
UID:10000820-1855418400-1855422000@firstpresbyterianchurchsl.org
SUMMARY:Session Meeting
DESCRIPTION:
URL:https://firstpresbyterianchurchsl.org/event/session-meeting/2028-10-17/
LOCATION:First Presbyterian Church of San Leandro\, 180 Estudillo Avenue\, San Leandros\, 94577
CATEGORIES:Fireside Room
END:VEVENT
BEGIN:VEVENT
DTSTART;TZID=America/Los_Angeles:20281121T180000
DTEND;TZID=America/Los_Angeles:20281121T190000
DTSTAMP:20260422T151634
CREATED:20260326T171555Z
LAST-MODIFIED:20260326T171555Z
UID:10000821-1858442400-1858446000@firstpresbyterianchurchsl.org
SUMMARY:Session Meeting
DESCRIPTION:
URL:https://firstpresbyterianchurchsl.org/event/session-meeting/2028-11-21/
LOCATION:First Presbyterian Church of San Leandro\, 180 Estudillo Avenue\, San Leandros\, 94577
CATEGORIES:Fireside Room
END:VEVENT
BEGIN:VEVENT
DTSTART;TZID=America/Los_Angeles:20281219T180000
DTEND;TZID=America/Los_Angeles:20281219T190000
DTSTAMP:20260422T151634
CREATED:20260326T171555Z
LAST-MODIFIED:20260326T171555Z
UID:10000822-1860861600-1860865200@firstpresbyterianchurchsl.org
SUMMARY:Session Meeting
DESCRIPTION:
URL:https://firstpresbyterianchurchsl.org/event/session-meeting/2028-12-19/
LOCATION:First Presbyterian Church of San Leandro\, 180 Estudillo Avenue\, San Leandros\, 94577
CATEGORIES:Fireside Room
END:VEVENT
BEGIN:VEVENT
DTSTART;TZID=America/Los_Angeles:20290116T180000
DTEND;TZID=America/Los_Angeles:20290116T190000
DTSTAMP:20260422T151634
CREATED:20260326T171555Z
LAST-MODIFIED:20260326T171555Z
UID:10000823-1863280800-1863284400@firstpresbyterianchurchsl.org
SUMMARY:Session Meeting
DESCRIPTION:
URL:https://firstpresbyterianchurchsl.org/event/session-meeting/2029-01-16/
LOCATION:First Presbyterian Church of San Leandro\, 180 Estudillo Avenue\, San Leandros\, 94577
CATEGORIES:Fireside Room
END:VEVENT
BEGIN:VEVENT
DTSTART;TZID=America/Los_Angeles:20290220T180000
DTEND;TZID=America/Los_Angeles:20290220T190000
DTSTAMP:20260422T151634
CREATED:20260326T171555Z
LAST-MODIFIED:20260326T171555Z
UID:10000824-1866304800-1866308400@firstpresbyterianchurchsl.org
SUMMARY:Session Meeting
DESCRIPTION:
URL:https://firstpresbyterianchurchsl.org/event/session-meeting/2029-02-20/
LOCATION:First Presbyterian Church of San Leandro\, 180 Estudillo Avenue\, San Leandros\, 94577
CATEGORIES:Fireside Room
END:VEVENT
BEGIN:VEVENT
DTSTART;TZID=America/Los_Angeles:20290320T180000
DTEND;TZID=America/Los_Angeles:20290320T190000
DTSTAMP:20260422T151634
CREATED:20260326T171555Z
LAST-MODIFIED:20260326T171555Z
UID:10000825-1868724000-1868727600@firstpresbyterianchurchsl.org
SUMMARY:Session Meeting
DESCRIPTION:
URL:https://firstpresbyterianchurchsl.org/event/session-meeting/2029-03-20/
LOCATION:First Presbyterian Church of San Leandro\, 180 Estudillo Avenue\, San Leandros\, 94577
CATEGORIES:Fireside Room
END:VEVENT
BEGIN:VEVENT
DTSTART;TZID=America/Los_Angeles:20290417T180000
DTEND;TZID=America/Los_Angeles:20290417T190000
DTSTAMP:20260422T151634
CREATED:20260326T171555Z
LAST-MODIFIED:20260326T171555Z
UID:10000826-1871143200-1871146800@firstpresbyterianchurchsl.org
SUMMARY:Session Meeting
DESCRIPTION:
URL:https://firstpresbyterianchurchsl.org/event/session-meeting/2029-04-17/
LOCATION:First Presbyterian Church of San Leandro\, 180 Estudillo Avenue\, San Leandros\, 94577
CATEGORIES:Fireside Room
END:VEVENT
BEGIN:VEVENT
DTSTART;TZID=America/Los_Angeles:20290515T180000
DTEND;TZID=America/Los_Angeles:20290515T190000
DTSTAMP:20260422T151634
CREATED:20260326T171555Z
LAST-MODIFIED:20260326T171555Z
UID:10000827-1873562400-1873566000@firstpresbyterianchurchsl.org
SUMMARY:Session Meeting
DESCRIPTION:
URL:https://firstpresbyterianchurchsl.org/event/session-meeting/2029-05-15/
LOCATION:First Presbyterian Church of San Leandro\, 180 Estudillo Avenue\, San Leandros\, 94577
CATEGORIES:Fireside Room
END:VEVENT
BEGIN:VEVENT
DTSTART;TZID=America/Los_Angeles:20290619T180000
DTEND;TZID=America/Los_Angeles:20290619T190000
DTSTAMP:20260422T151634
CREATED:20260326T171555Z
LAST-MODIFIED:20260326T171555Z
UID:10000828-1876586400-1876590000@firstpresbyterianchurchsl.org
SUMMARY:Session Meeting
DESCRIPTION:
URL:https://firstpresbyterianchurchsl.org/event/session-meeting/2029-06-19/
LOCATION:First Presbyterian Church of San Leandro\, 180 Estudillo Avenue\, San Leandros\, 94577
CATEGORIES:Fireside Room
END:VEVENT
BEGIN:VEVENT
DTSTART;TZID=America/Los_Angeles:20290717T180000
DTEND;TZID=America/Los_Angeles:20290717T190000
DTSTAMP:20260422T151634
CREATED:20260326T171555Z
LAST-MODIFIED:20260326T171555Z
UID:10000829-1879005600-1879009200@firstpresbyterianchurchsl.org
SUMMARY:Session Meeting
DESCRIPTION:
URL:https://firstpresbyterianchurchsl.org/event/session-meeting/2029-07-17/
LOCATION:First Presbyterian Church of San Leandro\, 180 Estudillo Avenue\, San Leandros\, 94577
CATEGORIES:Fireside Room
END:VEVENT
BEGIN:VEVENT
DTSTART;TZID=America/Los_Angeles:20290821T180000
DTEND;TZID=America/Los_Angeles:20290821T190000
DTSTAMP:20260422T151634
CREATED:20260326T171555Z
LAST-MODIFIED:20260326T171555Z
UID:10000830-1882029600-1882033200@firstpresbyterianchurchsl.org
SUMMARY:Session Meeting
DESCRIPTION:
URL:https://firstpresbyterianchurchsl.org/event/session-meeting/2029-08-21/
LOCATION:First Presbyterian Church of San Leandro\, 180 Estudillo Avenue\, San Leandros\, 94577
CATEGORIES:Fireside Room
END:VEVENT
BEGIN:VEVENT
DTSTART;TZID=America/Los_Angeles:20290918T180000
DTEND;TZID=America/Los_Angeles:20290918T190000
DTSTAMP:20260422T151634
CREATED:20260326T171555Z
LAST-MODIFIED:20260326T171555Z
UID:10000831-1884448800-1884452400@firstpresbyterianchurchsl.org
SUMMARY:Session Meeting
DESCRIPTION:
URL:https://firstpresbyterianchurchsl.org/event/session-meeting/2029-09-18/
LOCATION:First Presbyterian Church of San Leandro\, 180 Estudillo Avenue\, San Leandros\, 94577
CATEGORIES:Fireside Room
END:VEVENT
BEGIN:VEVENT
DTSTART;TZID=America/Los_Angeles:20291016T180000
DTEND;TZID=America/Los_Angeles:20291016T190000
DTSTAMP:20260422T151634
CREATED:20260326T171555Z
LAST-MODIFIED:20260326T171555Z
UID:10000832-1886868000-1886871600@firstpresbyterianchurchsl.org
SUMMARY:Session Meeting
DESCRIPTION:
URL:https://firstpresbyterianchurchsl.org/event/session-meeting/2029-10-16/
LOCATION:First Presbyterian Church of San Leandro\, 180 Estudillo Avenue\, San Leandros\, 94577
CATEGORIES:Fireside Room
END:VEVENT
BEGIN:VEVENT
DTSTART;TZID=America/Los_Angeles:20291120T180000
DTEND;TZID=America/Los_Angeles:20291120T190000
DTSTAMP:20260422T151634
CREATED:20260326T171555Z
LAST-MODIFIED:20260326T171555Z
UID:10000833-1889892000-1889895600@firstpresbyterianchurchsl.org
SUMMARY:Session Meeting
DESCRIPTION:
URL:https://firstpresbyterianchurchsl.org/event/session-meeting/2029-11-20/
LOCATION:First Presbyterian Church of San Leandro\, 180 Estudillo Avenue\, San Leandros\, 94577
CATEGORIES:Fireside Room
END:VEVENT
BEGIN:VEVENT
DTSTART;TZID=America/Los_Angeles:20291218T180000
DTEND;TZID=America/Los_Angeles:20291218T190000
DTSTAMP:20260422T151634
CREATED:20260326T171555Z
LAST-MODIFIED:20260326T171555Z
UID:10000834-1892311200-1892314800@firstpresbyterianchurchsl.org
SUMMARY:Session Meeting
DESCRIPTION:
URL:https://firstpresbyterianchurchsl.org/event/session-meeting/2029-12-18/
LOCATION:First Presbyterian Church of San Leandro\, 180 Estudillo Avenue\, San Leandros\, 94577
CATEGORIES:Fireside Room
END:VEVENT
BEGIN:VEVENT
DTSTART;TZID=America/Los_Angeles:20300115T180000
DTEND;TZID=America/Los_Angeles:20300115T190000
DTSTAMP:20260422T151634
CREATED:20260326T171555Z
LAST-MODIFIED:20260326T171555Z
UID:10000835-1894730400-1894734000@firstpresbyterianchurchsl.org
SUMMARY:Session Meeting
DESCRIPTION:
URL:https://firstpresbyterianchurchsl.org/event/session-meeting/2030-01-15/
LOCATION:First Presbyterian Church of San Leandro\, 180 Estudillo Avenue\, San Leandros\, 94577
CATEGORIES:Fireside Room
END:VEVENT
BEGIN:VEVENT
DTSTART;TZID=America/Los_Angeles:20300219T180000
DTEND;TZID=America/Los_Angeles:20300219T190000
DTSTAMP:20260422T151634
CREATED:20260326T171555Z
LAST-MODIFIED:20260326T171555Z
UID:10000836-1897754400-1897758000@firstpresbyterianchurchsl.org
SUMMARY:Session Meeting
DESCRIPTION:
URL:https://firstpresbyterianchurchsl.org/event/session-meeting/2030-02-19/
LOCATION:First Presbyterian Church of San Leandro\, 180 Estudillo Avenue\, San Leandros\, 94577
CATEGORIES:Fireside Room
END:VEVENT
BEGIN:VEVENT
DTSTART;TZID=America/Los_Angeles:20300319T180000
DTEND;TZID=America/Los_Angeles:20300319T190000
DTSTAMP:20260422T151634
CREATED:20260326T171555Z
LAST-MODIFIED:20260326T171555Z
UID:10000837-1900173600-1900177200@firstpresbyterianchurchsl.org
SUMMARY:Session Meeting
DESCRIPTION:
URL:https://firstpresbyterianchurchsl.org/event/session-meeting/2030-03-19/
LOCATION:First Presbyterian Church of San Leandro\, 180 Estudillo Avenue\, San Leandros\, 94577
CATEGORIES:Fireside Room
END:VEVENT
BEGIN:VEVENT
DTSTART;TZID=America/Los_Angeles:20300416T180000
DTEND;TZID=America/Los_Angeles:20300416T190000
DTSTAMP:20260422T151634
CREATED:20260326T171555Z
LAST-MODIFIED:20260326T171555Z
UID:10000838-1902592800-1902596400@firstpresbyterianchurchsl.org
SUMMARY:Session Meeting
DESCRIPTION:
URL:https://firstpresbyterianchurchsl.org/event/session-meeting/2030-04-16/
LOCATION:First Presbyterian Church of San Leandro\, 180 Estudillo Avenue\, San Leandros\, 94577
CATEGORIES:Fireside Room
END:VEVENT
BEGIN:VEVENT
DTSTART;TZID=America/Los_Angeles:20300521T180000
DTEND;TZID=America/Los_Angeles:20300521T190000
DTSTAMP:20260422T151634
CREATED:20260326T171555Z
LAST-MODIFIED:20260326T171555Z
UID:10000839-1905616800-1905620400@firstpresbyterianchurchsl.org
SUMMARY:Session Meeting
DESCRIPTION:
URL:https://firstpresbyterianchurchsl.org/event/session-meeting/2030-05-21/
LOCATION:First Presbyterian Church of San Leandro\, 180 Estudillo Avenue\, San Leandros\, 94577
CATEGORIES:Fireside Room
END:VEVENT
BEGIN:VEVENT
DTSTART;TZID=America/Los_Angeles:20300618T180000
DTEND;TZID=America/Los_Angeles:20300618T190000
DTSTAMP:20260422T151634
CREATED:20260326T171555Z
LAST-MODIFIED:20260326T171555Z
UID:10000840-1908036000-1908039600@firstpresbyterianchurchsl.org
SUMMARY:Session Meeting
DESCRIPTION:
URL:https://firstpresbyterianchurchsl.org/event/session-meeting/2030-06-18/
LOCATION:First Presbyterian Church of San Leandro\, 180 Estudillo Avenue\, San Leandros\, 94577
CATEGORIES:Fireside Room
END:VEVENT
BEGIN:VEVENT
DTSTART;TZID=America/Los_Angeles:20300716T180000
DTEND;TZID=America/Los_Angeles:20300716T190000
DTSTAMP:20260422T151634
CREATED:20260326T171555Z
LAST-MODIFIED:20260326T171555Z
UID:10000841-1910455200-1910458800@firstpresbyterianchurchsl.org
SUMMARY:Session Meeting
DESCRIPTION:
URL:https://firstpresbyterianchurchsl.org/event/session-meeting/2030-07-16/
LOCATION:First Presbyterian Church of San Leandro\, 180 Estudillo Avenue\, San Leandros\, 94577
CATEGORIES:Fireside Room
END:VEVENT
BEGIN:VEVENT
DTSTART;TZID=America/Los_Angeles:20300820T180000
DTEND;TZID=America/Los_Angeles:20300820T190000
DTSTAMP:20260422T151634
CREATED:20260326T171555Z
LAST-MODIFIED:20260326T171555Z
UID:10000842-1913479200-1913482800@firstpresbyterianchurchsl.org
SUMMARY:Session Meeting
DESCRIPTION:
URL:https://firstpresbyterianchurchsl.org/event/session-meeting/2030-08-20/
LOCATION:First Presbyterian Church of San Leandro\, 180 Estudillo Avenue\, San Leandros\, 94577
CATEGORIES:Fireside Room
END:VEVENT
BEGIN:VEVENT
DTSTART;TZID=America/Los_Angeles:20300917T180000
DTEND;TZID=America/Los_Angeles:20300917T190000
DTSTAMP:20260422T151634
CREATED:20260326T171555Z
LAST-MODIFIED:20260326T171555Z
UID:10000843-1915898400-1915902000@firstpresbyterianchurchsl.org
SUMMARY:Session Meeting
DESCRIPTION:
URL:https://firstpresbyterianchurchsl.org/event/session-meeting/2030-09-17/
LOCATION:First Presbyterian Church of San Leandro\, 180 Estudillo Avenue\, San Leandros\, 94577
CATEGORIES:Fireside Room
END:VEVENT
BEGIN:VEVENT
DTSTART;TZID=America/Los_Angeles:20301015T180000
DTEND;TZID=America/Los_Angeles:20301015T190000
DTSTAMP:20260422T151634
CREATED:20260326T171555Z
LAST-MODIFIED:20260326T171555Z
UID:10000844-1918317600-1918321200@firstpresbyterianchurchsl.org
SUMMARY:Session Meeting
DESCRIPTION:
URL:https://firstpresbyterianchurchsl.org/event/session-meeting/2030-10-15/
LOCATION:First Presbyterian Church of San Leandro\, 180 Estudillo Avenue\, San Leandros\, 94577
CATEGORIES:Fireside Room
END:VEVENT
BEGIN:VEVENT
DTSTART;TZID=America/Los_Angeles:20301119T180000
DTEND;TZID=America/Los_Angeles:20301119T190000
DTSTAMP:20260422T151634
CREATED:20260326T171555Z
LAST-MODIFIED:20260326T171555Z
UID:10000845-1921341600-1921345200@firstpresbyterianchurchsl.org
SUMMARY:Session Meeting
DESCRIPTION:
URL:https://firstpresbyterianchurchsl.org/event/session-meeting/2030-11-19/
LOCATION:First Presbyterian Church of San Leandro\, 180 Estudillo Avenue\, San Leandros\, 94577
CATEGORIES:Fireside Room
END:VEVENT
BEGIN:VEVENT
DTSTART;TZID=America/Los_Angeles:20301217T180000
DTEND;TZID=America/Los_Angeles:20301217T190000
DTSTAMP:20260422T151634
CREATED:20260326T171555Z
LAST-MODIFIED:20260326T171555Z
UID:10000846-1923760800-1923764400@firstpresbyterianchurchsl.org
SUMMARY:Session Meeting
DESCRIPTION:
URL:https://firstpresbyterianchurchsl.org/event/session-meeting/2030-12-17/
LOCATION:First Presbyterian Church of San Leandro\, 180 Estudillo Avenue\, San Leandros\, 94577
CATEGORIES:Fireside Room
END:VEVENT
END:VCALENDAR