BEGIN:VCALENDAR
VERSION:2.0
PRODID:-//First Presbyterian Church SL - ECPv6.15.20//NONSGML v1.0//EN
CALSCALE:GREGORIAN
METHOD:PUBLISH
X-ORIGINAL-URL:https://firstpresbyterianchurchsl.org
X-WR-CALDESC:Events for First Presbyterian Church SL
REFRESH-INTERVAL;VALUE=DURATION:PT1H
X-Robots-Tag:noindex
X-PUBLISHED-TTL:PT1H
BEGIN:VTIMEZONE
TZID:America/Los_Angeles
BEGIN:DAYLIGHT
TZOFFSETFROM:-0800
TZOFFSETTO:-0700
TZNAME:PDT
DTSTART:20250309T100000
END:DAYLIGHT
BEGIN:STANDARD
TZOFFSETFROM:-0700
TZOFFSETTO:-0800
TZNAME:PST
DTSTART:20251102T090000
END:STANDARD
BEGIN:DAYLIGHT
TZOFFSETFROM:-0800
TZOFFSETTO:-0700
TZNAME:PDT
DTSTART:20260308T100000
END:DAYLIGHT
BEGIN:STANDARD
TZOFFSETFROM:-0700
TZOFFSETTO:-0800
TZNAME:PST
DTSTART:20261101T090000
END:STANDARD
BEGIN:DAYLIGHT
TZOFFSETFROM:-0800
TZOFFSETTO:-0700
TZNAME:PDT
DTSTART:20270314T100000
END:DAYLIGHT
BEGIN:STANDARD
TZOFFSETFROM:-0700
TZOFFSETTO:-0800
TZNAME:PST
DTSTART:20271107T090000
END:STANDARD
END:VTIMEZONE
BEGIN:VEVENT
DTSTART;TZID=America/Los_Angeles:20260301T083000
DTEND;TZID=America/Los_Angeles:20260301T091000
DTSTAMP:20260421T164236
CREATED:20260324T162404Z
LAST-MODIFIED:20260324T162404Z
UID:10000494-1772353800-1772356200@firstpresbyterianchurchsl.org
SUMMARY:Chancel Choir Rehearsal
DESCRIPTION:
URL:https://firstpresbyterianchurchsl.org/event/chancel-choir-rehearsal/2026-03-01/
LOCATION:First Presbyterian Church of San Leandro\, 180 Estudillo Avenue\, San Leandros\, 94577
CATEGORIES:Fireside Room
END:VEVENT
BEGIN:VEVENT
DTSTART;TZID=America/Los_Angeles:20260301T110000
DTEND;TZID=America/Los_Angeles:20260301T120000
DTSTAMP:20260421T164236
CREATED:20260325T184350Z
LAST-MODIFIED:20260325T184350Z
UID:10000766-1772362800-1772366400@firstpresbyterianchurchsl.org
SUMMARY:The Years of Ripening Class
DESCRIPTION:
URL:https://firstpresbyterianchurchsl.org/event/the-years-of-ripening-class/2026-03-01/
LOCATION:First Presbyterian Church of San Leandro\, 180 Estudillo Avenue\, San Leandros\, 94577
CATEGORIES:Fireside Room
END:VEVENT
BEGIN:VEVENT
DTSTART;TZID=America/Los_Angeles:20260302T181700
DTEND;TZID=America/Los_Angeles:20260302T193000
DTSTAMP:20260421T164236
CREATED:20260325T182826Z
LAST-MODIFIED:20260325T182826Z
UID:10000730-1772475420-1772479800@firstpresbyterianchurchsl.org
SUMMARY:Chancel Bells Rehearsal
DESCRIPTION:
URL:https://firstpresbyterianchurchsl.org/event/chancel-bells-rehearsal/2026-03-02/
LOCATION:First Presbyterian Church of San Leandro\, 180 Estudillo Avenue\, San Leandros\, 94577
CATEGORIES:Fireside Room
END:VEVENT
BEGIN:VEVENT
DTSTART;TZID=America/Los_Angeles:20260303T133000
DTEND;TZID=America/Los_Angeles:20260303T143000
DTSTAMP:20260421T164236
CREATED:20260326T181732Z
LAST-MODIFIED:20260326T181732Z
UID:10000930-1772544600-1772548200@firstpresbyterianchurchsl.org
SUMMARY:Let's Read This Book!
DESCRIPTION:
URL:https://firstpresbyterianchurchsl.org/event/lets-read-this-book/2026-03-03/
LOCATION:First Presbyterian Church of San Leandro\, 180 Estudillo Avenue\, San Leandros\, 94577
CATEGORIES:Fireside Room
END:VEVENT
BEGIN:VEVENT
DTSTART;TZID=America/Los_Angeles:20260304T173000
DTEND;TZID=America/Los_Angeles:20260304T183000
DTSTAMP:20260421T164236
CREATED:20260326T183137Z
LAST-MODIFIED:20260326T183137Z
UID:10000943-1772645400-1772649000@firstpresbyterianchurchsl.org
SUMMARY:Casseroles & Questions
DESCRIPTION:
URL:https://firstpresbyterianchurchsl.org/event/casseroles-questions/2026-03-04/
LOCATION:First Presbyterian Church of San Leandro\, 180 Estudillo Avenue\, San Leandros\, 94577
CATEGORIES:Fireside Room
END:VEVENT
BEGIN:VEVENT
DTSTART;TZID=America/Los_Angeles:20260305T170000
DTEND;TZID=America/Los_Angeles:20260305T190000
DTSTAMP:20260421T164236
CREATED:20260326T183235Z
LAST-MODIFIED:20260326T183235Z
UID:10000947-1772730000-1772737200@firstpresbyterianchurchsl.org
SUMMARY:PNC Meeting
DESCRIPTION:
URL:https://firstpresbyterianchurchsl.org/event/pnc-meeting/
LOCATION:First Presbyterian Church of San Leandro\, 180 Estudillo Avenue\, San Leandros\, 94577
CATEGORIES:Fireside Room
END:VEVENT
BEGIN:VEVENT
DTSTART;TZID=America/Los_Angeles:20260308T083000
DTEND;TZID=America/Los_Angeles:20260308T091000
DTSTAMP:20260421T164236
CREATED:20260324T162404Z
LAST-MODIFIED:20260324T162404Z
UID:10000495-1772958600-1772961000@firstpresbyterianchurchsl.org
SUMMARY:Chancel Choir Rehearsal
DESCRIPTION:
URL:https://firstpresbyterianchurchsl.org/event/chancel-choir-rehearsal/2026-03-08/
LOCATION:First Presbyterian Church of San Leandro\, 180 Estudillo Avenue\, San Leandros\, 94577
CATEGORIES:Fireside Room
END:VEVENT
BEGIN:VEVENT
DTSTART;TZID=America/Los_Angeles:20260309T181700
DTEND;TZID=America/Los_Angeles:20260309T193000
DTSTAMP:20260421T164236
CREATED:20260325T182826Z
LAST-MODIFIED:20260325T182826Z
UID:10000731-1773080220-1773084600@firstpresbyterianchurchsl.org
SUMMARY:Chancel Bells Rehearsal
DESCRIPTION:
URL:https://firstpresbyterianchurchsl.org/event/chancel-bells-rehearsal/2026-03-09/
LOCATION:First Presbyterian Church of San Leandro\, 180 Estudillo Avenue\, San Leandros\, 94577
CATEGORIES:Fireside Room
END:VEVENT
BEGIN:VEVENT
DTSTART;TZID=America/Los_Angeles:20260310T133000
DTEND;TZID=America/Los_Angeles:20260310T143000
DTSTAMP:20260421T164236
CREATED:20260326T181732Z
LAST-MODIFIED:20260326T181732Z
UID:10000931-1773149400-1773153000@firstpresbyterianchurchsl.org
SUMMARY:Let's Read This Book!
DESCRIPTION:
URL:https://firstpresbyterianchurchsl.org/event/lets-read-this-book/2026-03-10/
LOCATION:First Presbyterian Church of San Leandro\, 180 Estudillo Avenue\, San Leandros\, 94577
CATEGORIES:Fireside Room
END:VEVENT
BEGIN:VEVENT
DTSTART;TZID=America/Los_Angeles:20260311T173000
DTEND;TZID=America/Los_Angeles:20260311T183000
DTSTAMP:20260421T164236
CREATED:20260326T183137Z
LAST-MODIFIED:20260326T183137Z
UID:10000944-1773250200-1773253800@firstpresbyterianchurchsl.org
SUMMARY:Casseroles & Questions
DESCRIPTION:
URL:https://firstpresbyterianchurchsl.org/event/casseroles-questions/2026-03-11/
LOCATION:First Presbyterian Church of San Leandro\, 180 Estudillo Avenue\, San Leandros\, 94577
CATEGORIES:Fireside Room
END:VEVENT
BEGIN:VEVENT
DTSTART;TZID=America/Los_Angeles:20260312T123000
DTEND;TZID=America/Los_Angeles:20260312T143000
DTSTAMP:20260421T164236
CREATED:20260325T183135Z
LAST-MODIFIED:20260325T183135Z
UID:10000749-1773318600-1773325800@firstpresbyterianchurchsl.org
SUMMARY:Heart to Heart Women's Ministry
DESCRIPTION:
URL:https://firstpresbyterianchurchsl.org/event/heart-to-heart-womens-ministry-2/2026-03-12/
LOCATION:First Presbyterian Church of San Leandro\, 180 Estudillo Avenue\, San Leandros\, 94577
CATEGORIES:Fireside Room
END:VEVENT
BEGIN:VEVENT
DTSTART;TZID=America/Los_Angeles:20260312T190000
DTEND;TZID=America/Los_Angeles:20260312T201500
DTSTAMP:20260421T164236
CREATED:20260325T183852Z
LAST-MODIFIED:20260325T183852Z
UID:10000755-1773342000-1773346500@firstpresbyterianchurchsl.org
SUMMARY:Chancel Choir Rehearsal
DESCRIPTION:
URL:https://firstpresbyterianchurchsl.org/event/chancel-choir-rehearsal-2/2026-03-12/
LOCATION:First Presbyterian Church of San Leandro\, 180 Estudillo Avenue\, San Leandros\, 94577
CATEGORIES:Fireside Room
END:VEVENT
BEGIN:VEVENT
DTSTART;TZID=America/Los_Angeles:20260315T083000
DTEND;TZID=America/Los_Angeles:20260315T091000
DTSTAMP:20260421T164236
CREATED:20260324T162404Z
LAST-MODIFIED:20260324T162404Z
UID:10000496-1773563400-1773565800@firstpresbyterianchurchsl.org
SUMMARY:Chancel Choir Rehearsal
DESCRIPTION:
URL:https://firstpresbyterianchurchsl.org/event/chancel-choir-rehearsal/2026-03-15/
LOCATION:First Presbyterian Church of San Leandro\, 180 Estudillo Avenue\, San Leandros\, 94577
CATEGORIES:Fireside Room
END:VEVENT
BEGIN:VEVENT
DTSTART;TZID=America/Los_Angeles:20260315T110000
DTEND;TZID=America/Los_Angeles:20260315T120000
DTSTAMP:20260421T164236
CREATED:20260325T184350Z
LAST-MODIFIED:20260325T184350Z
UID:10000767-1773572400-1773576000@firstpresbyterianchurchsl.org
SUMMARY:The Years of Ripening Class
DESCRIPTION:
URL:https://firstpresbyterianchurchsl.org/event/the-years-of-ripening-class/2026-03-15/
LOCATION:First Presbyterian Church of San Leandro\, 180 Estudillo Avenue\, San Leandros\, 94577
CATEGORIES:Fireside Room
END:VEVENT
BEGIN:VEVENT
DTSTART;TZID=America/Los_Angeles:20260316T181700
DTEND;TZID=America/Los_Angeles:20260316T193000
DTSTAMP:20260421T164236
CREATED:20260325T182826Z
LAST-MODIFIED:20260325T182826Z
UID:10000732-1773685020-1773689400@firstpresbyterianchurchsl.org
SUMMARY:Chancel Bells Rehearsal
DESCRIPTION:
URL:https://firstpresbyterianchurchsl.org/event/chancel-bells-rehearsal/2026-03-16/
LOCATION:First Presbyterian Church of San Leandro\, 180 Estudillo Avenue\, San Leandros\, 94577
CATEGORIES:Fireside Room
END:VEVENT
BEGIN:VEVENT
DTSTART;TZID=America/Los_Angeles:20260317T133000
DTEND;TZID=America/Los_Angeles:20260317T143000
DTSTAMP:20260421T164236
CREATED:20260326T181732Z
LAST-MODIFIED:20260326T181732Z
UID:10000932-1773754200-1773757800@firstpresbyterianchurchsl.org
SUMMARY:Let's Read This Book!
DESCRIPTION:
URL:https://firstpresbyterianchurchsl.org/event/lets-read-this-book/2026-03-17/
LOCATION:First Presbyterian Church of San Leandro\, 180 Estudillo Avenue\, San Leandros\, 94577
CATEGORIES:Fireside Room
END:VEVENT
BEGIN:VEVENT
DTSTART;TZID=America/Los_Angeles:20260317T180000
DTEND;TZID=America/Los_Angeles:20260317T190000
DTSTAMP:20260421T164236
CREATED:20260326T171555Z
LAST-MODIFIED:20260326T171555Z
UID:10000789-1773770400-1773774000@firstpresbyterianchurchsl.org
SUMMARY:Session Meeting
DESCRIPTION:
URL:https://firstpresbyterianchurchsl.org/event/session-meeting/2026-03-17/
LOCATION:First Presbyterian Church of San Leandro\, 180 Estudillo Avenue\, San Leandros\, 94577
CATEGORIES:Fireside Room
END:VEVENT
BEGIN:VEVENT
DTSTART;TZID=America/Los_Angeles:20260318T173000
DTEND;TZID=America/Los_Angeles:20260318T183000
DTSTAMP:20260421T164236
CREATED:20260326T183137Z
LAST-MODIFIED:20260326T183137Z
UID:10000945-1773855000-1773858600@firstpresbyterianchurchsl.org
SUMMARY:Casseroles & Questions
DESCRIPTION:
URL:https://firstpresbyterianchurchsl.org/event/casseroles-questions/2026-03-18/
LOCATION:First Presbyterian Church of San Leandro\, 180 Estudillo Avenue\, San Leandros\, 94577
CATEGORIES:Fireside Room
END:VEVENT
BEGIN:VEVENT
DTSTART;TZID=America/Los_Angeles:20260322T083000
DTEND;TZID=America/Los_Angeles:20260322T091000
DTSTAMP:20260421T164236
CREATED:20260324T162404Z
LAST-MODIFIED:20260324T162404Z
UID:10000497-1774168200-1774170600@firstpresbyterianchurchsl.org
SUMMARY:Chancel Choir Rehearsal
DESCRIPTION:
URL:https://firstpresbyterianchurchsl.org/event/chancel-choir-rehearsal/2026-03-22/
LOCATION:First Presbyterian Church of San Leandro\, 180 Estudillo Avenue\, San Leandros\, 94577
CATEGORIES:Fireside Room
END:VEVENT
BEGIN:VEVENT
DTSTART;TZID=America/Los_Angeles:20260322T110000
DTEND;TZID=America/Los_Angeles:20260322T120000
DTSTAMP:20260421T164236
CREATED:20260325T184350Z
LAST-MODIFIED:20260325T184350Z
UID:10000768-1774177200-1774180800@firstpresbyterianchurchsl.org
SUMMARY:The Years of Ripening Class
DESCRIPTION:
URL:https://firstpresbyterianchurchsl.org/event/the-years-of-ripening-class/2026-03-22/
LOCATION:First Presbyterian Church of San Leandro\, 180 Estudillo Avenue\, San Leandros\, 94577
CATEGORIES:Fireside Room
END:VEVENT
BEGIN:VEVENT
DTSTART;TZID=America/Los_Angeles:20260323T181700
DTEND;TZID=America/Los_Angeles:20260323T193000
DTSTAMP:20260421T164236
CREATED:20260325T182826Z
LAST-MODIFIED:20260325T182826Z
UID:10000733-1774289820-1774294200@firstpresbyterianchurchsl.org
SUMMARY:Chancel Bells Rehearsal
DESCRIPTION:
URL:https://firstpresbyterianchurchsl.org/event/chancel-bells-rehearsal/2026-03-23/
LOCATION:First Presbyterian Church of San Leandro\, 180 Estudillo Avenue\, San Leandros\, 94577
CATEGORIES:Fireside Room
END:VEVENT
BEGIN:VEVENT
DTSTART;TZID=America/Los_Angeles:20260324T133000
DTEND;TZID=America/Los_Angeles:20260324T143000
DTSTAMP:20260421T164236
CREATED:20260326T181732Z
LAST-MODIFIED:20260326T181732Z
UID:10000933-1774359000-1774362600@firstpresbyterianchurchsl.org
SUMMARY:Let's Read This Book!
DESCRIPTION:
URL:https://firstpresbyterianchurchsl.org/event/lets-read-this-book/2026-03-24/
LOCATION:First Presbyterian Church of San Leandro\, 180 Estudillo Avenue\, San Leandros\, 94577
CATEGORIES:Fireside Room
END:VEVENT
BEGIN:VEVENT
DTSTART;TZID=America/Los_Angeles:20260325T173000
DTEND;TZID=America/Los_Angeles:20260325T183000
DTSTAMP:20260421T164236
CREATED:20260326T183137Z
LAST-MODIFIED:20260326T183137Z
UID:10000946-1774459800-1774463400@firstpresbyterianchurchsl.org
SUMMARY:Casseroles & Questions
DESCRIPTION:
URL:https://firstpresbyterianchurchsl.org/event/casseroles-questions/2026-03-25/
LOCATION:First Presbyterian Church of San Leandro\, 180 Estudillo Avenue\, San Leandros\, 94577
CATEGORIES:Fireside Room
END:VEVENT
BEGIN:VEVENT
DTSTART;TZID=America/Los_Angeles:20260326T190000
DTEND;TZID=America/Los_Angeles:20260326T201500
DTSTAMP:20260421T164236
CREATED:20260326T165949Z
LAST-MODIFIED:20260326T165949Z
UID:10000783-1774551600-1774556100@firstpresbyterianchurchsl.org
SUMMARY:Chancel Choir Rehearsal
DESCRIPTION:
URL:https://firstpresbyterianchurchsl.org/event/chancel-choir-rehearsal-4/2026-03-26/
LOCATION:First Presbyterian Church of San Leandro\, 180 Estudillo Avenue\, San Leandros\, 94577
CATEGORIES:Fireside Room
END:VEVENT
BEGIN:VEVENT
DTSTART;TZID=America/Los_Angeles:20260329T083000
DTEND;TZID=America/Los_Angeles:20260329T091000
DTSTAMP:20260421T164236
CREATED:20260324T162404Z
LAST-MODIFIED:20260324T162404Z
UID:10000498-1774773000-1774775400@firstpresbyterianchurchsl.org
SUMMARY:Chancel Choir Rehearsal
DESCRIPTION:
URL:https://firstpresbyterianchurchsl.org/event/chancel-choir-rehearsal/2026-03-29/
LOCATION:First Presbyterian Church of San Leandro\, 180 Estudillo Avenue\, San Leandros\, 94577
CATEGORIES:Fireside Room
END:VEVENT
BEGIN:VEVENT
DTSTART;TZID=America/Los_Angeles:20260329T110000
DTEND;TZID=America/Los_Angeles:20260329T120000
DTSTAMP:20260421T164236
CREATED:20260325T184350Z
LAST-MODIFIED:20260325T184350Z
UID:10000769-1774782000-1774785600@firstpresbyterianchurchsl.org
SUMMARY:The Years of Ripening Class
DESCRIPTION:
URL:https://firstpresbyterianchurchsl.org/event/the-years-of-ripening-class/2026-03-29/
LOCATION:First Presbyterian Church of San Leandro\, 180 Estudillo Avenue\, San Leandros\, 94577
CATEGORIES:Fireside Room
END:VEVENT
BEGIN:VEVENT
DTSTART;TZID=America/Los_Angeles:20260330T181700
DTEND;TZID=America/Los_Angeles:20260330T193000
DTSTAMP:20260421T164236
CREATED:20260325T182826Z
LAST-MODIFIED:20260325T182826Z
UID:10000734-1774894620-1774899000@firstpresbyterianchurchsl.org
SUMMARY:Chancel Bells Rehearsal
DESCRIPTION:
URL:https://firstpresbyterianchurchsl.org/event/chancel-bells-rehearsal/2026-03-30/
LOCATION:First Presbyterian Church of San Leandro\, 180 Estudillo Avenue\, San Leandros\, 94577
CATEGORIES:Fireside Room
END:VEVENT
BEGIN:VEVENT
DTSTART;TZID=America/Los_Angeles:20260331T133000
DTEND;TZID=America/Los_Angeles:20260331T143000
DTSTAMP:20260421T164236
CREATED:20260326T181732Z
LAST-MODIFIED:20260326T181732Z
UID:10000934-1774963800-1774967400@firstpresbyterianchurchsl.org
SUMMARY:Let's Read This Book!
DESCRIPTION:
URL:https://firstpresbyterianchurchsl.org/event/lets-read-this-book/2026-03-31/
LOCATION:First Presbyterian Church of San Leandro\, 180 Estudillo Avenue\, San Leandros\, 94577
CATEGORIES:Fireside Room
END:VEVENT
BEGIN:VEVENT
DTSTART;TZID=America/Los_Angeles:20260401T103000
DTEND;TZID=America/Los_Angeles:20260401T140000
DTSTAMP:20260421T164236
CREATED:20260401T193423Z
LAST-MODIFIED:20260401T193423Z
UID:10000965-1775039400-1775052000@firstpresbyterianchurchsl.org
SUMMARY:Christian Education Team
DESCRIPTION:
URL:https://firstpresbyterianchurchsl.org/event/christian-education-team/
LOCATION:First Presbyterian Church of San Leandro\, 180 Estudillo Avenue\, San Leandros\, 94577
CATEGORIES:Fireside Room
END:VEVENT
BEGIN:VEVENT
DTSTART;TZID=America/Los_Angeles:20260405T083000
DTEND;TZID=America/Los_Angeles:20260405T091000
DTSTAMP:20260421T164236
CREATED:20260324T162404Z
LAST-MODIFIED:20260324T162404Z
UID:10000499-1775377800-1775380200@firstpresbyterianchurchsl.org
SUMMARY:Chancel Choir Rehearsal
DESCRIPTION:
URL:https://firstpresbyterianchurchsl.org/event/chancel-choir-rehearsal/2026-04-05/
LOCATION:First Presbyterian Church of San Leandro\, 180 Estudillo Avenue\, San Leandros\, 94577
CATEGORIES:Fireside Room
END:VEVENT
END:VCALENDAR