BEGIN:VCALENDAR
VERSION:2.0
PRODID:-//First Presbyterian Church SL - ECPv6.15.20//NONSGML v1.0//EN
CALSCALE:GREGORIAN
METHOD:PUBLISH
X-ORIGINAL-URL:https://firstpresbyterianchurchsl.org
X-WR-CALDESC:Events for First Presbyterian Church SL
REFRESH-INTERVAL;VALUE=DURATION:PT1H
X-Robots-Tag:noindex
X-PUBLISHED-TTL:PT1H
BEGIN:VTIMEZONE
TZID:America/Los_Angeles
BEGIN:DAYLIGHT
TZOFFSETFROM:-0800
TZOFFSETTO:-0700
TZNAME:PDT
DTSTART:20250309T100000
END:DAYLIGHT
BEGIN:STANDARD
TZOFFSETFROM:-0700
TZOFFSETTO:-0800
TZNAME:PST
DTSTART:20251102T090000
END:STANDARD
BEGIN:DAYLIGHT
TZOFFSETFROM:-0800
TZOFFSETTO:-0700
TZNAME:PDT
DTSTART:20260308T100000
END:DAYLIGHT
BEGIN:STANDARD
TZOFFSETFROM:-0700
TZOFFSETTO:-0800
TZNAME:PST
DTSTART:20261101T090000
END:STANDARD
BEGIN:DAYLIGHT
TZOFFSETFROM:-0800
TZOFFSETTO:-0700
TZNAME:PDT
DTSTART:20270314T100000
END:DAYLIGHT
BEGIN:STANDARD
TZOFFSETFROM:-0700
TZOFFSETTO:-0800
TZNAME:PST
DTSTART:20271107T090000
END:STANDARD
END:VTIMEZONE
BEGIN:VEVENT
DTSTART;TZID=America/Los_Angeles:20260502T073000
DTEND;TZID=America/Los_Angeles:20260502T083000
DTSTAMP:20260421T150054
CREATED:20260324T162141Z
LAST-MODIFIED:20260326T170223Z
UID:10000485-1777707000-1777710600@firstpresbyterianchurchsl.org
SUMMARY:Men's Bible Study and Breakfast/Women's Fellowship Breakfast @ Manor Grill
DESCRIPTION:Join us for a relaxed morning of conversation\, community\, and breakfast. Each month\, the men gather for a casual Bible study while the women meet at a nearby table for fellowship and connection. \nThis is a welcoming\, informal gathering where you can enjoy good food\, meaningful conversation\, and time together before the day begins. Whether you’re new to the church or have been attending for years\, all are welcome. \nHosted by First Presbyterian Church of San Leandro\, this monthly gathering is a great way to build friendships and grow in faith in a comfortable setting.
URL:https://firstpresbyterianchurchsl.org/event/mens-bible-study-and-breakfast-womens-fellowship-breakfast-manor-grill/2026-05-02/
LOCATION:First Presbyterian Church of San Leandro\, 180 Estudillo Avenue\, San Leandros\, 94577
CATEGORIES:Offsite
END:VEVENT
END:VCALENDAR