BEGIN:VCALENDAR
VERSION:2.0
PRODID:-//First Presbyterian Church SL - ECPv6.15.20//NONSGML v1.0//EN
CALSCALE:GREGORIAN
METHOD:PUBLISH
X-ORIGINAL-URL:https://firstpresbyterianchurchsl.org
X-WR-CALDESC:Events for First Presbyterian Church SL
REFRESH-INTERVAL;VALUE=DURATION:PT1H
X-Robots-Tag:noindex
X-PUBLISHED-TTL:PT1H
BEGIN:VTIMEZONE
TZID:America/Los_Angeles
BEGIN:DAYLIGHT
TZOFFSETFROM:-0800
TZOFFSETTO:-0700
TZNAME:PDT
DTSTART:20300310T100000
END:DAYLIGHT
BEGIN:STANDARD
TZOFFSETFROM:-0700
TZOFFSETTO:-0800
TZNAME:PST
DTSTART:20301103T090000
END:STANDARD
BEGIN:DAYLIGHT
TZOFFSETFROM:-0800
TZOFFSETTO:-0700
TZNAME:PDT
DTSTART:20310309T100000
END:DAYLIGHT
BEGIN:STANDARD
TZOFFSETFROM:-0700
TZOFFSETTO:-0800
TZNAME:PST
DTSTART:20311102T090000
END:STANDARD
BEGIN:DAYLIGHT
TZOFFSETFROM:-0800
TZOFFSETTO:-0700
TZNAME:PDT
DTSTART:20320314T100000
END:DAYLIGHT
BEGIN:STANDARD
TZOFFSETFROM:-0700
TZOFFSETTO:-0800
TZNAME:PST
DTSTART:20321107T090000
END:STANDARD
END:VTIMEZONE
BEGIN:VEVENT
DTSTART;TZID=America/Los_Angeles:20310216T093000
DTEND;TZID=America/Los_Angeles:20310216T103000
DTSTAMP:20260423T151949
CREATED:20260324T160104Z
LAST-MODIFIED:20260324T160104Z
UID:10000474-1929000600-1929004200@firstpresbyterianchurchsl.org
SUMMARY:In-Person Worship Service
DESCRIPTION:Our service includes meaningful music\, prayer\, and a thoughtful message\, followed by a time of fellowship and connection. All are welcome!
URL:https://firstpresbyterianchurchsl.org/event/in-person-worship-service/2031-02-16/
LOCATION:First Presbyterian Church of San Leandro\, 180 Estudillo Avenue\, San Leandros\, 94577
CATEGORIES:Sanctuary
END:VEVENT
BEGIN:VEVENT
DTSTART;TZID=America/Los_Angeles:20310223T093000
DTEND;TZID=America/Los_Angeles:20310223T103000
DTSTAMP:20260423T151949
CREATED:20260324T160104Z
LAST-MODIFIED:20260324T160104Z
UID:10000475-1929605400-1929609000@firstpresbyterianchurchsl.org
SUMMARY:In-Person Worship Service
DESCRIPTION:Our service includes meaningful music\, prayer\, and a thoughtful message\, followed by a time of fellowship and connection. All are welcome!
URL:https://firstpresbyterianchurchsl.org/event/in-person-worship-service/2031-02-23/
LOCATION:First Presbyterian Church of San Leandro\, 180 Estudillo Avenue\, San Leandros\, 94577
CATEGORIES:Sanctuary
END:VEVENT
BEGIN:VEVENT
DTSTART;TZID=America/Los_Angeles:20310302T093000
DTEND;TZID=America/Los_Angeles:20310302T103000
DTSTAMP:20260423T151949
CREATED:20260324T160104Z
LAST-MODIFIED:20260324T160104Z
UID:10000476-1930210200-1930213800@firstpresbyterianchurchsl.org
SUMMARY:In-Person Worship Service
DESCRIPTION:Our service includes meaningful music\, prayer\, and a thoughtful message\, followed by a time of fellowship and connection. All are welcome!
URL:https://firstpresbyterianchurchsl.org/event/in-person-worship-service/2031-03-02/
LOCATION:First Presbyterian Church of San Leandro\, 180 Estudillo Avenue\, San Leandros\, 94577
CATEGORIES:Sanctuary
END:VEVENT
BEGIN:VEVENT
DTSTART;TZID=America/Los_Angeles:20310309T093000
DTEND;TZID=America/Los_Angeles:20310309T103000
DTSTAMP:20260423T151949
CREATED:20260324T160104Z
LAST-MODIFIED:20260324T160104Z
UID:10000477-1930815000-1930818600@firstpresbyterianchurchsl.org
SUMMARY:In-Person Worship Service
DESCRIPTION:Our service includes meaningful music\, prayer\, and a thoughtful message\, followed by a time of fellowship and connection. All are welcome!
URL:https://firstpresbyterianchurchsl.org/event/in-person-worship-service/2031-03-09/
LOCATION:First Presbyterian Church of San Leandro\, 180 Estudillo Avenue\, San Leandros\, 94577
CATEGORIES:Sanctuary
END:VEVENT
BEGIN:VEVENT
DTSTART;TZID=America/Los_Angeles:20310316T093000
DTEND;TZID=America/Los_Angeles:20310316T103000
DTSTAMP:20260423T151949
CREATED:20260324T160104Z
LAST-MODIFIED:20260324T160104Z
UID:10000478-1931419800-1931423400@firstpresbyterianchurchsl.org
SUMMARY:In-Person Worship Service
DESCRIPTION:Our service includes meaningful music\, prayer\, and a thoughtful message\, followed by a time of fellowship and connection. All are welcome!
URL:https://firstpresbyterianchurchsl.org/event/in-person-worship-service/2031-03-16/
LOCATION:First Presbyterian Church of San Leandro\, 180 Estudillo Avenue\, San Leandros\, 94577
CATEGORIES:Sanctuary
END:VEVENT
BEGIN:VEVENT
DTSTART;TZID=America/Los_Angeles:20310323T093000
DTEND;TZID=America/Los_Angeles:20310323T103000
DTSTAMP:20260423T151949
CREATED:20260324T160104Z
LAST-MODIFIED:20260324T160104Z
UID:10000479-1932024600-1932028200@firstpresbyterianchurchsl.org
SUMMARY:In-Person Worship Service
DESCRIPTION:Our service includes meaningful music\, prayer\, and a thoughtful message\, followed by a time of fellowship and connection. All are welcome!
URL:https://firstpresbyterianchurchsl.org/event/in-person-worship-service/2031-03-23/
LOCATION:First Presbyterian Church of San Leandro\, 180 Estudillo Avenue\, San Leandros\, 94577
CATEGORIES:Sanctuary
END:VEVENT
END:VCALENDAR