BEGIN:VCALENDAR
VERSION:2.0
PRODID:-//First Presbyterian Church SL - ECPv6.15.20//NONSGML v1.0//EN
CALSCALE:GREGORIAN
METHOD:PUBLISH
X-WR-CALNAME:First Presbyterian Church SL
X-ORIGINAL-URL:https://firstpresbyterianchurchsl.org
X-WR-CALDESC:Events for First Presbyterian Church SL
REFRESH-INTERVAL;VALUE=DURATION:PT1H
X-Robots-Tag:noindex
X-PUBLISHED-TTL:PT1H
BEGIN:VTIMEZONE
TZID:America/Los_Angeles
BEGIN:DAYLIGHT
TZOFFSETFROM:-0800
TZOFFSETTO:-0700
TZNAME:PDT
DTSTART:20260308T100000
END:DAYLIGHT
BEGIN:STANDARD
TZOFFSETFROM:-0700
TZOFFSETTO:-0800
TZNAME:PST
DTSTART:20261101T090000
END:STANDARD
BEGIN:DAYLIGHT
TZOFFSETFROM:-0800
TZOFFSETTO:-0700
TZNAME:PDT
DTSTART:20270314T100000
END:DAYLIGHT
BEGIN:STANDARD
TZOFFSETFROM:-0700
TZOFFSETTO:-0800
TZNAME:PST
DTSTART:20271107T090000
END:STANDARD
BEGIN:DAYLIGHT
TZOFFSETFROM:-0800
TZOFFSETTO:-0700
TZNAME:PDT
DTSTART:20280312T100000
END:DAYLIGHT
BEGIN:STANDARD
TZOFFSETFROM:-0700
TZOFFSETTO:-0800
TZNAME:PST
DTSTART:20281105T090000
END:STANDARD
BEGIN:DAYLIGHT
TZOFFSETFROM:-0800
TZOFFSETTO:-0700
TZNAME:PDT
DTSTART:20290311T100000
END:DAYLIGHT
BEGIN:STANDARD
TZOFFSETFROM:-0700
TZOFFSETTO:-0800
TZNAME:PST
DTSTART:20291104T090000
END:STANDARD
END:VTIMEZONE
BEGIN:VEVENT
DTSTART;TZID=America/Los_Angeles:20270711T093000
DTEND;TZID=America/Los_Angeles:20270711T103000
DTSTAMP:20260422T150110
CREATED:20260324T160104Z
LAST-MODIFIED:20260324T160104Z
UID:10000286-1815298200-1815301800@firstpresbyterianchurchsl.org
SUMMARY:In-Person Worship Service
DESCRIPTION:Our service includes meaningful music\, prayer\, and a thoughtful message\, followed by a time of fellowship and connection. All are welcome!
URL:https://firstpresbyterianchurchsl.org/event/in-person-worship-service/2027-07-11/
LOCATION:First Presbyterian Church of San Leandro\, 180 Estudillo Avenue\, San Leandros\, 94577
CATEGORIES:Sanctuary
END:VEVENT
BEGIN:VEVENT
DTSTART;TZID=America/Los_Angeles:20270718T093000
DTEND;TZID=America/Los_Angeles:20270718T103000
DTSTAMP:20260422T150110
CREATED:20260324T160104Z
LAST-MODIFIED:20260324T160104Z
UID:10000287-1815903000-1815906600@firstpresbyterianchurchsl.org
SUMMARY:In-Person Worship Service
DESCRIPTION:Our service includes meaningful music\, prayer\, and a thoughtful message\, followed by a time of fellowship and connection. All are welcome!
URL:https://firstpresbyterianchurchsl.org/event/in-person-worship-service/2027-07-18/
LOCATION:First Presbyterian Church of San Leandro\, 180 Estudillo Avenue\, San Leandros\, 94577
CATEGORIES:Sanctuary
END:VEVENT
BEGIN:VEVENT
DTSTART;TZID=America/Los_Angeles:20270725T093000
DTEND;TZID=America/Los_Angeles:20270725T103000
DTSTAMP:20260422T150110
CREATED:20260324T160104Z
LAST-MODIFIED:20260324T160104Z
UID:10000288-1816507800-1816511400@firstpresbyterianchurchsl.org
SUMMARY:In-Person Worship Service
DESCRIPTION:Our service includes meaningful music\, prayer\, and a thoughtful message\, followed by a time of fellowship and connection. All are welcome!
URL:https://firstpresbyterianchurchsl.org/event/in-person-worship-service/2027-07-25/
LOCATION:First Presbyterian Church of San Leandro\, 180 Estudillo Avenue\, San Leandros\, 94577
CATEGORIES:Sanctuary
END:VEVENT
BEGIN:VEVENT
DTSTART;TZID=America/Los_Angeles:20270801T093000
DTEND;TZID=America/Los_Angeles:20270801T103000
DTSTAMP:20260422T150111
CREATED:20260324T160104Z
LAST-MODIFIED:20260324T160104Z
UID:10000289-1817112600-1817116200@firstpresbyterianchurchsl.org
SUMMARY:In-Person Worship Service
DESCRIPTION:Our service includes meaningful music\, prayer\, and a thoughtful message\, followed by a time of fellowship and connection. All are welcome!
URL:https://firstpresbyterianchurchsl.org/event/in-person-worship-service/2027-08-01/
LOCATION:First Presbyterian Church of San Leandro\, 180 Estudillo Avenue\, San Leandros\, 94577
CATEGORIES:Sanctuary
END:VEVENT
BEGIN:VEVENT
DTSTART;TZID=America/Los_Angeles:20270808T093000
DTEND;TZID=America/Los_Angeles:20270808T103000
DTSTAMP:20260422T150111
CREATED:20260324T160104Z
LAST-MODIFIED:20260324T160104Z
UID:10000290-1817717400-1817721000@firstpresbyterianchurchsl.org
SUMMARY:In-Person Worship Service
DESCRIPTION:Our service includes meaningful music\, prayer\, and a thoughtful message\, followed by a time of fellowship and connection. All are welcome!
URL:https://firstpresbyterianchurchsl.org/event/in-person-worship-service/2027-08-08/
LOCATION:First Presbyterian Church of San Leandro\, 180 Estudillo Avenue\, San Leandros\, 94577
CATEGORIES:Sanctuary
END:VEVENT
BEGIN:VEVENT
DTSTART;TZID=America/Los_Angeles:20270815T093000
DTEND;TZID=America/Los_Angeles:20270815T103000
DTSTAMP:20260422T150111
CREATED:20260324T160104Z
LAST-MODIFIED:20260324T160104Z
UID:10000291-1818322200-1818325800@firstpresbyterianchurchsl.org
SUMMARY:In-Person Worship Service
DESCRIPTION:Our service includes meaningful music\, prayer\, and a thoughtful message\, followed by a time of fellowship and connection. All are welcome!
URL:https://firstpresbyterianchurchsl.org/event/in-person-worship-service/2027-08-15/
LOCATION:First Presbyterian Church of San Leandro\, 180 Estudillo Avenue\, San Leandros\, 94577
CATEGORIES:Sanctuary
END:VEVENT
BEGIN:VEVENT
DTSTART;TZID=America/Los_Angeles:20270822T093000
DTEND;TZID=America/Los_Angeles:20270822T103000
DTSTAMP:20260422T150111
CREATED:20260324T160104Z
LAST-MODIFIED:20260324T160104Z
UID:10000292-1818927000-1818930600@firstpresbyterianchurchsl.org
SUMMARY:In-Person Worship Service
DESCRIPTION:Our service includes meaningful music\, prayer\, and a thoughtful message\, followed by a time of fellowship and connection. All are welcome!
URL:https://firstpresbyterianchurchsl.org/event/in-person-worship-service/2027-08-22/
LOCATION:First Presbyterian Church of San Leandro\, 180 Estudillo Avenue\, San Leandros\, 94577
CATEGORIES:Sanctuary
END:VEVENT
BEGIN:VEVENT
DTSTART;TZID=America/Los_Angeles:20270829T093000
DTEND;TZID=America/Los_Angeles:20270829T103000
DTSTAMP:20260422T150111
CREATED:20260324T160104Z
LAST-MODIFIED:20260324T160104Z
UID:10000293-1819531800-1819535400@firstpresbyterianchurchsl.org
SUMMARY:In-Person Worship Service
DESCRIPTION:Our service includes meaningful music\, prayer\, and a thoughtful message\, followed by a time of fellowship and connection. All are welcome!
URL:https://firstpresbyterianchurchsl.org/event/in-person-worship-service/2027-08-29/
LOCATION:First Presbyterian Church of San Leandro\, 180 Estudillo Avenue\, San Leandros\, 94577
CATEGORIES:Sanctuary
END:VEVENT
BEGIN:VEVENT
DTSTART;TZID=America/Los_Angeles:20270905T093000
DTEND;TZID=America/Los_Angeles:20270905T103000
DTSTAMP:20260422T150111
CREATED:20260324T160104Z
LAST-MODIFIED:20260324T160104Z
UID:10000294-1820136600-1820140200@firstpresbyterianchurchsl.org
SUMMARY:In-Person Worship Service
DESCRIPTION:Our service includes meaningful music\, prayer\, and a thoughtful message\, followed by a time of fellowship and connection. All are welcome!
URL:https://firstpresbyterianchurchsl.org/event/in-person-worship-service/2027-09-05/
LOCATION:First Presbyterian Church of San Leandro\, 180 Estudillo Avenue\, San Leandros\, 94577
CATEGORIES:Sanctuary
END:VEVENT
BEGIN:VEVENT
DTSTART;TZID=America/Los_Angeles:20270912T093000
DTEND;TZID=America/Los_Angeles:20270912T103000
DTSTAMP:20260422T150111
CREATED:20260324T160104Z
LAST-MODIFIED:20260324T160104Z
UID:10000295-1820741400-1820745000@firstpresbyterianchurchsl.org
SUMMARY:In-Person Worship Service
DESCRIPTION:Our service includes meaningful music\, prayer\, and a thoughtful message\, followed by a time of fellowship and connection. All are welcome!
URL:https://firstpresbyterianchurchsl.org/event/in-person-worship-service/2027-09-12/
LOCATION:First Presbyterian Church of San Leandro\, 180 Estudillo Avenue\, San Leandros\, 94577
CATEGORIES:Sanctuary
END:VEVENT
BEGIN:VEVENT
DTSTART;TZID=America/Los_Angeles:20270919T093000
DTEND;TZID=America/Los_Angeles:20270919T103000
DTSTAMP:20260422T150111
CREATED:20260324T160104Z
LAST-MODIFIED:20260324T160104Z
UID:10000296-1821346200-1821349800@firstpresbyterianchurchsl.org
SUMMARY:In-Person Worship Service
DESCRIPTION:Our service includes meaningful music\, prayer\, and a thoughtful message\, followed by a time of fellowship and connection. All are welcome!
URL:https://firstpresbyterianchurchsl.org/event/in-person-worship-service/2027-09-19/
LOCATION:First Presbyterian Church of San Leandro\, 180 Estudillo Avenue\, San Leandros\, 94577
CATEGORIES:Sanctuary
END:VEVENT
BEGIN:VEVENT
DTSTART;TZID=America/Los_Angeles:20270926T093000
DTEND;TZID=America/Los_Angeles:20270926T103000
DTSTAMP:20260422T150111
CREATED:20260324T160104Z
LAST-MODIFIED:20260324T160104Z
UID:10000297-1821951000-1821954600@firstpresbyterianchurchsl.org
SUMMARY:In-Person Worship Service
DESCRIPTION:Our service includes meaningful music\, prayer\, and a thoughtful message\, followed by a time of fellowship and connection. All are welcome!
URL:https://firstpresbyterianchurchsl.org/event/in-person-worship-service/2027-09-26/
LOCATION:First Presbyterian Church of San Leandro\, 180 Estudillo Avenue\, San Leandros\, 94577
CATEGORIES:Sanctuary
END:VEVENT
BEGIN:VEVENT
DTSTART;TZID=America/Los_Angeles:20271003T093000
DTEND;TZID=America/Los_Angeles:20271003T103000
DTSTAMP:20260422T150111
CREATED:20260324T160104Z
LAST-MODIFIED:20260324T160104Z
UID:10000298-1822555800-1822559400@firstpresbyterianchurchsl.org
SUMMARY:In-Person Worship Service
DESCRIPTION:Our service includes meaningful music\, prayer\, and a thoughtful message\, followed by a time of fellowship and connection. All are welcome!
URL:https://firstpresbyterianchurchsl.org/event/in-person-worship-service/2027-10-03/
LOCATION:First Presbyterian Church of San Leandro\, 180 Estudillo Avenue\, San Leandros\, 94577
CATEGORIES:Sanctuary
END:VEVENT
BEGIN:VEVENT
DTSTART;TZID=America/Los_Angeles:20271010T093000
DTEND;TZID=America/Los_Angeles:20271010T103000
DTSTAMP:20260422T150111
CREATED:20260324T160104Z
LAST-MODIFIED:20260324T160104Z
UID:10000299-1823160600-1823164200@firstpresbyterianchurchsl.org
SUMMARY:In-Person Worship Service
DESCRIPTION:Our service includes meaningful music\, prayer\, and a thoughtful message\, followed by a time of fellowship and connection. All are welcome!
URL:https://firstpresbyterianchurchsl.org/event/in-person-worship-service/2027-10-10/
LOCATION:First Presbyterian Church of San Leandro\, 180 Estudillo Avenue\, San Leandros\, 94577
CATEGORIES:Sanctuary
END:VEVENT
BEGIN:VEVENT
DTSTART;TZID=America/Los_Angeles:20271017T093000
DTEND;TZID=America/Los_Angeles:20271017T103000
DTSTAMP:20260422T150111
CREATED:20260324T160104Z
LAST-MODIFIED:20260324T160104Z
UID:10000300-1823765400-1823769000@firstpresbyterianchurchsl.org
SUMMARY:In-Person Worship Service
DESCRIPTION:Our service includes meaningful music\, prayer\, and a thoughtful message\, followed by a time of fellowship and connection. All are welcome!
URL:https://firstpresbyterianchurchsl.org/event/in-person-worship-service/2027-10-17/
LOCATION:First Presbyterian Church of San Leandro\, 180 Estudillo Avenue\, San Leandros\, 94577
CATEGORIES:Sanctuary
END:VEVENT
BEGIN:VEVENT
DTSTART;TZID=America/Los_Angeles:20271024T093000
DTEND;TZID=America/Los_Angeles:20271024T103000
DTSTAMP:20260422T150111
CREATED:20260324T160104Z
LAST-MODIFIED:20260324T160104Z
UID:10000301-1824370200-1824373800@firstpresbyterianchurchsl.org
SUMMARY:In-Person Worship Service
DESCRIPTION:Our service includes meaningful music\, prayer\, and a thoughtful message\, followed by a time of fellowship and connection. All are welcome!
URL:https://firstpresbyterianchurchsl.org/event/in-person-worship-service/2027-10-24/
LOCATION:First Presbyterian Church of San Leandro\, 180 Estudillo Avenue\, San Leandros\, 94577
CATEGORIES:Sanctuary
END:VEVENT
BEGIN:VEVENT
DTSTART;TZID=America/Los_Angeles:20271031T093000
DTEND;TZID=America/Los_Angeles:20271031T103000
DTSTAMP:20260422T150111
CREATED:20260324T160104Z
LAST-MODIFIED:20260324T160104Z
UID:10000302-1824975000-1824978600@firstpresbyterianchurchsl.org
SUMMARY:In-Person Worship Service
DESCRIPTION:Our service includes meaningful music\, prayer\, and a thoughtful message\, followed by a time of fellowship and connection. All are welcome!
URL:https://firstpresbyterianchurchsl.org/event/in-person-worship-service/2027-10-31/
LOCATION:First Presbyterian Church of San Leandro\, 180 Estudillo Avenue\, San Leandros\, 94577
CATEGORIES:Sanctuary
END:VEVENT
BEGIN:VEVENT
DTSTART;TZID=America/Los_Angeles:20271107T093000
DTEND;TZID=America/Los_Angeles:20271107T103000
DTSTAMP:20260422T150111
CREATED:20260324T160104Z
LAST-MODIFIED:20260324T160104Z
UID:10000303-1825579800-1825583400@firstpresbyterianchurchsl.org
SUMMARY:In-Person Worship Service
DESCRIPTION:Our service includes meaningful music\, prayer\, and a thoughtful message\, followed by a time of fellowship and connection. All are welcome!
URL:https://firstpresbyterianchurchsl.org/event/in-person-worship-service/2027-11-07/
LOCATION:First Presbyterian Church of San Leandro\, 180 Estudillo Avenue\, San Leandros\, 94577
CATEGORIES:Sanctuary
END:VEVENT
BEGIN:VEVENT
DTSTART;TZID=America/Los_Angeles:20271114T093000
DTEND;TZID=America/Los_Angeles:20271114T103000
DTSTAMP:20260422T150111
CREATED:20260324T160104Z
LAST-MODIFIED:20260324T160104Z
UID:10000304-1826184600-1826188200@firstpresbyterianchurchsl.org
SUMMARY:In-Person Worship Service
DESCRIPTION:Our service includes meaningful music\, prayer\, and a thoughtful message\, followed by a time of fellowship and connection. All are welcome!
URL:https://firstpresbyterianchurchsl.org/event/in-person-worship-service/2027-11-14/
LOCATION:First Presbyterian Church of San Leandro\, 180 Estudillo Avenue\, San Leandros\, 94577
CATEGORIES:Sanctuary
END:VEVENT
BEGIN:VEVENT
DTSTART;TZID=America/Los_Angeles:20271121T093000
DTEND;TZID=America/Los_Angeles:20271121T103000
DTSTAMP:20260422T150111
CREATED:20260324T160104Z
LAST-MODIFIED:20260324T160104Z
UID:10000305-1826789400-1826793000@firstpresbyterianchurchsl.org
SUMMARY:In-Person Worship Service
DESCRIPTION:Our service includes meaningful music\, prayer\, and a thoughtful message\, followed by a time of fellowship and connection. All are welcome!
URL:https://firstpresbyterianchurchsl.org/event/in-person-worship-service/2027-11-21/
LOCATION:First Presbyterian Church of San Leandro\, 180 Estudillo Avenue\, San Leandros\, 94577
CATEGORIES:Sanctuary
END:VEVENT
BEGIN:VEVENT
DTSTART;TZID=America/Los_Angeles:20271128T093000
DTEND;TZID=America/Los_Angeles:20271128T103000
DTSTAMP:20260422T150111
CREATED:20260324T160104Z
LAST-MODIFIED:20260324T160104Z
UID:10000306-1827394200-1827397800@firstpresbyterianchurchsl.org
SUMMARY:In-Person Worship Service
DESCRIPTION:Our service includes meaningful music\, prayer\, and a thoughtful message\, followed by a time of fellowship and connection. All are welcome!
URL:https://firstpresbyterianchurchsl.org/event/in-person-worship-service/2027-11-28/
LOCATION:First Presbyterian Church of San Leandro\, 180 Estudillo Avenue\, San Leandros\, 94577
CATEGORIES:Sanctuary
END:VEVENT
BEGIN:VEVENT
DTSTART;TZID=America/Los_Angeles:20271205T093000
DTEND;TZID=America/Los_Angeles:20271205T103000
DTSTAMP:20260422T150111
CREATED:20260324T160104Z
LAST-MODIFIED:20260324T160104Z
UID:10000307-1827999000-1828002600@firstpresbyterianchurchsl.org
SUMMARY:In-Person Worship Service
DESCRIPTION:Our service includes meaningful music\, prayer\, and a thoughtful message\, followed by a time of fellowship and connection. All are welcome!
URL:https://firstpresbyterianchurchsl.org/event/in-person-worship-service/2027-12-05/
LOCATION:First Presbyterian Church of San Leandro\, 180 Estudillo Avenue\, San Leandros\, 94577
CATEGORIES:Sanctuary
END:VEVENT
BEGIN:VEVENT
DTSTART;TZID=America/Los_Angeles:20271212T093000
DTEND;TZID=America/Los_Angeles:20271212T103000
DTSTAMP:20260422T150111
CREATED:20260324T160104Z
LAST-MODIFIED:20260324T160104Z
UID:10000308-1828603800-1828607400@firstpresbyterianchurchsl.org
SUMMARY:In-Person Worship Service
DESCRIPTION:Our service includes meaningful music\, prayer\, and a thoughtful message\, followed by a time of fellowship and connection. All are welcome!
URL:https://firstpresbyterianchurchsl.org/event/in-person-worship-service/2027-12-12/
LOCATION:First Presbyterian Church of San Leandro\, 180 Estudillo Avenue\, San Leandros\, 94577
CATEGORIES:Sanctuary
END:VEVENT
BEGIN:VEVENT
DTSTART;TZID=America/Los_Angeles:20271219T093000
DTEND;TZID=America/Los_Angeles:20271219T103000
DTSTAMP:20260422T150111
CREATED:20260324T160104Z
LAST-MODIFIED:20260324T160104Z
UID:10000309-1829208600-1829212200@firstpresbyterianchurchsl.org
SUMMARY:In-Person Worship Service
DESCRIPTION:Our service includes meaningful music\, prayer\, and a thoughtful message\, followed by a time of fellowship and connection. All are welcome!
URL:https://firstpresbyterianchurchsl.org/event/in-person-worship-service/2027-12-19/
LOCATION:First Presbyterian Church of San Leandro\, 180 Estudillo Avenue\, San Leandros\, 94577
CATEGORIES:Sanctuary
END:VEVENT
BEGIN:VEVENT
DTSTART;TZID=America/Los_Angeles:20271226T093000
DTEND;TZID=America/Los_Angeles:20271226T103000
DTSTAMP:20260422T150111
CREATED:20260324T160104Z
LAST-MODIFIED:20260324T160104Z
UID:10000310-1829813400-1829817000@firstpresbyterianchurchsl.org
SUMMARY:In-Person Worship Service
DESCRIPTION:Our service includes meaningful music\, prayer\, and a thoughtful message\, followed by a time of fellowship and connection. All are welcome!
URL:https://firstpresbyterianchurchsl.org/event/in-person-worship-service/2027-12-26/
LOCATION:First Presbyterian Church of San Leandro\, 180 Estudillo Avenue\, San Leandros\, 94577
CATEGORIES:Sanctuary
END:VEVENT
BEGIN:VEVENT
DTSTART;TZID=America/Los_Angeles:20280102T093000
DTEND;TZID=America/Los_Angeles:20280102T103000
DTSTAMP:20260422T150111
CREATED:20260324T160104Z
LAST-MODIFIED:20260324T160104Z
UID:10000311-1830418200-1830421800@firstpresbyterianchurchsl.org
SUMMARY:In-Person Worship Service
DESCRIPTION:Our service includes meaningful music\, prayer\, and a thoughtful message\, followed by a time of fellowship and connection. All are welcome!
URL:https://firstpresbyterianchurchsl.org/event/in-person-worship-service/2028-01-02/
LOCATION:First Presbyterian Church of San Leandro\, 180 Estudillo Avenue\, San Leandros\, 94577
CATEGORIES:Sanctuary
END:VEVENT
BEGIN:VEVENT
DTSTART;TZID=America/Los_Angeles:20280109T093000
DTEND;TZID=America/Los_Angeles:20280109T103000
DTSTAMP:20260422T150111
CREATED:20260324T160104Z
LAST-MODIFIED:20260324T160104Z
UID:10000312-1831023000-1831026600@firstpresbyterianchurchsl.org
SUMMARY:In-Person Worship Service
DESCRIPTION:Our service includes meaningful music\, prayer\, and a thoughtful message\, followed by a time of fellowship and connection. All are welcome!
URL:https://firstpresbyterianchurchsl.org/event/in-person-worship-service/2028-01-09/
LOCATION:First Presbyterian Church of San Leandro\, 180 Estudillo Avenue\, San Leandros\, 94577
CATEGORIES:Sanctuary
END:VEVENT
BEGIN:VEVENT
DTSTART;TZID=America/Los_Angeles:20280116T093000
DTEND;TZID=America/Los_Angeles:20280116T103000
DTSTAMP:20260422T150111
CREATED:20260324T160104Z
LAST-MODIFIED:20260324T160104Z
UID:10000313-1831627800-1831631400@firstpresbyterianchurchsl.org
SUMMARY:In-Person Worship Service
DESCRIPTION:Our service includes meaningful music\, prayer\, and a thoughtful message\, followed by a time of fellowship and connection. All are welcome!
URL:https://firstpresbyterianchurchsl.org/event/in-person-worship-service/2028-01-16/
LOCATION:First Presbyterian Church of San Leandro\, 180 Estudillo Avenue\, San Leandros\, 94577
CATEGORIES:Sanctuary
END:VEVENT
BEGIN:VEVENT
DTSTART;TZID=America/Los_Angeles:20280123T093000
DTEND;TZID=America/Los_Angeles:20280123T103000
DTSTAMP:20260422T150111
CREATED:20260324T160104Z
LAST-MODIFIED:20260324T160104Z
UID:10000314-1832232600-1832236200@firstpresbyterianchurchsl.org
SUMMARY:In-Person Worship Service
DESCRIPTION:Our service includes meaningful music\, prayer\, and a thoughtful message\, followed by a time of fellowship and connection. All are welcome!
URL:https://firstpresbyterianchurchsl.org/event/in-person-worship-service/2028-01-23/
LOCATION:First Presbyterian Church of San Leandro\, 180 Estudillo Avenue\, San Leandros\, 94577
CATEGORIES:Sanctuary
END:VEVENT
BEGIN:VEVENT
DTSTART;TZID=America/Los_Angeles:20280130T093000
DTEND;TZID=America/Los_Angeles:20280130T103000
DTSTAMP:20260422T150111
CREATED:20260324T160104Z
LAST-MODIFIED:20260324T160104Z
UID:10000315-1832837400-1832841000@firstpresbyterianchurchsl.org
SUMMARY:In-Person Worship Service
DESCRIPTION:Our service includes meaningful music\, prayer\, and a thoughtful message\, followed by a time of fellowship and connection. All are welcome!
URL:https://firstpresbyterianchurchsl.org/event/in-person-worship-service/2028-01-30/
LOCATION:First Presbyterian Church of San Leandro\, 180 Estudillo Avenue\, San Leandros\, 94577
CATEGORIES:Sanctuary
END:VEVENT
END:VCALENDAR