BEGIN:VCALENDAR
VERSION:2.0
PRODID:-//First Presbyterian Church SL - ECPv6.15.20//NONSGML v1.0//EN
CALSCALE:GREGORIAN
METHOD:PUBLISH
X-ORIGINAL-URL:https://firstpresbyterianchurchsl.org
X-WR-CALDESC:Events for First Presbyterian Church SL
REFRESH-INTERVAL;VALUE=DURATION:PT1H
X-Robots-Tag:noindex
X-PUBLISHED-TTL:PT1H
BEGIN:VTIMEZONE
TZID:America/Los_Angeles
BEGIN:DAYLIGHT
TZOFFSETFROM:-0800
TZOFFSETTO:-0700
TZNAME:PDT
DTSTART:20260308T100000
END:DAYLIGHT
BEGIN:STANDARD
TZOFFSETFROM:-0700
TZOFFSETTO:-0800
TZNAME:PST
DTSTART:20261101T090000
END:STANDARD
BEGIN:DAYLIGHT
TZOFFSETFROM:-0800
TZOFFSETTO:-0700
TZNAME:PDT
DTSTART:20270314T100000
END:DAYLIGHT
BEGIN:STANDARD
TZOFFSETFROM:-0700
TZOFFSETTO:-0800
TZNAME:PST
DTSTART:20271107T090000
END:STANDARD
BEGIN:DAYLIGHT
TZOFFSETFROM:-0800
TZOFFSETTO:-0700
TZNAME:PDT
DTSTART:20280312T100000
END:DAYLIGHT
BEGIN:STANDARD
TZOFFSETFROM:-0700
TZOFFSETTO:-0800
TZNAME:PST
DTSTART:20281105T090000
END:STANDARD
BEGIN:DAYLIGHT
TZOFFSETFROM:-0800
TZOFFSETTO:-0700
TZNAME:PDT
DTSTART:20290311T100000
END:DAYLIGHT
BEGIN:STANDARD
TZOFFSETFROM:-0700
TZOFFSETTO:-0800
TZNAME:PST
DTSTART:20291104T090000
END:STANDARD
END:VTIMEZONE
BEGIN:VEVENT
DTSTART;TZID=America/Los_Angeles:20271121T093000
DTEND;TZID=America/Los_Angeles:20271121T103000
DTSTAMP:20260422T130858
CREATED:20260324T160104Z
LAST-MODIFIED:20260324T160104Z
UID:10000305-1826789400-1826793000@firstpresbyterianchurchsl.org
SUMMARY:In-Person Worship Service
DESCRIPTION:Our service includes meaningful music\, prayer\, and a thoughtful message\, followed by a time of fellowship and connection. All are welcome!
URL:https://firstpresbyterianchurchsl.org/event/in-person-worship-service/2027-11-21/
LOCATION:First Presbyterian Church of San Leandro\, 180 Estudillo Avenue\, San Leandros\, 94577
CATEGORIES:Sanctuary
END:VEVENT
BEGIN:VEVENT
DTSTART;TZID=America/Los_Angeles:20271128T093000
DTEND;TZID=America/Los_Angeles:20271128T103000
DTSTAMP:20260422T130858
CREATED:20260324T160104Z
LAST-MODIFIED:20260324T160104Z
UID:10000306-1827394200-1827397800@firstpresbyterianchurchsl.org
SUMMARY:In-Person Worship Service
DESCRIPTION:Our service includes meaningful music\, prayer\, and a thoughtful message\, followed by a time of fellowship and connection. All are welcome!
URL:https://firstpresbyterianchurchsl.org/event/in-person-worship-service/2027-11-28/
LOCATION:First Presbyterian Church of San Leandro\, 180 Estudillo Avenue\, San Leandros\, 94577
CATEGORIES:Sanctuary
END:VEVENT
BEGIN:VEVENT
DTSTART;TZID=America/Los_Angeles:20271205T093000
DTEND;TZID=America/Los_Angeles:20271205T103000
DTSTAMP:20260422T130858
CREATED:20260324T160104Z
LAST-MODIFIED:20260324T160104Z
UID:10000307-1827999000-1828002600@firstpresbyterianchurchsl.org
SUMMARY:In-Person Worship Service
DESCRIPTION:Our service includes meaningful music\, prayer\, and a thoughtful message\, followed by a time of fellowship and connection. All are welcome!
URL:https://firstpresbyterianchurchsl.org/event/in-person-worship-service/2027-12-05/
LOCATION:First Presbyterian Church of San Leandro\, 180 Estudillo Avenue\, San Leandros\, 94577
CATEGORIES:Sanctuary
END:VEVENT
BEGIN:VEVENT
DTSTART;TZID=America/Los_Angeles:20271212T093000
DTEND;TZID=America/Los_Angeles:20271212T103000
DTSTAMP:20260422T130858
CREATED:20260324T160104Z
LAST-MODIFIED:20260324T160104Z
UID:10000308-1828603800-1828607400@firstpresbyterianchurchsl.org
SUMMARY:In-Person Worship Service
DESCRIPTION:Our service includes meaningful music\, prayer\, and a thoughtful message\, followed by a time of fellowship and connection. All are welcome!
URL:https://firstpresbyterianchurchsl.org/event/in-person-worship-service/2027-12-12/
LOCATION:First Presbyterian Church of San Leandro\, 180 Estudillo Avenue\, San Leandros\, 94577
CATEGORIES:Sanctuary
END:VEVENT
BEGIN:VEVENT
DTSTART;TZID=America/Los_Angeles:20271219T093000
DTEND;TZID=America/Los_Angeles:20271219T103000
DTSTAMP:20260422T130858
CREATED:20260324T160104Z
LAST-MODIFIED:20260324T160104Z
UID:10000309-1829208600-1829212200@firstpresbyterianchurchsl.org
SUMMARY:In-Person Worship Service
DESCRIPTION:Our service includes meaningful music\, prayer\, and a thoughtful message\, followed by a time of fellowship and connection. All are welcome!
URL:https://firstpresbyterianchurchsl.org/event/in-person-worship-service/2027-12-19/
LOCATION:First Presbyterian Church of San Leandro\, 180 Estudillo Avenue\, San Leandros\, 94577
CATEGORIES:Sanctuary
END:VEVENT
BEGIN:VEVENT
DTSTART;TZID=America/Los_Angeles:20271226T093000
DTEND;TZID=America/Los_Angeles:20271226T103000
DTSTAMP:20260422T130858
CREATED:20260324T160104Z
LAST-MODIFIED:20260324T160104Z
UID:10000310-1829813400-1829817000@firstpresbyterianchurchsl.org
SUMMARY:In-Person Worship Service
DESCRIPTION:Our service includes meaningful music\, prayer\, and a thoughtful message\, followed by a time of fellowship and connection. All are welcome!
URL:https://firstpresbyterianchurchsl.org/event/in-person-worship-service/2027-12-26/
LOCATION:First Presbyterian Church of San Leandro\, 180 Estudillo Avenue\, San Leandros\, 94577
CATEGORIES:Sanctuary
END:VEVENT
BEGIN:VEVENT
DTSTART;TZID=America/Los_Angeles:20280102T093000
DTEND;TZID=America/Los_Angeles:20280102T103000
DTSTAMP:20260422T130858
CREATED:20260324T160104Z
LAST-MODIFIED:20260324T160104Z
UID:10000311-1830418200-1830421800@firstpresbyterianchurchsl.org
SUMMARY:In-Person Worship Service
DESCRIPTION:Our service includes meaningful music\, prayer\, and a thoughtful message\, followed by a time of fellowship and connection. All are welcome!
URL:https://firstpresbyterianchurchsl.org/event/in-person-worship-service/2028-01-02/
LOCATION:First Presbyterian Church of San Leandro\, 180 Estudillo Avenue\, San Leandros\, 94577
CATEGORIES:Sanctuary
END:VEVENT
BEGIN:VEVENT
DTSTART;TZID=America/Los_Angeles:20280109T093000
DTEND;TZID=America/Los_Angeles:20280109T103000
DTSTAMP:20260422T130858
CREATED:20260324T160104Z
LAST-MODIFIED:20260324T160104Z
UID:10000312-1831023000-1831026600@firstpresbyterianchurchsl.org
SUMMARY:In-Person Worship Service
DESCRIPTION:Our service includes meaningful music\, prayer\, and a thoughtful message\, followed by a time of fellowship and connection. All are welcome!
URL:https://firstpresbyterianchurchsl.org/event/in-person-worship-service/2028-01-09/
LOCATION:First Presbyterian Church of San Leandro\, 180 Estudillo Avenue\, San Leandros\, 94577
CATEGORIES:Sanctuary
END:VEVENT
BEGIN:VEVENT
DTSTART;TZID=America/Los_Angeles:20280116T093000
DTEND;TZID=America/Los_Angeles:20280116T103000
DTSTAMP:20260422T130858
CREATED:20260324T160104Z
LAST-MODIFIED:20260324T160104Z
UID:10000313-1831627800-1831631400@firstpresbyterianchurchsl.org
SUMMARY:In-Person Worship Service
DESCRIPTION:Our service includes meaningful music\, prayer\, and a thoughtful message\, followed by a time of fellowship and connection. All are welcome!
URL:https://firstpresbyterianchurchsl.org/event/in-person-worship-service/2028-01-16/
LOCATION:First Presbyterian Church of San Leandro\, 180 Estudillo Avenue\, San Leandros\, 94577
CATEGORIES:Sanctuary
END:VEVENT
BEGIN:VEVENT
DTSTART;TZID=America/Los_Angeles:20280123T093000
DTEND;TZID=America/Los_Angeles:20280123T103000
DTSTAMP:20260422T130858
CREATED:20260324T160104Z
LAST-MODIFIED:20260324T160104Z
UID:10000314-1832232600-1832236200@firstpresbyterianchurchsl.org
SUMMARY:In-Person Worship Service
DESCRIPTION:Our service includes meaningful music\, prayer\, and a thoughtful message\, followed by a time of fellowship and connection. All are welcome!
URL:https://firstpresbyterianchurchsl.org/event/in-person-worship-service/2028-01-23/
LOCATION:First Presbyterian Church of San Leandro\, 180 Estudillo Avenue\, San Leandros\, 94577
CATEGORIES:Sanctuary
END:VEVENT
BEGIN:VEVENT
DTSTART;TZID=America/Los_Angeles:20280130T093000
DTEND;TZID=America/Los_Angeles:20280130T103000
DTSTAMP:20260422T130858
CREATED:20260324T160104Z
LAST-MODIFIED:20260324T160104Z
UID:10000315-1832837400-1832841000@firstpresbyterianchurchsl.org
SUMMARY:In-Person Worship Service
DESCRIPTION:Our service includes meaningful music\, prayer\, and a thoughtful message\, followed by a time of fellowship and connection. All are welcome!
URL:https://firstpresbyterianchurchsl.org/event/in-person-worship-service/2028-01-30/
LOCATION:First Presbyterian Church of San Leandro\, 180 Estudillo Avenue\, San Leandros\, 94577
CATEGORIES:Sanctuary
END:VEVENT
BEGIN:VEVENT
DTSTART;TZID=America/Los_Angeles:20280206T093000
DTEND;TZID=America/Los_Angeles:20280206T103000
DTSTAMP:20260422T130858
CREATED:20260324T160104Z
LAST-MODIFIED:20260324T160104Z
UID:10000316-1833442200-1833445800@firstpresbyterianchurchsl.org
SUMMARY:In-Person Worship Service
DESCRIPTION:Our service includes meaningful music\, prayer\, and a thoughtful message\, followed by a time of fellowship and connection. All are welcome!
URL:https://firstpresbyterianchurchsl.org/event/in-person-worship-service/2028-02-06/
LOCATION:First Presbyterian Church of San Leandro\, 180 Estudillo Avenue\, San Leandros\, 94577
CATEGORIES:Sanctuary
END:VEVENT
BEGIN:VEVENT
DTSTART;TZID=America/Los_Angeles:20280213T093000
DTEND;TZID=America/Los_Angeles:20280213T103000
DTSTAMP:20260422T130858
CREATED:20260324T160104Z
LAST-MODIFIED:20260324T160104Z
UID:10000317-1834047000-1834050600@firstpresbyterianchurchsl.org
SUMMARY:In-Person Worship Service
DESCRIPTION:Our service includes meaningful music\, prayer\, and a thoughtful message\, followed by a time of fellowship and connection. All are welcome!
URL:https://firstpresbyterianchurchsl.org/event/in-person-worship-service/2028-02-13/
LOCATION:First Presbyterian Church of San Leandro\, 180 Estudillo Avenue\, San Leandros\, 94577
CATEGORIES:Sanctuary
END:VEVENT
BEGIN:VEVENT
DTSTART;TZID=America/Los_Angeles:20280220T093000
DTEND;TZID=America/Los_Angeles:20280220T103000
DTSTAMP:20260422T130859
CREATED:20260324T160104Z
LAST-MODIFIED:20260324T160104Z
UID:10000318-1834651800-1834655400@firstpresbyterianchurchsl.org
SUMMARY:In-Person Worship Service
DESCRIPTION:Our service includes meaningful music\, prayer\, and a thoughtful message\, followed by a time of fellowship and connection. All are welcome!
URL:https://firstpresbyterianchurchsl.org/event/in-person-worship-service/2028-02-20/
LOCATION:First Presbyterian Church of San Leandro\, 180 Estudillo Avenue\, San Leandros\, 94577
CATEGORIES:Sanctuary
END:VEVENT
BEGIN:VEVENT
DTSTART;TZID=America/Los_Angeles:20280227T093000
DTEND;TZID=America/Los_Angeles:20280227T103000
DTSTAMP:20260422T130859
CREATED:20260324T160104Z
LAST-MODIFIED:20260324T160104Z
UID:10000319-1835256600-1835260200@firstpresbyterianchurchsl.org
SUMMARY:In-Person Worship Service
DESCRIPTION:Our service includes meaningful music\, prayer\, and a thoughtful message\, followed by a time of fellowship and connection. All are welcome!
URL:https://firstpresbyterianchurchsl.org/event/in-person-worship-service/2028-02-27/
LOCATION:First Presbyterian Church of San Leandro\, 180 Estudillo Avenue\, San Leandros\, 94577
CATEGORIES:Sanctuary
END:VEVENT
BEGIN:VEVENT
DTSTART;TZID=America/Los_Angeles:20280305T093000
DTEND;TZID=America/Los_Angeles:20280305T103000
DTSTAMP:20260422T130859
CREATED:20260324T160104Z
LAST-MODIFIED:20260324T160104Z
UID:10000320-1835861400-1835865000@firstpresbyterianchurchsl.org
SUMMARY:In-Person Worship Service
DESCRIPTION:Our service includes meaningful music\, prayer\, and a thoughtful message\, followed by a time of fellowship and connection. All are welcome!
URL:https://firstpresbyterianchurchsl.org/event/in-person-worship-service/2028-03-05/
LOCATION:First Presbyterian Church of San Leandro\, 180 Estudillo Avenue\, San Leandros\, 94577
CATEGORIES:Sanctuary
END:VEVENT
BEGIN:VEVENT
DTSTART;TZID=America/Los_Angeles:20280312T093000
DTEND;TZID=America/Los_Angeles:20280312T103000
DTSTAMP:20260422T130859
CREATED:20260324T160104Z
LAST-MODIFIED:20260324T160104Z
UID:10000321-1836466200-1836469800@firstpresbyterianchurchsl.org
SUMMARY:In-Person Worship Service
DESCRIPTION:Our service includes meaningful music\, prayer\, and a thoughtful message\, followed by a time of fellowship and connection. All are welcome!
URL:https://firstpresbyterianchurchsl.org/event/in-person-worship-service/2028-03-12/
LOCATION:First Presbyterian Church of San Leandro\, 180 Estudillo Avenue\, San Leandros\, 94577
CATEGORIES:Sanctuary
END:VEVENT
BEGIN:VEVENT
DTSTART;TZID=America/Los_Angeles:20280319T093000
DTEND;TZID=America/Los_Angeles:20280319T103000
DTSTAMP:20260422T130859
CREATED:20260324T160104Z
LAST-MODIFIED:20260324T160104Z
UID:10000322-1837071000-1837074600@firstpresbyterianchurchsl.org
SUMMARY:In-Person Worship Service
DESCRIPTION:Our service includes meaningful music\, prayer\, and a thoughtful message\, followed by a time of fellowship and connection. All are welcome!
URL:https://firstpresbyterianchurchsl.org/event/in-person-worship-service/2028-03-19/
LOCATION:First Presbyterian Church of San Leandro\, 180 Estudillo Avenue\, San Leandros\, 94577
CATEGORIES:Sanctuary
END:VEVENT
BEGIN:VEVENT
DTSTART;TZID=America/Los_Angeles:20280326T093000
DTEND;TZID=America/Los_Angeles:20280326T103000
DTSTAMP:20260422T130859
CREATED:20260324T160104Z
LAST-MODIFIED:20260324T160104Z
UID:10000323-1837675800-1837679400@firstpresbyterianchurchsl.org
SUMMARY:In-Person Worship Service
DESCRIPTION:Our service includes meaningful music\, prayer\, and a thoughtful message\, followed by a time of fellowship and connection. All are welcome!
URL:https://firstpresbyterianchurchsl.org/event/in-person-worship-service/2028-03-26/
LOCATION:First Presbyterian Church of San Leandro\, 180 Estudillo Avenue\, San Leandros\, 94577
CATEGORIES:Sanctuary
END:VEVENT
BEGIN:VEVENT
DTSTART;TZID=America/Los_Angeles:20280402T093000
DTEND;TZID=America/Los_Angeles:20280402T103000
DTSTAMP:20260422T130859
CREATED:20260324T160104Z
LAST-MODIFIED:20260324T160104Z
UID:10000324-1838280600-1838284200@firstpresbyterianchurchsl.org
SUMMARY:In-Person Worship Service
DESCRIPTION:Our service includes meaningful music\, prayer\, and a thoughtful message\, followed by a time of fellowship and connection. All are welcome!
URL:https://firstpresbyterianchurchsl.org/event/in-person-worship-service/2028-04-02/
LOCATION:First Presbyterian Church of San Leandro\, 180 Estudillo Avenue\, San Leandros\, 94577
CATEGORIES:Sanctuary
END:VEVENT
BEGIN:VEVENT
DTSTART;TZID=America/Los_Angeles:20280409T093000
DTEND;TZID=America/Los_Angeles:20280409T103000
DTSTAMP:20260422T130859
CREATED:20260324T160104Z
LAST-MODIFIED:20260324T160104Z
UID:10000325-1838885400-1838889000@firstpresbyterianchurchsl.org
SUMMARY:In-Person Worship Service
DESCRIPTION:Our service includes meaningful music\, prayer\, and a thoughtful message\, followed by a time of fellowship and connection. All are welcome!
URL:https://firstpresbyterianchurchsl.org/event/in-person-worship-service/2028-04-09/
LOCATION:First Presbyterian Church of San Leandro\, 180 Estudillo Avenue\, San Leandros\, 94577
CATEGORIES:Sanctuary
END:VEVENT
BEGIN:VEVENT
DTSTART;TZID=America/Los_Angeles:20280416T093000
DTEND;TZID=America/Los_Angeles:20280416T103000
DTSTAMP:20260422T130859
CREATED:20260324T160104Z
LAST-MODIFIED:20260324T160104Z
UID:10000326-1839490200-1839493800@firstpresbyterianchurchsl.org
SUMMARY:In-Person Worship Service
DESCRIPTION:Our service includes meaningful music\, prayer\, and a thoughtful message\, followed by a time of fellowship and connection. All are welcome!
URL:https://firstpresbyterianchurchsl.org/event/in-person-worship-service/2028-04-16/
LOCATION:First Presbyterian Church of San Leandro\, 180 Estudillo Avenue\, San Leandros\, 94577
CATEGORIES:Sanctuary
END:VEVENT
BEGIN:VEVENT
DTSTART;TZID=America/Los_Angeles:20280423T093000
DTEND;TZID=America/Los_Angeles:20280423T103000
DTSTAMP:20260422T130859
CREATED:20260324T160104Z
LAST-MODIFIED:20260324T160104Z
UID:10000327-1840095000-1840098600@firstpresbyterianchurchsl.org
SUMMARY:In-Person Worship Service
DESCRIPTION:Our service includes meaningful music\, prayer\, and a thoughtful message\, followed by a time of fellowship and connection. All are welcome!
URL:https://firstpresbyterianchurchsl.org/event/in-person-worship-service/2028-04-23/
LOCATION:First Presbyterian Church of San Leandro\, 180 Estudillo Avenue\, San Leandros\, 94577
CATEGORIES:Sanctuary
END:VEVENT
BEGIN:VEVENT
DTSTART;TZID=America/Los_Angeles:20280430T093000
DTEND;TZID=America/Los_Angeles:20280430T103000
DTSTAMP:20260422T130859
CREATED:20260324T160104Z
LAST-MODIFIED:20260324T160104Z
UID:10000328-1840699800-1840703400@firstpresbyterianchurchsl.org
SUMMARY:In-Person Worship Service
DESCRIPTION:Our service includes meaningful music\, prayer\, and a thoughtful message\, followed by a time of fellowship and connection. All are welcome!
URL:https://firstpresbyterianchurchsl.org/event/in-person-worship-service/2028-04-30/
LOCATION:First Presbyterian Church of San Leandro\, 180 Estudillo Avenue\, San Leandros\, 94577
CATEGORIES:Sanctuary
END:VEVENT
BEGIN:VEVENT
DTSTART;TZID=America/Los_Angeles:20280507T093000
DTEND;TZID=America/Los_Angeles:20280507T103000
DTSTAMP:20260422T130859
CREATED:20260324T160104Z
LAST-MODIFIED:20260324T160104Z
UID:10000329-1841304600-1841308200@firstpresbyterianchurchsl.org
SUMMARY:In-Person Worship Service
DESCRIPTION:Our service includes meaningful music\, prayer\, and a thoughtful message\, followed by a time of fellowship and connection. All are welcome!
URL:https://firstpresbyterianchurchsl.org/event/in-person-worship-service/2028-05-07/
LOCATION:First Presbyterian Church of San Leandro\, 180 Estudillo Avenue\, San Leandros\, 94577
CATEGORIES:Sanctuary
END:VEVENT
BEGIN:VEVENT
DTSTART;TZID=America/Los_Angeles:20280514T093000
DTEND;TZID=America/Los_Angeles:20280514T103000
DTSTAMP:20260422T130859
CREATED:20260324T160104Z
LAST-MODIFIED:20260324T160104Z
UID:10000330-1841909400-1841913000@firstpresbyterianchurchsl.org
SUMMARY:In-Person Worship Service
DESCRIPTION:Our service includes meaningful music\, prayer\, and a thoughtful message\, followed by a time of fellowship and connection. All are welcome!
URL:https://firstpresbyterianchurchsl.org/event/in-person-worship-service/2028-05-14/
LOCATION:First Presbyterian Church of San Leandro\, 180 Estudillo Avenue\, San Leandros\, 94577
CATEGORIES:Sanctuary
END:VEVENT
BEGIN:VEVENT
DTSTART;TZID=America/Los_Angeles:20280521T093000
DTEND;TZID=America/Los_Angeles:20280521T103000
DTSTAMP:20260422T130859
CREATED:20260324T160104Z
LAST-MODIFIED:20260324T160104Z
UID:10000331-1842514200-1842517800@firstpresbyterianchurchsl.org
SUMMARY:In-Person Worship Service
DESCRIPTION:Our service includes meaningful music\, prayer\, and a thoughtful message\, followed by a time of fellowship and connection. All are welcome!
URL:https://firstpresbyterianchurchsl.org/event/in-person-worship-service/2028-05-21/
LOCATION:First Presbyterian Church of San Leandro\, 180 Estudillo Avenue\, San Leandros\, 94577
CATEGORIES:Sanctuary
END:VEVENT
BEGIN:VEVENT
DTSTART;TZID=America/Los_Angeles:20280528T093000
DTEND;TZID=America/Los_Angeles:20280528T103000
DTSTAMP:20260422T130859
CREATED:20260324T160104Z
LAST-MODIFIED:20260324T160104Z
UID:10000332-1843119000-1843122600@firstpresbyterianchurchsl.org
SUMMARY:In-Person Worship Service
DESCRIPTION:Our service includes meaningful music\, prayer\, and a thoughtful message\, followed by a time of fellowship and connection. All are welcome!
URL:https://firstpresbyterianchurchsl.org/event/in-person-worship-service/2028-05-28/
LOCATION:First Presbyterian Church of San Leandro\, 180 Estudillo Avenue\, San Leandros\, 94577
CATEGORIES:Sanctuary
END:VEVENT
BEGIN:VEVENT
DTSTART;TZID=America/Los_Angeles:20280604T093000
DTEND;TZID=America/Los_Angeles:20280604T103000
DTSTAMP:20260422T130859
CREATED:20260324T160104Z
LAST-MODIFIED:20260324T160104Z
UID:10000333-1843723800-1843727400@firstpresbyterianchurchsl.org
SUMMARY:In-Person Worship Service
DESCRIPTION:Our service includes meaningful music\, prayer\, and a thoughtful message\, followed by a time of fellowship and connection. All are welcome!
URL:https://firstpresbyterianchurchsl.org/event/in-person-worship-service/2028-06-04/
LOCATION:First Presbyterian Church of San Leandro\, 180 Estudillo Avenue\, San Leandros\, 94577
CATEGORIES:Sanctuary
END:VEVENT
BEGIN:VEVENT
DTSTART;TZID=America/Los_Angeles:20280611T093000
DTEND;TZID=America/Los_Angeles:20280611T103000
DTSTAMP:20260422T130859
CREATED:20260324T160104Z
LAST-MODIFIED:20260324T160104Z
UID:10000334-1844328600-1844332200@firstpresbyterianchurchsl.org
SUMMARY:In-Person Worship Service
DESCRIPTION:Our service includes meaningful music\, prayer\, and a thoughtful message\, followed by a time of fellowship and connection. All are welcome!
URL:https://firstpresbyterianchurchsl.org/event/in-person-worship-service/2028-06-11/
LOCATION:First Presbyterian Church of San Leandro\, 180 Estudillo Avenue\, San Leandros\, 94577
CATEGORIES:Sanctuary
END:VEVENT
END:VCALENDAR