BEGIN:VCALENDAR
VERSION:2.0
PRODID:-//First Presbyterian Church SL - ECPv6.15.20//NONSGML v1.0//EN
CALSCALE:GREGORIAN
METHOD:PUBLISH
X-ORIGINAL-URL:https://firstpresbyterianchurchsl.org
X-WR-CALDESC:Events for First Presbyterian Church SL
REFRESH-INTERVAL;VALUE=DURATION:PT1H
X-Robots-Tag:noindex
X-PUBLISHED-TTL:PT1H
BEGIN:VTIMEZONE
TZID:America/Los_Angeles
BEGIN:DAYLIGHT
TZOFFSETFROM:-0800
TZOFFSETTO:-0700
TZNAME:PDT
DTSTART:20250309T100000
END:DAYLIGHT
BEGIN:STANDARD
TZOFFSETFROM:-0700
TZOFFSETTO:-0800
TZNAME:PST
DTSTART:20251102T090000
END:STANDARD
BEGIN:DAYLIGHT
TZOFFSETFROM:-0800
TZOFFSETTO:-0700
TZNAME:PDT
DTSTART:20260308T100000
END:DAYLIGHT
BEGIN:STANDARD
TZOFFSETFROM:-0700
TZOFFSETTO:-0800
TZNAME:PST
DTSTART:20261101T090000
END:STANDARD
BEGIN:DAYLIGHT
TZOFFSETFROM:-0800
TZOFFSETTO:-0700
TZNAME:PDT
DTSTART:20270314T100000
END:DAYLIGHT
BEGIN:STANDARD
TZOFFSETFROM:-0700
TZOFFSETTO:-0800
TZNAME:PST
DTSTART:20271107T090000
END:STANDARD
END:VTIMEZONE
BEGIN:VEVENT
DTSTART;TZID=America/Los_Angeles:20260426T093000
DTEND;TZID=America/Los_Angeles:20260426T103000
DTSTAMP:20260421T164305
CREATED:20260324T160104Z
LAST-MODIFIED:20260324T160104Z
UID:10000223-1777195800-1777199400@firstpresbyterianchurchsl.org
SUMMARY:In-Person Worship Service
DESCRIPTION:Our service includes meaningful music\, prayer\, and a thoughtful message\, followed by a time of fellowship and connection. All are welcome!
URL:https://firstpresbyterianchurchsl.org/event/in-person-worship-service/2026-04-26/
LOCATION:First Presbyterian Church of San Leandro\, 180 Estudillo Avenue\, San Leandros\, 94577
CATEGORIES:Sanctuary
END:VEVENT
BEGIN:VEVENT
DTSTART;TZID=America/Los_Angeles:20260503T093000
DTEND;TZID=America/Los_Angeles:20260503T103000
DTSTAMP:20260421T164305
CREATED:20260324T160104Z
LAST-MODIFIED:20260324T160104Z
UID:10000224-1777800600-1777804200@firstpresbyterianchurchsl.org
SUMMARY:In-Person Worship Service
DESCRIPTION:Our service includes meaningful music\, prayer\, and a thoughtful message\, followed by a time of fellowship and connection. All are welcome!
URL:https://firstpresbyterianchurchsl.org/event/in-person-worship-service/2026-05-03/
LOCATION:First Presbyterian Church of San Leandro\, 180 Estudillo Avenue\, San Leandros\, 94577
CATEGORIES:Sanctuary
END:VEVENT
BEGIN:VEVENT
DTSTART;TZID=America/Los_Angeles:20260510T093000
DTEND;TZID=America/Los_Angeles:20260510T103000
DTSTAMP:20260421T164305
CREATED:20260324T160104Z
LAST-MODIFIED:20260324T160104Z
UID:10000225-1778405400-1778409000@firstpresbyterianchurchsl.org
SUMMARY:In-Person Worship Service
DESCRIPTION:Our service includes meaningful music\, prayer\, and a thoughtful message\, followed by a time of fellowship and connection. All are welcome!
URL:https://firstpresbyterianchurchsl.org/event/in-person-worship-service/2026-05-10/
LOCATION:First Presbyterian Church of San Leandro\, 180 Estudillo Avenue\, San Leandros\, 94577
CATEGORIES:Sanctuary
END:VEVENT
BEGIN:VEVENT
DTSTART;TZID=America/Los_Angeles:20260517T093000
DTEND;TZID=America/Los_Angeles:20260517T103000
DTSTAMP:20260421T164305
CREATED:20260324T160104Z
LAST-MODIFIED:20260324T160104Z
UID:10000226-1779010200-1779013800@firstpresbyterianchurchsl.org
SUMMARY:In-Person Worship Service
DESCRIPTION:Our service includes meaningful music\, prayer\, and a thoughtful message\, followed by a time of fellowship and connection. All are welcome!
URL:https://firstpresbyterianchurchsl.org/event/in-person-worship-service/2026-05-17/
LOCATION:First Presbyterian Church of San Leandro\, 180 Estudillo Avenue\, San Leandros\, 94577
CATEGORIES:Sanctuary
END:VEVENT
BEGIN:VEVENT
DTSTART;TZID=America/Los_Angeles:20260524T093000
DTEND;TZID=America/Los_Angeles:20260524T103000
DTSTAMP:20260421T164305
CREATED:20260324T160104Z
LAST-MODIFIED:20260324T160104Z
UID:10000227-1779615000-1779618600@firstpresbyterianchurchsl.org
SUMMARY:In-Person Worship Service
DESCRIPTION:Our service includes meaningful music\, prayer\, and a thoughtful message\, followed by a time of fellowship and connection. All are welcome!
URL:https://firstpresbyterianchurchsl.org/event/in-person-worship-service/2026-05-24/
LOCATION:First Presbyterian Church of San Leandro\, 180 Estudillo Avenue\, San Leandros\, 94577
CATEGORIES:Sanctuary
END:VEVENT
BEGIN:VEVENT
DTSTART;TZID=America/Los_Angeles:20260531T093000
DTEND;TZID=America/Los_Angeles:20260531T103000
DTSTAMP:20260421T164305
CREATED:20260324T160104Z
LAST-MODIFIED:20260324T160104Z
UID:10000228-1780219800-1780223400@firstpresbyterianchurchsl.org
SUMMARY:In-Person Worship Service
DESCRIPTION:Our service includes meaningful music\, prayer\, and a thoughtful message\, followed by a time of fellowship and connection. All are welcome!
URL:https://firstpresbyterianchurchsl.org/event/in-person-worship-service/2026-05-31/
LOCATION:First Presbyterian Church of San Leandro\, 180 Estudillo Avenue\, San Leandros\, 94577
CATEGORIES:Sanctuary
END:VEVENT
BEGIN:VEVENT
DTSTART;TZID=America/Los_Angeles:20260607T093000
DTEND;TZID=America/Los_Angeles:20260607T103000
DTSTAMP:20260421T164305
CREATED:20260324T160104Z
LAST-MODIFIED:20260324T160104Z
UID:10000229-1780824600-1780828200@firstpresbyterianchurchsl.org
SUMMARY:In-Person Worship Service
DESCRIPTION:Our service includes meaningful music\, prayer\, and a thoughtful message\, followed by a time of fellowship and connection. All are welcome!
URL:https://firstpresbyterianchurchsl.org/event/in-person-worship-service/2026-06-07/
LOCATION:First Presbyterian Church of San Leandro\, 180 Estudillo Avenue\, San Leandros\, 94577
CATEGORIES:Sanctuary
END:VEVENT
BEGIN:VEVENT
DTSTART;TZID=America/Los_Angeles:20260614T093000
DTEND;TZID=America/Los_Angeles:20260614T103000
DTSTAMP:20260421T164305
CREATED:20260324T160104Z
LAST-MODIFIED:20260324T160104Z
UID:10000230-1781429400-1781433000@firstpresbyterianchurchsl.org
SUMMARY:In-Person Worship Service
DESCRIPTION:Our service includes meaningful music\, prayer\, and a thoughtful message\, followed by a time of fellowship and connection. All are welcome!
URL:https://firstpresbyterianchurchsl.org/event/in-person-worship-service/2026-06-14/
LOCATION:First Presbyterian Church of San Leandro\, 180 Estudillo Avenue\, San Leandros\, 94577
CATEGORIES:Sanctuary
END:VEVENT
BEGIN:VEVENT
DTSTART;TZID=America/Los_Angeles:20260621T093000
DTEND;TZID=America/Los_Angeles:20260621T103000
DTSTAMP:20260421T164305
CREATED:20260324T160104Z
LAST-MODIFIED:20260324T160104Z
UID:10000231-1782034200-1782037800@firstpresbyterianchurchsl.org
SUMMARY:In-Person Worship Service
DESCRIPTION:Our service includes meaningful music\, prayer\, and a thoughtful message\, followed by a time of fellowship and connection. All are welcome!
URL:https://firstpresbyterianchurchsl.org/event/in-person-worship-service/2026-06-21/
LOCATION:First Presbyterian Church of San Leandro\, 180 Estudillo Avenue\, San Leandros\, 94577
CATEGORIES:Sanctuary
END:VEVENT
BEGIN:VEVENT
DTSTART;TZID=America/Los_Angeles:20260628T093000
DTEND;TZID=America/Los_Angeles:20260628T103000
DTSTAMP:20260421T164305
CREATED:20260324T160104Z
LAST-MODIFIED:20260324T160104Z
UID:10000232-1782639000-1782642600@firstpresbyterianchurchsl.org
SUMMARY:In-Person Worship Service
DESCRIPTION:Our service includes meaningful music\, prayer\, and a thoughtful message\, followed by a time of fellowship and connection. All are welcome!
URL:https://firstpresbyterianchurchsl.org/event/in-person-worship-service/2026-06-28/
LOCATION:First Presbyterian Church of San Leandro\, 180 Estudillo Avenue\, San Leandros\, 94577
CATEGORIES:Sanctuary
END:VEVENT
BEGIN:VEVENT
DTSTART;TZID=America/Los_Angeles:20260705T093000
DTEND;TZID=America/Los_Angeles:20260705T103000
DTSTAMP:20260421T164305
CREATED:20260324T160104Z
LAST-MODIFIED:20260324T160104Z
UID:10000233-1783243800-1783247400@firstpresbyterianchurchsl.org
SUMMARY:In-Person Worship Service
DESCRIPTION:Our service includes meaningful music\, prayer\, and a thoughtful message\, followed by a time of fellowship and connection. All are welcome!
URL:https://firstpresbyterianchurchsl.org/event/in-person-worship-service/2026-07-05/
LOCATION:First Presbyterian Church of San Leandro\, 180 Estudillo Avenue\, San Leandros\, 94577
CATEGORIES:Sanctuary
END:VEVENT
BEGIN:VEVENT
DTSTART;TZID=America/Los_Angeles:20260712T093000
DTEND;TZID=America/Los_Angeles:20260712T103000
DTSTAMP:20260421T164305
CREATED:20260324T160104Z
LAST-MODIFIED:20260324T160104Z
UID:10000234-1783848600-1783852200@firstpresbyterianchurchsl.org
SUMMARY:In-Person Worship Service
DESCRIPTION:Our service includes meaningful music\, prayer\, and a thoughtful message\, followed by a time of fellowship and connection. All are welcome!
URL:https://firstpresbyterianchurchsl.org/event/in-person-worship-service/2026-07-12/
LOCATION:First Presbyterian Church of San Leandro\, 180 Estudillo Avenue\, San Leandros\, 94577
CATEGORIES:Sanctuary
END:VEVENT
BEGIN:VEVENT
DTSTART;TZID=America/Los_Angeles:20260719T093000
DTEND;TZID=America/Los_Angeles:20260719T103000
DTSTAMP:20260421T164305
CREATED:20260324T160104Z
LAST-MODIFIED:20260324T160104Z
UID:10000235-1784453400-1784457000@firstpresbyterianchurchsl.org
SUMMARY:In-Person Worship Service
DESCRIPTION:Our service includes meaningful music\, prayer\, and a thoughtful message\, followed by a time of fellowship and connection. All are welcome!
URL:https://firstpresbyterianchurchsl.org/event/in-person-worship-service/2026-07-19/
LOCATION:First Presbyterian Church of San Leandro\, 180 Estudillo Avenue\, San Leandros\, 94577
CATEGORIES:Sanctuary
END:VEVENT
BEGIN:VEVENT
DTSTART;TZID=America/Los_Angeles:20260726T093000
DTEND;TZID=America/Los_Angeles:20260726T103000
DTSTAMP:20260421T164305
CREATED:20260324T160104Z
LAST-MODIFIED:20260324T160104Z
UID:10000236-1785058200-1785061800@firstpresbyterianchurchsl.org
SUMMARY:In-Person Worship Service
DESCRIPTION:Our service includes meaningful music\, prayer\, and a thoughtful message\, followed by a time of fellowship and connection. All are welcome!
URL:https://firstpresbyterianchurchsl.org/event/in-person-worship-service/2026-07-26/
LOCATION:First Presbyterian Church of San Leandro\, 180 Estudillo Avenue\, San Leandros\, 94577
CATEGORIES:Sanctuary
END:VEVENT
BEGIN:VEVENT
DTSTART;TZID=America/Los_Angeles:20260802T093000
DTEND;TZID=America/Los_Angeles:20260802T103000
DTSTAMP:20260421T164305
CREATED:20260324T160104Z
LAST-MODIFIED:20260324T160104Z
UID:10000237-1785663000-1785666600@firstpresbyterianchurchsl.org
SUMMARY:In-Person Worship Service
DESCRIPTION:Our service includes meaningful music\, prayer\, and a thoughtful message\, followed by a time of fellowship and connection. All are welcome!
URL:https://firstpresbyterianchurchsl.org/event/in-person-worship-service/2026-08-02/
LOCATION:First Presbyterian Church of San Leandro\, 180 Estudillo Avenue\, San Leandros\, 94577
CATEGORIES:Sanctuary
END:VEVENT
BEGIN:VEVENT
DTSTART;TZID=America/Los_Angeles:20260809T093000
DTEND;TZID=America/Los_Angeles:20260809T103000
DTSTAMP:20260421T164305
CREATED:20260324T160104Z
LAST-MODIFIED:20260324T160104Z
UID:10000238-1786267800-1786271400@firstpresbyterianchurchsl.org
SUMMARY:In-Person Worship Service
DESCRIPTION:Our service includes meaningful music\, prayer\, and a thoughtful message\, followed by a time of fellowship and connection. All are welcome!
URL:https://firstpresbyterianchurchsl.org/event/in-person-worship-service/2026-08-09/
LOCATION:First Presbyterian Church of San Leandro\, 180 Estudillo Avenue\, San Leandros\, 94577
CATEGORIES:Sanctuary
END:VEVENT
BEGIN:VEVENT
DTSTART;TZID=America/Los_Angeles:20260816T093000
DTEND;TZID=America/Los_Angeles:20260816T103000
DTSTAMP:20260421T164305
CREATED:20260324T160104Z
LAST-MODIFIED:20260324T160104Z
UID:10000239-1786872600-1786876200@firstpresbyterianchurchsl.org
SUMMARY:In-Person Worship Service
DESCRIPTION:Our service includes meaningful music\, prayer\, and a thoughtful message\, followed by a time of fellowship and connection. All are welcome!
URL:https://firstpresbyterianchurchsl.org/event/in-person-worship-service/2026-08-16/
LOCATION:First Presbyterian Church of San Leandro\, 180 Estudillo Avenue\, San Leandros\, 94577
CATEGORIES:Sanctuary
END:VEVENT
BEGIN:VEVENT
DTSTART;TZID=America/Los_Angeles:20260823T093000
DTEND;TZID=America/Los_Angeles:20260823T103000
DTSTAMP:20260421T164305
CREATED:20260324T160104Z
LAST-MODIFIED:20260324T160104Z
UID:10000240-1787477400-1787481000@firstpresbyterianchurchsl.org
SUMMARY:In-Person Worship Service
DESCRIPTION:Our service includes meaningful music\, prayer\, and a thoughtful message\, followed by a time of fellowship and connection. All are welcome!
URL:https://firstpresbyterianchurchsl.org/event/in-person-worship-service/2026-08-23/
LOCATION:First Presbyterian Church of San Leandro\, 180 Estudillo Avenue\, San Leandros\, 94577
CATEGORIES:Sanctuary
END:VEVENT
BEGIN:VEVENT
DTSTART;TZID=America/Los_Angeles:20260830T093000
DTEND;TZID=America/Los_Angeles:20260830T103000
DTSTAMP:20260421T164305
CREATED:20260324T160104Z
LAST-MODIFIED:20260324T160104Z
UID:10000241-1788082200-1788085800@firstpresbyterianchurchsl.org
SUMMARY:In-Person Worship Service
DESCRIPTION:Our service includes meaningful music\, prayer\, and a thoughtful message\, followed by a time of fellowship and connection. All are welcome!
URL:https://firstpresbyterianchurchsl.org/event/in-person-worship-service/2026-08-30/
LOCATION:First Presbyterian Church of San Leandro\, 180 Estudillo Avenue\, San Leandros\, 94577
CATEGORIES:Sanctuary
END:VEVENT
BEGIN:VEVENT
DTSTART;TZID=America/Los_Angeles:20260906T093000
DTEND;TZID=America/Los_Angeles:20260906T103000
DTSTAMP:20260421T164305
CREATED:20260324T160104Z
LAST-MODIFIED:20260324T160104Z
UID:10000242-1788687000-1788690600@firstpresbyterianchurchsl.org
SUMMARY:In-Person Worship Service
DESCRIPTION:Our service includes meaningful music\, prayer\, and a thoughtful message\, followed by a time of fellowship and connection. All are welcome!
URL:https://firstpresbyterianchurchsl.org/event/in-person-worship-service/2026-09-06/
LOCATION:First Presbyterian Church of San Leandro\, 180 Estudillo Avenue\, San Leandros\, 94577
CATEGORIES:Sanctuary
END:VEVENT
BEGIN:VEVENT
DTSTART;TZID=America/Los_Angeles:20260913T093000
DTEND;TZID=America/Los_Angeles:20260913T103000
DTSTAMP:20260421T164305
CREATED:20260324T160104Z
LAST-MODIFIED:20260324T160104Z
UID:10000243-1789291800-1789295400@firstpresbyterianchurchsl.org
SUMMARY:In-Person Worship Service
DESCRIPTION:Our service includes meaningful music\, prayer\, and a thoughtful message\, followed by a time of fellowship and connection. All are welcome!
URL:https://firstpresbyterianchurchsl.org/event/in-person-worship-service/2026-09-13/
LOCATION:First Presbyterian Church of San Leandro\, 180 Estudillo Avenue\, San Leandros\, 94577
CATEGORIES:Sanctuary
END:VEVENT
BEGIN:VEVENT
DTSTART;TZID=America/Los_Angeles:20260920T093000
DTEND;TZID=America/Los_Angeles:20260920T103000
DTSTAMP:20260421T164305
CREATED:20260324T160104Z
LAST-MODIFIED:20260324T160104Z
UID:10000244-1789896600-1789900200@firstpresbyterianchurchsl.org
SUMMARY:In-Person Worship Service
DESCRIPTION:Our service includes meaningful music\, prayer\, and a thoughtful message\, followed by a time of fellowship and connection. All are welcome!
URL:https://firstpresbyterianchurchsl.org/event/in-person-worship-service/2026-09-20/
LOCATION:First Presbyterian Church of San Leandro\, 180 Estudillo Avenue\, San Leandros\, 94577
CATEGORIES:Sanctuary
END:VEVENT
BEGIN:VEVENT
DTSTART;TZID=America/Los_Angeles:20260927T093000
DTEND;TZID=America/Los_Angeles:20260927T103000
DTSTAMP:20260421T164305
CREATED:20260324T160104Z
LAST-MODIFIED:20260324T160104Z
UID:10000245-1790501400-1790505000@firstpresbyterianchurchsl.org
SUMMARY:In-Person Worship Service
DESCRIPTION:Our service includes meaningful music\, prayer\, and a thoughtful message\, followed by a time of fellowship and connection. All are welcome!
URL:https://firstpresbyterianchurchsl.org/event/in-person-worship-service/2026-09-27/
LOCATION:First Presbyterian Church of San Leandro\, 180 Estudillo Avenue\, San Leandros\, 94577
CATEGORIES:Sanctuary
END:VEVENT
BEGIN:VEVENT
DTSTART;TZID=America/Los_Angeles:20261004T093000
DTEND;TZID=America/Los_Angeles:20261004T103000
DTSTAMP:20260421T164305
CREATED:20260324T160104Z
LAST-MODIFIED:20260324T160104Z
UID:10000246-1791106200-1791109800@firstpresbyterianchurchsl.org
SUMMARY:In-Person Worship Service
DESCRIPTION:Our service includes meaningful music\, prayer\, and a thoughtful message\, followed by a time of fellowship and connection. All are welcome!
URL:https://firstpresbyterianchurchsl.org/event/in-person-worship-service/2026-10-04/
LOCATION:First Presbyterian Church of San Leandro\, 180 Estudillo Avenue\, San Leandros\, 94577
CATEGORIES:Sanctuary
END:VEVENT
BEGIN:VEVENT
DTSTART;TZID=America/Los_Angeles:20261011T093000
DTEND;TZID=America/Los_Angeles:20261011T103000
DTSTAMP:20260421T164305
CREATED:20260324T160104Z
LAST-MODIFIED:20260324T160104Z
UID:10000247-1791711000-1791714600@firstpresbyterianchurchsl.org
SUMMARY:In-Person Worship Service
DESCRIPTION:Our service includes meaningful music\, prayer\, and a thoughtful message\, followed by a time of fellowship and connection. All are welcome!
URL:https://firstpresbyterianchurchsl.org/event/in-person-worship-service/2026-10-11/
LOCATION:First Presbyterian Church of San Leandro\, 180 Estudillo Avenue\, San Leandros\, 94577
CATEGORIES:Sanctuary
END:VEVENT
BEGIN:VEVENT
DTSTART;TZID=America/Los_Angeles:20261018T093000
DTEND;TZID=America/Los_Angeles:20261018T103000
DTSTAMP:20260421T164305
CREATED:20260324T160104Z
LAST-MODIFIED:20260324T160104Z
UID:10000248-1792315800-1792319400@firstpresbyterianchurchsl.org
SUMMARY:In-Person Worship Service
DESCRIPTION:Our service includes meaningful music\, prayer\, and a thoughtful message\, followed by a time of fellowship and connection. All are welcome!
URL:https://firstpresbyterianchurchsl.org/event/in-person-worship-service/2026-10-18/
LOCATION:First Presbyterian Church of San Leandro\, 180 Estudillo Avenue\, San Leandros\, 94577
CATEGORIES:Sanctuary
END:VEVENT
BEGIN:VEVENT
DTSTART;TZID=America/Los_Angeles:20261025T093000
DTEND;TZID=America/Los_Angeles:20261025T103000
DTSTAMP:20260421T164305
CREATED:20260324T160104Z
LAST-MODIFIED:20260324T160104Z
UID:10000249-1792920600-1792924200@firstpresbyterianchurchsl.org
SUMMARY:In-Person Worship Service
DESCRIPTION:Our service includes meaningful music\, prayer\, and a thoughtful message\, followed by a time of fellowship and connection. All are welcome!
URL:https://firstpresbyterianchurchsl.org/event/in-person-worship-service/2026-10-25/
LOCATION:First Presbyterian Church of San Leandro\, 180 Estudillo Avenue\, San Leandros\, 94577
CATEGORIES:Sanctuary
END:VEVENT
BEGIN:VEVENT
DTSTART;TZID=America/Los_Angeles:20261101T093000
DTEND;TZID=America/Los_Angeles:20261101T103000
DTSTAMP:20260421T164305
CREATED:20260324T160104Z
LAST-MODIFIED:20260324T160104Z
UID:10000250-1793525400-1793529000@firstpresbyterianchurchsl.org
SUMMARY:In-Person Worship Service
DESCRIPTION:Our service includes meaningful music\, prayer\, and a thoughtful message\, followed by a time of fellowship and connection. All are welcome!
URL:https://firstpresbyterianchurchsl.org/event/in-person-worship-service/2026-11-01/
LOCATION:First Presbyterian Church of San Leandro\, 180 Estudillo Avenue\, San Leandros\, 94577
CATEGORIES:Sanctuary
END:VEVENT
BEGIN:VEVENT
DTSTART;TZID=America/Los_Angeles:20261108T093000
DTEND;TZID=America/Los_Angeles:20261108T103000
DTSTAMP:20260421T164305
CREATED:20260324T160104Z
LAST-MODIFIED:20260324T160104Z
UID:10000251-1794130200-1794133800@firstpresbyterianchurchsl.org
SUMMARY:In-Person Worship Service
DESCRIPTION:Our service includes meaningful music\, prayer\, and a thoughtful message\, followed by a time of fellowship and connection. All are welcome!
URL:https://firstpresbyterianchurchsl.org/event/in-person-worship-service/2026-11-08/
LOCATION:First Presbyterian Church of San Leandro\, 180 Estudillo Avenue\, San Leandros\, 94577
CATEGORIES:Sanctuary
END:VEVENT
BEGIN:VEVENT
DTSTART;TZID=America/Los_Angeles:20261115T093000
DTEND;TZID=America/Los_Angeles:20261115T103000
DTSTAMP:20260421T164305
CREATED:20260324T160104Z
LAST-MODIFIED:20260324T160104Z
UID:10000252-1794735000-1794738600@firstpresbyterianchurchsl.org
SUMMARY:In-Person Worship Service
DESCRIPTION:Our service includes meaningful music\, prayer\, and a thoughtful message\, followed by a time of fellowship and connection. All are welcome!
URL:https://firstpresbyterianchurchsl.org/event/in-person-worship-service/2026-11-15/
LOCATION:First Presbyterian Church of San Leandro\, 180 Estudillo Avenue\, San Leandros\, 94577
CATEGORIES:Sanctuary
END:VEVENT
END:VCALENDAR