BEGIN:VCALENDAR
VERSION:2.0
PRODID:-//First Presbyterian Church SL - ECPv6.15.20//NONSGML v1.0//EN
CALSCALE:GREGORIAN
METHOD:PUBLISH
X-ORIGINAL-URL:https://firstpresbyterianchurchsl.org
X-WR-CALDESC:Events for First Presbyterian Church SL
REFRESH-INTERVAL;VALUE=DURATION:PT1H
X-Robots-Tag:noindex
X-PUBLISHED-TTL:PT1H
BEGIN:VTIMEZONE
TZID:America/Los_Angeles
BEGIN:DAYLIGHT
TZOFFSETFROM:-0800
TZOFFSETTO:-0700
TZNAME:PDT
DTSTART:20270314T100000
END:DAYLIGHT
BEGIN:STANDARD
TZOFFSETFROM:-0700
TZOFFSETTO:-0800
TZNAME:PST
DTSTART:20271107T090000
END:STANDARD
BEGIN:DAYLIGHT
TZOFFSETFROM:-0800
TZOFFSETTO:-0700
TZNAME:PDT
DTSTART:20280312T100000
END:DAYLIGHT
BEGIN:STANDARD
TZOFFSETFROM:-0700
TZOFFSETTO:-0800
TZNAME:PST
DTSTART:20281105T090000
END:STANDARD
BEGIN:DAYLIGHT
TZOFFSETFROM:-0800
TZOFFSETTO:-0700
TZNAME:PDT
DTSTART:20290311T100000
END:DAYLIGHT
BEGIN:STANDARD
TZOFFSETFROM:-0700
TZOFFSETTO:-0800
TZNAME:PST
DTSTART:20291104T090000
END:STANDARD
END:VTIMEZONE
BEGIN:VEVENT
DTSTART;TZID=America/Los_Angeles:20280423T103000
DTEND;TZID=America/Los_Angeles:20280423T113000
DTSTAMP:20260423T141159
CREATED:20260324T163227Z
LAST-MODIFIED:20260324T163227Z
UID:10000604-1840098600-1840102200@firstpresbyterianchurchsl.org
SUMMARY:Coffee Fellowship
DESCRIPTION:
URL:https://firstpresbyterianchurchsl.org/event/coffee-fellowship/2028-04-23/
LOCATION:First Presbyterian Church of San Leandro\, 180 Estudillo Avenue\, San Leandros\, 94577
CATEGORIES:Fellowship Hall
END:VEVENT
BEGIN:VEVENT
DTSTART;TZID=America/Los_Angeles:20280430T093000
DTEND;TZID=America/Los_Angeles:20280430T103000
DTSTAMP:20260423T141159
CREATED:20260324T160104Z
LAST-MODIFIED:20260324T160104Z
UID:10000328-1840699800-1840703400@firstpresbyterianchurchsl.org
SUMMARY:In-Person Worship Service
DESCRIPTION:Our service includes meaningful music\, prayer\, and a thoughtful message\, followed by a time of fellowship and connection. All are welcome!
URL:https://firstpresbyterianchurchsl.org/event/in-person-worship-service/2028-04-30/
LOCATION:First Presbyterian Church of San Leandro\, 180 Estudillo Avenue\, San Leandros\, 94577
CATEGORIES:Sanctuary
END:VEVENT
BEGIN:VEVENT
DTSTART;TZID=America/Los_Angeles:20280430T103000
DTEND;TZID=America/Los_Angeles:20280430T113000
DTSTAMP:20260423T141159
CREATED:20260324T163227Z
LAST-MODIFIED:20260324T163227Z
UID:10000605-1840703400-1840707000@firstpresbyterianchurchsl.org
SUMMARY:Coffee Fellowship
DESCRIPTION:
URL:https://firstpresbyterianchurchsl.org/event/coffee-fellowship/2028-04-30/
LOCATION:First Presbyterian Church of San Leandro\, 180 Estudillo Avenue\, San Leandros\, 94577
CATEGORIES:Fellowship Hall
END:VEVENT
BEGIN:VEVENT
DTSTART;TZID=America/Los_Angeles:20280507T093000
DTEND;TZID=America/Los_Angeles:20280507T103000
DTSTAMP:20260423T141159
CREATED:20260324T160104Z
LAST-MODIFIED:20260324T160104Z
UID:10000329-1841304600-1841308200@firstpresbyterianchurchsl.org
SUMMARY:In-Person Worship Service
DESCRIPTION:Our service includes meaningful music\, prayer\, and a thoughtful message\, followed by a time of fellowship and connection. All are welcome!
URL:https://firstpresbyterianchurchsl.org/event/in-person-worship-service/2028-05-07/
LOCATION:First Presbyterian Church of San Leandro\, 180 Estudillo Avenue\, San Leandros\, 94577
CATEGORIES:Sanctuary
END:VEVENT
BEGIN:VEVENT
DTSTART;TZID=America/Los_Angeles:20280507T103000
DTEND;TZID=America/Los_Angeles:20280507T113000
DTSTAMP:20260423T141159
CREATED:20260324T163227Z
LAST-MODIFIED:20260324T163227Z
UID:10000606-1841308200-1841311800@firstpresbyterianchurchsl.org
SUMMARY:Coffee Fellowship
DESCRIPTION:
URL:https://firstpresbyterianchurchsl.org/event/coffee-fellowship/2028-05-07/
LOCATION:First Presbyterian Church of San Leandro\, 180 Estudillo Avenue\, San Leandros\, 94577
CATEGORIES:Fellowship Hall
END:VEVENT
BEGIN:VEVENT
DTSTART;TZID=America/Los_Angeles:20280514T093000
DTEND;TZID=America/Los_Angeles:20280514T103000
DTSTAMP:20260423T141159
CREATED:20260324T160104Z
LAST-MODIFIED:20260324T160104Z
UID:10000330-1841909400-1841913000@firstpresbyterianchurchsl.org
SUMMARY:In-Person Worship Service
DESCRIPTION:Our service includes meaningful music\, prayer\, and a thoughtful message\, followed by a time of fellowship and connection. All are welcome!
URL:https://firstpresbyterianchurchsl.org/event/in-person-worship-service/2028-05-14/
LOCATION:First Presbyterian Church of San Leandro\, 180 Estudillo Avenue\, San Leandros\, 94577
CATEGORIES:Sanctuary
END:VEVENT
BEGIN:VEVENT
DTSTART;TZID=America/Los_Angeles:20280514T103000
DTEND;TZID=America/Los_Angeles:20280514T113000
DTSTAMP:20260423T141159
CREATED:20260326T181248Z
LAST-MODIFIED:20260326T181248Z
UID:10000890-1841913000-1841916600@firstpresbyterianchurchsl.org
SUMMARY:Coffee Fellowship/Manna Bags & Equal Exchange
DESCRIPTION:
URL:https://firstpresbyterianchurchsl.org/event/coffee-fellowship-manna-bags-equal-exchange/2028-05-14/
LOCATION:First Presbyterian Church of San Leandro\, 180 Estudillo Avenue\, San Leandros\, 94577
CATEGORIES:Fellowship Hall
END:VEVENT
BEGIN:VEVENT
DTSTART;TZID=America/Los_Angeles:20280516T180000
DTEND;TZID=America/Los_Angeles:20280516T190000
DTSTAMP:20260423T141159
CREATED:20260326T171555Z
LAST-MODIFIED:20260326T171555Z
UID:10000815-1842112800-1842116400@firstpresbyterianchurchsl.org
SUMMARY:Session Meeting
DESCRIPTION:
URL:https://firstpresbyterianchurchsl.org/event/session-meeting/2028-05-16/
LOCATION:First Presbyterian Church of San Leandro\, 180 Estudillo Avenue\, San Leandros\, 94577
CATEGORIES:Fireside Room
END:VEVENT
BEGIN:VEVENT
DTSTART;TZID=America/Los_Angeles:20280521T093000
DTEND;TZID=America/Los_Angeles:20280521T103000
DTSTAMP:20260423T141159
CREATED:20260324T160104Z
LAST-MODIFIED:20260324T160104Z
UID:10000331-1842514200-1842517800@firstpresbyterianchurchsl.org
SUMMARY:In-Person Worship Service
DESCRIPTION:Our service includes meaningful music\, prayer\, and a thoughtful message\, followed by a time of fellowship and connection. All are welcome!
URL:https://firstpresbyterianchurchsl.org/event/in-person-worship-service/2028-05-21/
LOCATION:First Presbyterian Church of San Leandro\, 180 Estudillo Avenue\, San Leandros\, 94577
CATEGORIES:Sanctuary
END:VEVENT
BEGIN:VEVENT
DTSTART;TZID=America/Los_Angeles:20280521T103000
DTEND;TZID=America/Los_Angeles:20280521T113000
DTSTAMP:20260423T141159
CREATED:20260324T163227Z
LAST-MODIFIED:20260324T163227Z
UID:10000607-1842517800-1842521400@firstpresbyterianchurchsl.org
SUMMARY:Coffee Fellowship
DESCRIPTION:
URL:https://firstpresbyterianchurchsl.org/event/coffee-fellowship/2028-05-21/
LOCATION:First Presbyterian Church of San Leandro\, 180 Estudillo Avenue\, San Leandros\, 94577
CATEGORIES:Fellowship Hall
END:VEVENT
BEGIN:VEVENT
DTSTART;TZID=America/Los_Angeles:20280528T093000
DTEND;TZID=America/Los_Angeles:20280528T103000
DTSTAMP:20260423T141159
CREATED:20260324T160104Z
LAST-MODIFIED:20260324T160104Z
UID:10000332-1843119000-1843122600@firstpresbyterianchurchsl.org
SUMMARY:In-Person Worship Service
DESCRIPTION:Our service includes meaningful music\, prayer\, and a thoughtful message\, followed by a time of fellowship and connection. All are welcome!
URL:https://firstpresbyterianchurchsl.org/event/in-person-worship-service/2028-05-28/
LOCATION:First Presbyterian Church of San Leandro\, 180 Estudillo Avenue\, San Leandros\, 94577
CATEGORIES:Sanctuary
END:VEVENT
BEGIN:VEVENT
DTSTART;TZID=America/Los_Angeles:20280528T103000
DTEND;TZID=America/Los_Angeles:20280528T113000
DTSTAMP:20260423T141159
CREATED:20260324T163227Z
LAST-MODIFIED:20260324T163227Z
UID:10000608-1843122600-1843126200@firstpresbyterianchurchsl.org
SUMMARY:Coffee Fellowship
DESCRIPTION:
URL:https://firstpresbyterianchurchsl.org/event/coffee-fellowship/2028-05-28/
LOCATION:First Presbyterian Church of San Leandro\, 180 Estudillo Avenue\, San Leandros\, 94577
CATEGORIES:Fellowship Hall
END:VEVENT
BEGIN:VEVENT
DTSTART;TZID=America/Los_Angeles:20280604T093000
DTEND;TZID=America/Los_Angeles:20280604T103000
DTSTAMP:20260423T141159
CREATED:20260324T160104Z
LAST-MODIFIED:20260324T160104Z
UID:10000333-1843723800-1843727400@firstpresbyterianchurchsl.org
SUMMARY:In-Person Worship Service
DESCRIPTION:Our service includes meaningful music\, prayer\, and a thoughtful message\, followed by a time of fellowship and connection. All are welcome!
URL:https://firstpresbyterianchurchsl.org/event/in-person-worship-service/2028-06-04/
LOCATION:First Presbyterian Church of San Leandro\, 180 Estudillo Avenue\, San Leandros\, 94577
CATEGORIES:Sanctuary
END:VEVENT
BEGIN:VEVENT
DTSTART;TZID=America/Los_Angeles:20280604T103000
DTEND;TZID=America/Los_Angeles:20280604T113000
DTSTAMP:20260423T141159
CREATED:20260324T163227Z
LAST-MODIFIED:20260324T163227Z
UID:10000609-1843727400-1843731000@firstpresbyterianchurchsl.org
SUMMARY:Coffee Fellowship
DESCRIPTION:
URL:https://firstpresbyterianchurchsl.org/event/coffee-fellowship/2028-06-04/
LOCATION:First Presbyterian Church of San Leandro\, 180 Estudillo Avenue\, San Leandros\, 94577
CATEGORIES:Fellowship Hall
END:VEVENT
BEGIN:VEVENT
DTSTART;TZID=America/Los_Angeles:20280611T093000
DTEND;TZID=America/Los_Angeles:20280611T103000
DTSTAMP:20260423T141159
CREATED:20260324T160104Z
LAST-MODIFIED:20260324T160104Z
UID:10000334-1844328600-1844332200@firstpresbyterianchurchsl.org
SUMMARY:In-Person Worship Service
DESCRIPTION:Our service includes meaningful music\, prayer\, and a thoughtful message\, followed by a time of fellowship and connection. All are welcome!
URL:https://firstpresbyterianchurchsl.org/event/in-person-worship-service/2028-06-11/
LOCATION:First Presbyterian Church of San Leandro\, 180 Estudillo Avenue\, San Leandros\, 94577
CATEGORIES:Sanctuary
END:VEVENT
BEGIN:VEVENT
DTSTART;TZID=America/Los_Angeles:20280611T103000
DTEND;TZID=America/Los_Angeles:20280611T113000
DTSTAMP:20260423T141159
CREATED:20260326T181248Z
LAST-MODIFIED:20260326T181248Z
UID:10000891-1844332200-1844335800@firstpresbyterianchurchsl.org
SUMMARY:Coffee Fellowship/Manna Bags & Equal Exchange
DESCRIPTION:
URL:https://firstpresbyterianchurchsl.org/event/coffee-fellowship-manna-bags-equal-exchange/2028-06-11/
LOCATION:First Presbyterian Church of San Leandro\, 180 Estudillo Avenue\, San Leandros\, 94577
CATEGORIES:Fellowship Hall
END:VEVENT
BEGIN:VEVENT
DTSTART;TZID=America/Los_Angeles:20280618T093000
DTEND;TZID=America/Los_Angeles:20280618T103000
DTSTAMP:20260423T141159
CREATED:20260324T160104Z
LAST-MODIFIED:20260324T160104Z
UID:10000335-1844933400-1844937000@firstpresbyterianchurchsl.org
SUMMARY:In-Person Worship Service
DESCRIPTION:Our service includes meaningful music\, prayer\, and a thoughtful message\, followed by a time of fellowship and connection. All are welcome!
URL:https://firstpresbyterianchurchsl.org/event/in-person-worship-service/2028-06-18/
LOCATION:First Presbyterian Church of San Leandro\, 180 Estudillo Avenue\, San Leandros\, 94577
CATEGORIES:Sanctuary
END:VEVENT
BEGIN:VEVENT
DTSTART;TZID=America/Los_Angeles:20280618T103000
DTEND;TZID=America/Los_Angeles:20280618T113000
DTSTAMP:20260423T141159
CREATED:20260324T163227Z
LAST-MODIFIED:20260324T163227Z
UID:10000610-1844937000-1844940600@firstpresbyterianchurchsl.org
SUMMARY:Coffee Fellowship
DESCRIPTION:
URL:https://firstpresbyterianchurchsl.org/event/coffee-fellowship/2028-06-18/
LOCATION:First Presbyterian Church of San Leandro\, 180 Estudillo Avenue\, San Leandros\, 94577
CATEGORIES:Fellowship Hall
END:VEVENT
BEGIN:VEVENT
DTSTART;TZID=America/Los_Angeles:20280620T180000
DTEND;TZID=America/Los_Angeles:20280620T190000
DTSTAMP:20260423T141159
CREATED:20260326T171555Z
LAST-MODIFIED:20260326T171555Z
UID:10000816-1845136800-1845140400@firstpresbyterianchurchsl.org
SUMMARY:Session Meeting
DESCRIPTION:
URL:https://firstpresbyterianchurchsl.org/event/session-meeting/2028-06-20/
LOCATION:First Presbyterian Church of San Leandro\, 180 Estudillo Avenue\, San Leandros\, 94577
CATEGORIES:Fireside Room
END:VEVENT
BEGIN:VEVENT
DTSTART;TZID=America/Los_Angeles:20280625T093000
DTEND;TZID=America/Los_Angeles:20280625T103000
DTSTAMP:20260423T141159
CREATED:20260324T160104Z
LAST-MODIFIED:20260324T160104Z
UID:10000336-1845538200-1845541800@firstpresbyterianchurchsl.org
SUMMARY:In-Person Worship Service
DESCRIPTION:Our service includes meaningful music\, prayer\, and a thoughtful message\, followed by a time of fellowship and connection. All are welcome!
URL:https://firstpresbyterianchurchsl.org/event/in-person-worship-service/2028-06-25/
LOCATION:First Presbyterian Church of San Leandro\, 180 Estudillo Avenue\, San Leandros\, 94577
CATEGORIES:Sanctuary
END:VEVENT
BEGIN:VEVENT
DTSTART;TZID=America/Los_Angeles:20280625T103000
DTEND;TZID=America/Los_Angeles:20280625T113000
DTSTAMP:20260423T141159
CREATED:20260324T163227Z
LAST-MODIFIED:20260324T163227Z
UID:10000611-1845541800-1845545400@firstpresbyterianchurchsl.org
SUMMARY:Coffee Fellowship
DESCRIPTION:
URL:https://firstpresbyterianchurchsl.org/event/coffee-fellowship/2028-06-25/
LOCATION:First Presbyterian Church of San Leandro\, 180 Estudillo Avenue\, San Leandros\, 94577
CATEGORIES:Fellowship Hall
END:VEVENT
BEGIN:VEVENT
DTSTART;TZID=America/Los_Angeles:20280702T093000
DTEND;TZID=America/Los_Angeles:20280702T103000
DTSTAMP:20260423T141159
CREATED:20260324T160104Z
LAST-MODIFIED:20260324T160104Z
UID:10000337-1846143000-1846146600@firstpresbyterianchurchsl.org
SUMMARY:In-Person Worship Service
DESCRIPTION:Our service includes meaningful music\, prayer\, and a thoughtful message\, followed by a time of fellowship and connection. All are welcome!
URL:https://firstpresbyterianchurchsl.org/event/in-person-worship-service/2028-07-02/
LOCATION:First Presbyterian Church of San Leandro\, 180 Estudillo Avenue\, San Leandros\, 94577
CATEGORIES:Sanctuary
END:VEVENT
BEGIN:VEVENT
DTSTART;TZID=America/Los_Angeles:20280702T103000
DTEND;TZID=America/Los_Angeles:20280702T113000
DTSTAMP:20260423T141159
CREATED:20260324T163227Z
LAST-MODIFIED:20260324T163227Z
UID:10000612-1846146600-1846150200@firstpresbyterianchurchsl.org
SUMMARY:Coffee Fellowship
DESCRIPTION:
URL:https://firstpresbyterianchurchsl.org/event/coffee-fellowship/2028-07-02/
LOCATION:First Presbyterian Church of San Leandro\, 180 Estudillo Avenue\, San Leandros\, 94577
CATEGORIES:Fellowship Hall
END:VEVENT
BEGIN:VEVENT
DTSTART;TZID=America/Los_Angeles:20280709T093000
DTEND;TZID=America/Los_Angeles:20280709T103000
DTSTAMP:20260423T141159
CREATED:20260324T160104Z
LAST-MODIFIED:20260324T160104Z
UID:10000338-1846747800-1846751400@firstpresbyterianchurchsl.org
SUMMARY:In-Person Worship Service
DESCRIPTION:Our service includes meaningful music\, prayer\, and a thoughtful message\, followed by a time of fellowship and connection. All are welcome!
URL:https://firstpresbyterianchurchsl.org/event/in-person-worship-service/2028-07-09/
LOCATION:First Presbyterian Church of San Leandro\, 180 Estudillo Avenue\, San Leandros\, 94577
CATEGORIES:Sanctuary
END:VEVENT
BEGIN:VEVENT
DTSTART;TZID=America/Los_Angeles:20280709T103000
DTEND;TZID=America/Los_Angeles:20280709T113000
DTSTAMP:20260423T141159
CREATED:20260326T181248Z
LAST-MODIFIED:20260326T181248Z
UID:10000892-1846751400-1846755000@firstpresbyterianchurchsl.org
SUMMARY:Coffee Fellowship/Manna Bags & Equal Exchange
DESCRIPTION:
URL:https://firstpresbyterianchurchsl.org/event/coffee-fellowship-manna-bags-equal-exchange/2028-07-09/
LOCATION:First Presbyterian Church of San Leandro\, 180 Estudillo Avenue\, San Leandros\, 94577
CATEGORIES:Fellowship Hall
END:VEVENT
BEGIN:VEVENT
DTSTART;TZID=America/Los_Angeles:20280716T093000
DTEND;TZID=America/Los_Angeles:20280716T103000
DTSTAMP:20260423T141159
CREATED:20260324T160104Z
LAST-MODIFIED:20260324T160104Z
UID:10000339-1847352600-1847356200@firstpresbyterianchurchsl.org
SUMMARY:In-Person Worship Service
DESCRIPTION:Our service includes meaningful music\, prayer\, and a thoughtful message\, followed by a time of fellowship and connection. All are welcome!
URL:https://firstpresbyterianchurchsl.org/event/in-person-worship-service/2028-07-16/
LOCATION:First Presbyterian Church of San Leandro\, 180 Estudillo Avenue\, San Leandros\, 94577
CATEGORIES:Sanctuary
END:VEVENT
BEGIN:VEVENT
DTSTART;TZID=America/Los_Angeles:20280716T103000
DTEND;TZID=America/Los_Angeles:20280716T113000
DTSTAMP:20260423T141159
CREATED:20260324T163227Z
LAST-MODIFIED:20260324T163227Z
UID:10000613-1847356200-1847359800@firstpresbyterianchurchsl.org
SUMMARY:Coffee Fellowship
DESCRIPTION:
URL:https://firstpresbyterianchurchsl.org/event/coffee-fellowship/2028-07-16/
LOCATION:First Presbyterian Church of San Leandro\, 180 Estudillo Avenue\, San Leandros\, 94577
CATEGORIES:Fellowship Hall
END:VEVENT
BEGIN:VEVENT
DTSTART;TZID=America/Los_Angeles:20280718T180000
DTEND;TZID=America/Los_Angeles:20280718T190000
DTSTAMP:20260423T141159
CREATED:20260326T171555Z
LAST-MODIFIED:20260326T171555Z
UID:10000817-1847556000-1847559600@firstpresbyterianchurchsl.org
SUMMARY:Session Meeting
DESCRIPTION:
URL:https://firstpresbyterianchurchsl.org/event/session-meeting/2028-07-18/
LOCATION:First Presbyterian Church of San Leandro\, 180 Estudillo Avenue\, San Leandros\, 94577
CATEGORIES:Fireside Room
END:VEVENT
BEGIN:VEVENT
DTSTART;TZID=America/Los_Angeles:20280723T093000
DTEND;TZID=America/Los_Angeles:20280723T103000
DTSTAMP:20260423T141159
CREATED:20260324T160104Z
LAST-MODIFIED:20260324T160104Z
UID:10000340-1847957400-1847961000@firstpresbyterianchurchsl.org
SUMMARY:In-Person Worship Service
DESCRIPTION:Our service includes meaningful music\, prayer\, and a thoughtful message\, followed by a time of fellowship and connection. All are welcome!
URL:https://firstpresbyterianchurchsl.org/event/in-person-worship-service/2028-07-23/
LOCATION:First Presbyterian Church of San Leandro\, 180 Estudillo Avenue\, San Leandros\, 94577
CATEGORIES:Sanctuary
END:VEVENT
BEGIN:VEVENT
DTSTART;TZID=America/Los_Angeles:20280723T103000
DTEND;TZID=America/Los_Angeles:20280723T113000
DTSTAMP:20260423T141159
CREATED:20260324T163227Z
LAST-MODIFIED:20260324T163227Z
UID:10000614-1847961000-1847964600@firstpresbyterianchurchsl.org
SUMMARY:Coffee Fellowship
DESCRIPTION:
URL:https://firstpresbyterianchurchsl.org/event/coffee-fellowship/2028-07-23/
LOCATION:First Presbyterian Church of San Leandro\, 180 Estudillo Avenue\, San Leandros\, 94577
CATEGORIES:Fellowship Hall
END:VEVENT
END:VCALENDAR