BEGIN:VCALENDAR
VERSION:2.0
PRODID:-//First Presbyterian Church SL - ECPv6.15.20//NONSGML v1.0//EN
CALSCALE:GREGORIAN
METHOD:PUBLISH
X-WR-CALNAME:First Presbyterian Church SL
X-ORIGINAL-URL:https://firstpresbyterianchurchsl.org
X-WR-CALDESC:Events for First Presbyterian Church SL
REFRESH-INTERVAL;VALUE=DURATION:PT1H
X-Robots-Tag:noindex
X-PUBLISHED-TTL:PT1H
BEGIN:VTIMEZONE
TZID:America/Los_Angeles
BEGIN:DAYLIGHT
TZOFFSETFROM:-0800
TZOFFSETTO:-0700
TZNAME:PDT
DTSTART:20250309T100000
END:DAYLIGHT
BEGIN:STANDARD
TZOFFSETFROM:-0700
TZOFFSETTO:-0800
TZNAME:PST
DTSTART:20251102T090000
END:STANDARD
BEGIN:DAYLIGHT
TZOFFSETFROM:-0800
TZOFFSETTO:-0700
TZNAME:PDT
DTSTART:20260308T100000
END:DAYLIGHT
BEGIN:STANDARD
TZOFFSETFROM:-0700
TZOFFSETTO:-0800
TZNAME:PST
DTSTART:20261101T090000
END:STANDARD
BEGIN:DAYLIGHT
TZOFFSETFROM:-0800
TZOFFSETTO:-0700
TZNAME:PDT
DTSTART:20270314T100000
END:DAYLIGHT
BEGIN:STANDARD
TZOFFSETFROM:-0700
TZOFFSETTO:-0800
TZNAME:PST
DTSTART:20271107T090000
END:STANDARD
BEGIN:DAYLIGHT
TZOFFSETFROM:-0800
TZOFFSETTO:-0700
TZNAME:PDT
DTSTART:20280312T100000
END:DAYLIGHT
BEGIN:STANDARD
TZOFFSETFROM:-0700
TZOFFSETTO:-0800
TZNAME:PST
DTSTART:20281105T090000
END:STANDARD
END:VTIMEZONE
BEGIN:VEVENT
DTSTART;TZID=America/Los_Angeles:20261122T093000
DTEND;TZID=America/Los_Angeles:20261122T103000
DTSTAMP:20260422T145301
CREATED:20260324T160104Z
LAST-MODIFIED:20260324T160104Z
UID:10000253-1795339800-1795343400@firstpresbyterianchurchsl.org
SUMMARY:In-Person Worship Service
DESCRIPTION:Our service includes meaningful music\, prayer\, and a thoughtful message\, followed by a time of fellowship and connection. All are welcome!
URL:https://firstpresbyterianchurchsl.org/event/in-person-worship-service/2026-11-22/
LOCATION:First Presbyterian Church of San Leandro\, 180 Estudillo Avenue\, San Leandros\, 94577
CATEGORIES:Sanctuary
END:VEVENT
BEGIN:VEVENT
DTSTART;TZID=America/Los_Angeles:20261122T103000
DTEND;TZID=America/Los_Angeles:20261122T113000
DTSTAMP:20260422T145301
CREATED:20260324T163227Z
LAST-MODIFIED:20260324T163227Z
UID:10000547-1795343400-1795347000@firstpresbyterianchurchsl.org
SUMMARY:Coffee Fellowship
DESCRIPTION:
URL:https://firstpresbyterianchurchsl.org/event/coffee-fellowship/2026-11-22/
LOCATION:First Presbyterian Church of San Leandro\, 180 Estudillo Avenue\, San Leandros\, 94577
CATEGORIES:Fellowship Hall
END:VEVENT
BEGIN:VEVENT
DTSTART;TZID=America/Los_Angeles:20261129T093000
DTEND;TZID=America/Los_Angeles:20261129T103000
DTSTAMP:20260422T145301
CREATED:20260324T160104Z
LAST-MODIFIED:20260324T160104Z
UID:10000254-1795944600-1795948200@firstpresbyterianchurchsl.org
SUMMARY:In-Person Worship Service
DESCRIPTION:Our service includes meaningful music\, prayer\, and a thoughtful message\, followed by a time of fellowship and connection. All are welcome!
URL:https://firstpresbyterianchurchsl.org/event/in-person-worship-service/2026-11-29/
LOCATION:First Presbyterian Church of San Leandro\, 180 Estudillo Avenue\, San Leandros\, 94577
CATEGORIES:Sanctuary
END:VEVENT
BEGIN:VEVENT
DTSTART;TZID=America/Los_Angeles:20261129T103000
DTEND;TZID=America/Los_Angeles:20261129T113000
DTSTAMP:20260422T145301
CREATED:20260324T163227Z
LAST-MODIFIED:20260324T163227Z
UID:10000548-1795948200-1795951800@firstpresbyterianchurchsl.org
SUMMARY:Coffee Fellowship
DESCRIPTION:
URL:https://firstpresbyterianchurchsl.org/event/coffee-fellowship/2026-11-29/
LOCATION:First Presbyterian Church of San Leandro\, 180 Estudillo Avenue\, San Leandros\, 94577
CATEGORIES:Fellowship Hall
END:VEVENT
BEGIN:VEVENT
DTSTART;TZID=America/Los_Angeles:20261206T093000
DTEND;TZID=America/Los_Angeles:20261206T103000
DTSTAMP:20260422T145301
CREATED:20260324T160104Z
LAST-MODIFIED:20260324T160104Z
UID:10000255-1796549400-1796553000@firstpresbyterianchurchsl.org
SUMMARY:In-Person Worship Service
DESCRIPTION:Our service includes meaningful music\, prayer\, and a thoughtful message\, followed by a time of fellowship and connection. All are welcome!
URL:https://firstpresbyterianchurchsl.org/event/in-person-worship-service/2026-12-06/
LOCATION:First Presbyterian Church of San Leandro\, 180 Estudillo Avenue\, San Leandros\, 94577
CATEGORIES:Sanctuary
END:VEVENT
BEGIN:VEVENT
DTSTART;TZID=America/Los_Angeles:20261206T103000
DTEND;TZID=America/Los_Angeles:20261206T113000
DTSTAMP:20260422T145301
CREATED:20260324T163227Z
LAST-MODIFIED:20260324T163227Z
UID:10000549-1796553000-1796556600@firstpresbyterianchurchsl.org
SUMMARY:Coffee Fellowship
DESCRIPTION:
URL:https://firstpresbyterianchurchsl.org/event/coffee-fellowship/2026-12-06/
LOCATION:First Presbyterian Church of San Leandro\, 180 Estudillo Avenue\, San Leandros\, 94577
CATEGORIES:Fellowship Hall
END:VEVENT
BEGIN:VEVENT
DTSTART;TZID=America/Los_Angeles:20261213T093000
DTEND;TZID=America/Los_Angeles:20261213T103000
DTSTAMP:20260422T145301
CREATED:20260324T160104Z
LAST-MODIFIED:20260324T160104Z
UID:10000256-1797154200-1797157800@firstpresbyterianchurchsl.org
SUMMARY:In-Person Worship Service
DESCRIPTION:Our service includes meaningful music\, prayer\, and a thoughtful message\, followed by a time of fellowship and connection. All are welcome!
URL:https://firstpresbyterianchurchsl.org/event/in-person-worship-service/2026-12-13/
LOCATION:First Presbyterian Church of San Leandro\, 180 Estudillo Avenue\, San Leandros\, 94577
CATEGORIES:Sanctuary
END:VEVENT
BEGIN:VEVENT
DTSTART;TZID=America/Los_Angeles:20261213T103000
DTEND;TZID=America/Los_Angeles:20261213T113000
DTSTAMP:20260422T145301
CREATED:20260326T181248Z
LAST-MODIFIED:20260326T181248Z
UID:10000873-1797157800-1797161400@firstpresbyterianchurchsl.org
SUMMARY:Coffee Fellowship/Manna Bags & Equal Exchange
DESCRIPTION:
URL:https://firstpresbyterianchurchsl.org/event/coffee-fellowship-manna-bags-equal-exchange/2026-12-13/
LOCATION:First Presbyterian Church of San Leandro\, 180 Estudillo Avenue\, San Leandros\, 94577
CATEGORIES:Fellowship Hall
END:VEVENT
BEGIN:VEVENT
DTSTART;TZID=America/Los_Angeles:20261215T180000
DTEND;TZID=America/Los_Angeles:20261215T190000
DTSTAMP:20260422T145301
CREATED:20260326T171555Z
LAST-MODIFIED:20260326T171555Z
UID:10000798-1797357600-1797361200@firstpresbyterianchurchsl.org
SUMMARY:Session Meeting
DESCRIPTION:
URL:https://firstpresbyterianchurchsl.org/event/session-meeting/2026-12-15/
LOCATION:First Presbyterian Church of San Leandro\, 180 Estudillo Avenue\, San Leandros\, 94577
CATEGORIES:Fireside Room
END:VEVENT
BEGIN:VEVENT
DTSTART;TZID=America/Los_Angeles:20261220T093000
DTEND;TZID=America/Los_Angeles:20261220T103000
DTSTAMP:20260422T145301
CREATED:20260324T160104Z
LAST-MODIFIED:20260324T160104Z
UID:10000257-1797759000-1797762600@firstpresbyterianchurchsl.org
SUMMARY:In-Person Worship Service
DESCRIPTION:Our service includes meaningful music\, prayer\, and a thoughtful message\, followed by a time of fellowship and connection. All are welcome!
URL:https://firstpresbyterianchurchsl.org/event/in-person-worship-service/2026-12-20/
LOCATION:First Presbyterian Church of San Leandro\, 180 Estudillo Avenue\, San Leandros\, 94577
CATEGORIES:Sanctuary
END:VEVENT
BEGIN:VEVENT
DTSTART;TZID=America/Los_Angeles:20261220T103000
DTEND;TZID=America/Los_Angeles:20261220T113000
DTSTAMP:20260422T145301
CREATED:20260324T163227Z
LAST-MODIFIED:20260324T163227Z
UID:10000550-1797762600-1797766200@firstpresbyterianchurchsl.org
SUMMARY:Coffee Fellowship
DESCRIPTION:
URL:https://firstpresbyterianchurchsl.org/event/coffee-fellowship/2026-12-20/
LOCATION:First Presbyterian Church of San Leandro\, 180 Estudillo Avenue\, San Leandros\, 94577
CATEGORIES:Fellowship Hall
END:VEVENT
BEGIN:VEVENT
DTSTART;TZID=America/Los_Angeles:20261227T093000
DTEND;TZID=America/Los_Angeles:20261227T103000
DTSTAMP:20260422T145301
CREATED:20260324T160104Z
LAST-MODIFIED:20260324T160104Z
UID:10000258-1798363800-1798367400@firstpresbyterianchurchsl.org
SUMMARY:In-Person Worship Service
DESCRIPTION:Our service includes meaningful music\, prayer\, and a thoughtful message\, followed by a time of fellowship and connection. All are welcome!
URL:https://firstpresbyterianchurchsl.org/event/in-person-worship-service/2026-12-27/
LOCATION:First Presbyterian Church of San Leandro\, 180 Estudillo Avenue\, San Leandros\, 94577
CATEGORIES:Sanctuary
END:VEVENT
BEGIN:VEVENT
DTSTART;TZID=America/Los_Angeles:20261227T103000
DTEND;TZID=America/Los_Angeles:20261227T113000
DTSTAMP:20260422T145301
CREATED:20260324T163227Z
LAST-MODIFIED:20260324T163227Z
UID:10000551-1798367400-1798371000@firstpresbyterianchurchsl.org
SUMMARY:Coffee Fellowship
DESCRIPTION:
URL:https://firstpresbyterianchurchsl.org/event/coffee-fellowship/2026-12-27/
LOCATION:First Presbyterian Church of San Leandro\, 180 Estudillo Avenue\, San Leandros\, 94577
CATEGORIES:Fellowship Hall
END:VEVENT
BEGIN:VEVENT
DTSTART;TZID=America/Los_Angeles:20270103T093000
DTEND;TZID=America/Los_Angeles:20270103T103000
DTSTAMP:20260422T145301
CREATED:20260324T160104Z
LAST-MODIFIED:20260324T160104Z
UID:10000259-1798968600-1798972200@firstpresbyterianchurchsl.org
SUMMARY:In-Person Worship Service
DESCRIPTION:Our service includes meaningful music\, prayer\, and a thoughtful message\, followed by a time of fellowship and connection. All are welcome!
URL:https://firstpresbyterianchurchsl.org/event/in-person-worship-service/2027-01-03/
LOCATION:First Presbyterian Church of San Leandro\, 180 Estudillo Avenue\, San Leandros\, 94577
CATEGORIES:Sanctuary
END:VEVENT
BEGIN:VEVENT
DTSTART;TZID=America/Los_Angeles:20270103T103000
DTEND;TZID=America/Los_Angeles:20270103T113000
DTSTAMP:20260422T145301
CREATED:20260324T163227Z
LAST-MODIFIED:20260324T163227Z
UID:10000552-1798972200-1798975800@firstpresbyterianchurchsl.org
SUMMARY:Coffee Fellowship
DESCRIPTION:
URL:https://firstpresbyterianchurchsl.org/event/coffee-fellowship/2027-01-03/
LOCATION:First Presbyterian Church of San Leandro\, 180 Estudillo Avenue\, San Leandros\, 94577
CATEGORIES:Fellowship Hall
END:VEVENT
BEGIN:VEVENT
DTSTART;TZID=America/Los_Angeles:20270110T093000
DTEND;TZID=America/Los_Angeles:20270110T103000
DTSTAMP:20260422T145301
CREATED:20260324T160104Z
LAST-MODIFIED:20260324T160104Z
UID:10000260-1799573400-1799577000@firstpresbyterianchurchsl.org
SUMMARY:In-Person Worship Service
DESCRIPTION:Our service includes meaningful music\, prayer\, and a thoughtful message\, followed by a time of fellowship and connection. All are welcome!
URL:https://firstpresbyterianchurchsl.org/event/in-person-worship-service/2027-01-10/
LOCATION:First Presbyterian Church of San Leandro\, 180 Estudillo Avenue\, San Leandros\, 94577
CATEGORIES:Sanctuary
END:VEVENT
BEGIN:VEVENT
DTSTART;TZID=America/Los_Angeles:20270110T103000
DTEND;TZID=America/Los_Angeles:20270110T113000
DTSTAMP:20260422T145301
CREATED:20260326T181248Z
LAST-MODIFIED:20260326T181248Z
UID:10000874-1799577000-1799580600@firstpresbyterianchurchsl.org
SUMMARY:Coffee Fellowship/Manna Bags & Equal Exchange
DESCRIPTION:
URL:https://firstpresbyterianchurchsl.org/event/coffee-fellowship-manna-bags-equal-exchange/2027-01-10/
LOCATION:First Presbyterian Church of San Leandro\, 180 Estudillo Avenue\, San Leandros\, 94577
CATEGORIES:Fellowship Hall
END:VEVENT
BEGIN:VEVENT
DTSTART;TZID=America/Los_Angeles:20270117T093000
DTEND;TZID=America/Los_Angeles:20270117T103000
DTSTAMP:20260422T145301
CREATED:20260324T160104Z
LAST-MODIFIED:20260324T160104Z
UID:10000261-1800178200-1800181800@firstpresbyterianchurchsl.org
SUMMARY:In-Person Worship Service
DESCRIPTION:Our service includes meaningful music\, prayer\, and a thoughtful message\, followed by a time of fellowship and connection. All are welcome!
URL:https://firstpresbyterianchurchsl.org/event/in-person-worship-service/2027-01-17/
LOCATION:First Presbyterian Church of San Leandro\, 180 Estudillo Avenue\, San Leandros\, 94577
CATEGORIES:Sanctuary
END:VEVENT
BEGIN:VEVENT
DTSTART;TZID=America/Los_Angeles:20270117T103000
DTEND;TZID=America/Los_Angeles:20270117T113000
DTSTAMP:20260422T145301
CREATED:20260324T163227Z
LAST-MODIFIED:20260324T163227Z
UID:10000553-1800181800-1800185400@firstpresbyterianchurchsl.org
SUMMARY:Coffee Fellowship
DESCRIPTION:
URL:https://firstpresbyterianchurchsl.org/event/coffee-fellowship/2027-01-17/
LOCATION:First Presbyterian Church of San Leandro\, 180 Estudillo Avenue\, San Leandros\, 94577
CATEGORIES:Fellowship Hall
END:VEVENT
BEGIN:VEVENT
DTSTART;TZID=America/Los_Angeles:20270119T180000
DTEND;TZID=America/Los_Angeles:20270119T190000
DTSTAMP:20260422T145301
CREATED:20260326T171555Z
LAST-MODIFIED:20260326T171555Z
UID:10000799-1800381600-1800385200@firstpresbyterianchurchsl.org
SUMMARY:Session Meeting
DESCRIPTION:
URL:https://firstpresbyterianchurchsl.org/event/session-meeting/2027-01-19/
LOCATION:First Presbyterian Church of San Leandro\, 180 Estudillo Avenue\, San Leandros\, 94577
CATEGORIES:Fireside Room
END:VEVENT
BEGIN:VEVENT
DTSTART;TZID=America/Los_Angeles:20270124T093000
DTEND;TZID=America/Los_Angeles:20270124T103000
DTSTAMP:20260422T145301
CREATED:20260324T160104Z
LAST-MODIFIED:20260324T160104Z
UID:10000262-1800783000-1800786600@firstpresbyterianchurchsl.org
SUMMARY:In-Person Worship Service
DESCRIPTION:Our service includes meaningful music\, prayer\, and a thoughtful message\, followed by a time of fellowship and connection. All are welcome!
URL:https://firstpresbyterianchurchsl.org/event/in-person-worship-service/2027-01-24/
LOCATION:First Presbyterian Church of San Leandro\, 180 Estudillo Avenue\, San Leandros\, 94577
CATEGORIES:Sanctuary
END:VEVENT
BEGIN:VEVENT
DTSTART;TZID=America/Los_Angeles:20270124T103000
DTEND;TZID=America/Los_Angeles:20270124T113000
DTSTAMP:20260422T145301
CREATED:20260324T163227Z
LAST-MODIFIED:20260324T163227Z
UID:10000554-1800786600-1800790200@firstpresbyterianchurchsl.org
SUMMARY:Coffee Fellowship
DESCRIPTION:
URL:https://firstpresbyterianchurchsl.org/event/coffee-fellowship/2027-01-24/
LOCATION:First Presbyterian Church of San Leandro\, 180 Estudillo Avenue\, San Leandros\, 94577
CATEGORIES:Fellowship Hall
END:VEVENT
BEGIN:VEVENT
DTSTART;TZID=America/Los_Angeles:20270131T093000
DTEND;TZID=America/Los_Angeles:20270131T103000
DTSTAMP:20260422T145301
CREATED:20260324T160104Z
LAST-MODIFIED:20260324T160104Z
UID:10000263-1801387800-1801391400@firstpresbyterianchurchsl.org
SUMMARY:In-Person Worship Service
DESCRIPTION:Our service includes meaningful music\, prayer\, and a thoughtful message\, followed by a time of fellowship and connection. All are welcome!
URL:https://firstpresbyterianchurchsl.org/event/in-person-worship-service/2027-01-31/
LOCATION:First Presbyterian Church of San Leandro\, 180 Estudillo Avenue\, San Leandros\, 94577
CATEGORIES:Sanctuary
END:VEVENT
BEGIN:VEVENT
DTSTART;TZID=America/Los_Angeles:20270131T103000
DTEND;TZID=America/Los_Angeles:20270131T113000
DTSTAMP:20260422T145301
CREATED:20260324T163227Z
LAST-MODIFIED:20260324T163227Z
UID:10000555-1801391400-1801395000@firstpresbyterianchurchsl.org
SUMMARY:Coffee Fellowship
DESCRIPTION:
URL:https://firstpresbyterianchurchsl.org/event/coffee-fellowship/2027-01-31/
LOCATION:First Presbyterian Church of San Leandro\, 180 Estudillo Avenue\, San Leandros\, 94577
CATEGORIES:Fellowship Hall
END:VEVENT
BEGIN:VEVENT
DTSTART;TZID=America/Los_Angeles:20270207T093000
DTEND;TZID=America/Los_Angeles:20270207T103000
DTSTAMP:20260422T145301
CREATED:20260324T160104Z
LAST-MODIFIED:20260324T160104Z
UID:10000264-1801992600-1801996200@firstpresbyterianchurchsl.org
SUMMARY:In-Person Worship Service
DESCRIPTION:Our service includes meaningful music\, prayer\, and a thoughtful message\, followed by a time of fellowship and connection. All are welcome!
URL:https://firstpresbyterianchurchsl.org/event/in-person-worship-service/2027-02-07/
LOCATION:First Presbyterian Church of San Leandro\, 180 Estudillo Avenue\, San Leandros\, 94577
CATEGORIES:Sanctuary
END:VEVENT
BEGIN:VEVENT
DTSTART;TZID=America/Los_Angeles:20270207T103000
DTEND;TZID=America/Los_Angeles:20270207T113000
DTSTAMP:20260422T145301
CREATED:20260324T163227Z
LAST-MODIFIED:20260324T163227Z
UID:10000556-1801996200-1801999800@firstpresbyterianchurchsl.org
SUMMARY:Coffee Fellowship
DESCRIPTION:
URL:https://firstpresbyterianchurchsl.org/event/coffee-fellowship/2027-02-07/
LOCATION:First Presbyterian Church of San Leandro\, 180 Estudillo Avenue\, San Leandros\, 94577
CATEGORIES:Fellowship Hall
END:VEVENT
BEGIN:VEVENT
DTSTART;TZID=America/Los_Angeles:20270214T093000
DTEND;TZID=America/Los_Angeles:20270214T103000
DTSTAMP:20260422T145301
CREATED:20260324T160104Z
LAST-MODIFIED:20260324T160104Z
UID:10000265-1802597400-1802601000@firstpresbyterianchurchsl.org
SUMMARY:In-Person Worship Service
DESCRIPTION:Our service includes meaningful music\, prayer\, and a thoughtful message\, followed by a time of fellowship and connection. All are welcome!
URL:https://firstpresbyterianchurchsl.org/event/in-person-worship-service/2027-02-14/
LOCATION:First Presbyterian Church of San Leandro\, 180 Estudillo Avenue\, San Leandros\, 94577
CATEGORIES:Sanctuary
END:VEVENT
BEGIN:VEVENT
DTSTART;TZID=America/Los_Angeles:20270214T103000
DTEND;TZID=America/Los_Angeles:20270214T113000
DTSTAMP:20260422T145301
CREATED:20260326T181248Z
LAST-MODIFIED:20260326T181248Z
UID:10000875-1802601000-1802604600@firstpresbyterianchurchsl.org
SUMMARY:Coffee Fellowship/Manna Bags & Equal Exchange
DESCRIPTION:
URL:https://firstpresbyterianchurchsl.org/event/coffee-fellowship-manna-bags-equal-exchange/2027-02-14/
LOCATION:First Presbyterian Church of San Leandro\, 180 Estudillo Avenue\, San Leandros\, 94577
CATEGORIES:Fellowship Hall
END:VEVENT
BEGIN:VEVENT
DTSTART;TZID=America/Los_Angeles:20270216T180000
DTEND;TZID=America/Los_Angeles:20270216T190000
DTSTAMP:20260422T145301
CREATED:20260326T171555Z
LAST-MODIFIED:20260326T171555Z
UID:10000800-1802800800-1802804400@firstpresbyterianchurchsl.org
SUMMARY:Session Meeting
DESCRIPTION:
URL:https://firstpresbyterianchurchsl.org/event/session-meeting/2027-02-16/
LOCATION:First Presbyterian Church of San Leandro\, 180 Estudillo Avenue\, San Leandros\, 94577
CATEGORIES:Fireside Room
END:VEVENT
BEGIN:VEVENT
DTSTART;TZID=America/Los_Angeles:20270221T093000
DTEND;TZID=America/Los_Angeles:20270221T103000
DTSTAMP:20260422T145301
CREATED:20260324T160104Z
LAST-MODIFIED:20260324T160104Z
UID:10000266-1803202200-1803205800@firstpresbyterianchurchsl.org
SUMMARY:In-Person Worship Service
DESCRIPTION:Our service includes meaningful music\, prayer\, and a thoughtful message\, followed by a time of fellowship and connection. All are welcome!
URL:https://firstpresbyterianchurchsl.org/event/in-person-worship-service/2027-02-21/
LOCATION:First Presbyterian Church of San Leandro\, 180 Estudillo Avenue\, San Leandros\, 94577
CATEGORIES:Sanctuary
END:VEVENT
END:VCALENDAR