BEGIN:VCALENDAR
VERSION:2.0
PRODID:-//First Presbyterian Church SL - ECPv6.15.20//NONSGML v1.0//EN
CALSCALE:GREGORIAN
METHOD:PUBLISH
X-WR-CALNAME:First Presbyterian Church SL
X-ORIGINAL-URL:https://firstpresbyterianchurchsl.org
X-WR-CALDESC:Events for First Presbyterian Church SL
REFRESH-INTERVAL;VALUE=DURATION:PT1H
X-Robots-Tag:noindex
X-PUBLISHED-TTL:PT1H
BEGIN:VTIMEZONE
TZID:America/Los_Angeles
BEGIN:DAYLIGHT
TZOFFSETFROM:-0800
TZOFFSETTO:-0700
TZNAME:PDT
DTSTART:20260308T100000
END:DAYLIGHT
BEGIN:STANDARD
TZOFFSETFROM:-0700
TZOFFSETTO:-0800
TZNAME:PST
DTSTART:20261101T090000
END:STANDARD
BEGIN:DAYLIGHT
TZOFFSETFROM:-0800
TZOFFSETTO:-0700
TZNAME:PDT
DTSTART:20270314T100000
END:DAYLIGHT
BEGIN:STANDARD
TZOFFSETFROM:-0700
TZOFFSETTO:-0800
TZNAME:PST
DTSTART:20271107T090000
END:STANDARD
BEGIN:DAYLIGHT
TZOFFSETFROM:-0800
TZOFFSETTO:-0700
TZNAME:PDT
DTSTART:20280312T100000
END:DAYLIGHT
BEGIN:STANDARD
TZOFFSETFROM:-0700
TZOFFSETTO:-0800
TZNAME:PST
DTSTART:20281105T090000
END:STANDARD
END:VTIMEZONE
BEGIN:VEVENT
DTSTART;TZID=America/Los_Angeles:20270307T093000
DTEND;TZID=America/Los_Angeles:20270307T103000
DTSTAMP:20260424T081823
CREATED:20260324T160104Z
LAST-MODIFIED:20260324T160104Z
UID:10000268-1804411800-1804415400@firstpresbyterianchurchsl.org
SUMMARY:In-Person Worship Service
DESCRIPTION:Our service includes meaningful music\, prayer\, and a thoughtful message\, followed by a time of fellowship and connection. All are welcome!
URL:https://firstpresbyterianchurchsl.org/event/in-person-worship-service/2027-03-07/
LOCATION:First Presbyterian Church of San Leandro\, 180 Estudillo Avenue\, San Leandros\, 94577
CATEGORIES:Sanctuary
END:VEVENT
BEGIN:VEVENT
DTSTART;TZID=America/Los_Angeles:20270307T103000
DTEND;TZID=America/Los_Angeles:20270307T113000
DTSTAMP:20260424T081823
CREATED:20260324T163227Z
LAST-MODIFIED:20260324T163227Z
UID:10000559-1804415400-1804419000@firstpresbyterianchurchsl.org
SUMMARY:Coffee Fellowship
DESCRIPTION:
URL:https://firstpresbyterianchurchsl.org/event/coffee-fellowship/2027-03-07/
LOCATION:First Presbyterian Church of San Leandro\, 180 Estudillo Avenue\, San Leandros\, 94577
CATEGORIES:Fellowship Hall
END:VEVENT
BEGIN:VEVENT
DTSTART;TZID=America/Los_Angeles:20270314T093000
DTEND;TZID=America/Los_Angeles:20270314T103000
DTSTAMP:20260424T081823
CREATED:20260324T160104Z
LAST-MODIFIED:20260324T160104Z
UID:10000269-1805016600-1805020200@firstpresbyterianchurchsl.org
SUMMARY:In-Person Worship Service
DESCRIPTION:Our service includes meaningful music\, prayer\, and a thoughtful message\, followed by a time of fellowship and connection. All are welcome!
URL:https://firstpresbyterianchurchsl.org/event/in-person-worship-service/2027-03-14/
LOCATION:First Presbyterian Church of San Leandro\, 180 Estudillo Avenue\, San Leandros\, 94577
CATEGORIES:Sanctuary
END:VEVENT
BEGIN:VEVENT
DTSTART;TZID=America/Los_Angeles:20270314T103000
DTEND;TZID=America/Los_Angeles:20270314T113000
DTSTAMP:20260424T081823
CREATED:20260326T181248Z
LAST-MODIFIED:20260326T181248Z
UID:10000876-1805020200-1805023800@firstpresbyterianchurchsl.org
SUMMARY:Coffee Fellowship/Manna Bags & Equal Exchange
DESCRIPTION:
URL:https://firstpresbyterianchurchsl.org/event/coffee-fellowship-manna-bags-equal-exchange/2027-03-14/
LOCATION:First Presbyterian Church of San Leandro\, 180 Estudillo Avenue\, San Leandros\, 94577
CATEGORIES:Fellowship Hall
END:VEVENT
BEGIN:VEVENT
DTSTART;TZID=America/Los_Angeles:20270316T180000
DTEND;TZID=America/Los_Angeles:20270316T190000
DTSTAMP:20260424T081823
CREATED:20260326T171555Z
LAST-MODIFIED:20260326T171555Z
UID:10000801-1805220000-1805223600@firstpresbyterianchurchsl.org
SUMMARY:Session Meeting
DESCRIPTION:
URL:https://firstpresbyterianchurchsl.org/event/session-meeting/2027-03-16/
LOCATION:First Presbyterian Church of San Leandro\, 180 Estudillo Avenue\, San Leandros\, 94577
CATEGORIES:Fireside Room
END:VEVENT
BEGIN:VEVENT
DTSTART;TZID=America/Los_Angeles:20270321T093000
DTEND;TZID=America/Los_Angeles:20270321T103000
DTSTAMP:20260424T081823
CREATED:20260324T160104Z
LAST-MODIFIED:20260324T160104Z
UID:10000270-1805621400-1805625000@firstpresbyterianchurchsl.org
SUMMARY:In-Person Worship Service
DESCRIPTION:Our service includes meaningful music\, prayer\, and a thoughtful message\, followed by a time of fellowship and connection. All are welcome!
URL:https://firstpresbyterianchurchsl.org/event/in-person-worship-service/2027-03-21/
LOCATION:First Presbyterian Church of San Leandro\, 180 Estudillo Avenue\, San Leandros\, 94577
CATEGORIES:Sanctuary
END:VEVENT
BEGIN:VEVENT
DTSTART;TZID=America/Los_Angeles:20270321T103000
DTEND;TZID=America/Los_Angeles:20270321T113000
DTSTAMP:20260424T081823
CREATED:20260324T163227Z
LAST-MODIFIED:20260324T163227Z
UID:10000560-1805625000-1805628600@firstpresbyterianchurchsl.org
SUMMARY:Coffee Fellowship
DESCRIPTION:
URL:https://firstpresbyterianchurchsl.org/event/coffee-fellowship/2027-03-21/
LOCATION:First Presbyterian Church of San Leandro\, 180 Estudillo Avenue\, San Leandros\, 94577
CATEGORIES:Fellowship Hall
END:VEVENT
BEGIN:VEVENT
DTSTART;TZID=America/Los_Angeles:20270328T093000
DTEND;TZID=America/Los_Angeles:20270328T103000
DTSTAMP:20260424T081823
CREATED:20260324T160104Z
LAST-MODIFIED:20260324T160104Z
UID:10000271-1806226200-1806229800@firstpresbyterianchurchsl.org
SUMMARY:In-Person Worship Service
DESCRIPTION:Our service includes meaningful music\, prayer\, and a thoughtful message\, followed by a time of fellowship and connection. All are welcome!
URL:https://firstpresbyterianchurchsl.org/event/in-person-worship-service/2027-03-28/
LOCATION:First Presbyterian Church of San Leandro\, 180 Estudillo Avenue\, San Leandros\, 94577
CATEGORIES:Sanctuary
END:VEVENT
BEGIN:VEVENT
DTSTART;TZID=America/Los_Angeles:20270328T103000
DTEND;TZID=America/Los_Angeles:20270328T113000
DTSTAMP:20260424T081823
CREATED:20260324T163227Z
LAST-MODIFIED:20260324T163227Z
UID:10000561-1806229800-1806233400@firstpresbyterianchurchsl.org
SUMMARY:Coffee Fellowship
DESCRIPTION:
URL:https://firstpresbyterianchurchsl.org/event/coffee-fellowship/2027-03-28/
LOCATION:First Presbyterian Church of San Leandro\, 180 Estudillo Avenue\, San Leandros\, 94577
CATEGORIES:Fellowship Hall
END:VEVENT
END:VCALENDAR