BEGIN:VCALENDAR
VERSION:2.0
PRODID:-//First Presbyterian Church SL - ECPv6.15.20//NONSGML v1.0//EN
CALSCALE:GREGORIAN
METHOD:PUBLISH
X-ORIGINAL-URL:https://firstpresbyterianchurchsl.org
X-WR-CALDESC:Events for First Presbyterian Church SL
REFRESH-INTERVAL;VALUE=DURATION:PT1H
X-Robots-Tag:noindex
X-PUBLISHED-TTL:PT1H
BEGIN:VTIMEZONE
TZID:America/Los_Angeles
BEGIN:DAYLIGHT
TZOFFSETFROM:-0800
TZOFFSETTO:-0700
TZNAME:PDT
DTSTART:20250309T100000
END:DAYLIGHT
BEGIN:STANDARD
TZOFFSETFROM:-0700
TZOFFSETTO:-0800
TZNAME:PST
DTSTART:20251102T090000
END:STANDARD
BEGIN:DAYLIGHT
TZOFFSETFROM:-0800
TZOFFSETTO:-0700
TZNAME:PDT
DTSTART:20260308T100000
END:DAYLIGHT
BEGIN:STANDARD
TZOFFSETFROM:-0700
TZOFFSETTO:-0800
TZNAME:PST
DTSTART:20261101T090000
END:STANDARD
BEGIN:DAYLIGHT
TZOFFSETFROM:-0800
TZOFFSETTO:-0700
TZNAME:PDT
DTSTART:20270314T100000
END:DAYLIGHT
BEGIN:STANDARD
TZOFFSETFROM:-0700
TZOFFSETTO:-0800
TZNAME:PST
DTSTART:20271107T090000
END:STANDARD
END:VTIMEZONE
BEGIN:VEVENT
DTSTART;TZID=America/Los_Angeles:20260427T181700
DTEND;TZID=America/Los_Angeles:20260427T193000
DTSTAMP:20260421T111447
CREATED:20260325T182826Z
LAST-MODIFIED:20260325T182826Z
UID:10000738-1777313820-1777318200@firstpresbyterianchurchsl.org
SUMMARY:Chancel Bells Rehearsal
DESCRIPTION:
URL:https://firstpresbyterianchurchsl.org/event/chancel-bells-rehearsal/2026-04-27/
LOCATION:First Presbyterian Church of San Leandro\, 180 Estudillo Avenue\, San Leandros\, 94577
CATEGORIES:Fireside Room
END:VEVENT
BEGIN:VEVENT
DTSTART;TZID=America/Los_Angeles:20260504T181700
DTEND;TZID=America/Los_Angeles:20260504T193000
DTSTAMP:20260421T111447
CREATED:20260325T182826Z
LAST-MODIFIED:20260325T182826Z
UID:10000739-1777918620-1777923000@firstpresbyterianchurchsl.org
SUMMARY:Chancel Bells Rehearsal
DESCRIPTION:
URL:https://firstpresbyterianchurchsl.org/event/chancel-bells-rehearsal/2026-05-04/
LOCATION:First Presbyterian Church of San Leandro\, 180 Estudillo Avenue\, San Leandros\, 94577
CATEGORIES:Fireside Room
END:VEVENT
BEGIN:VEVENT
DTSTART;TZID=America/Los_Angeles:20260511T181700
DTEND;TZID=America/Los_Angeles:20260511T193000
DTSTAMP:20260421T111447
CREATED:20260325T182826Z
LAST-MODIFIED:20260325T182826Z
UID:10000740-1778523420-1778527800@firstpresbyterianchurchsl.org
SUMMARY:Chancel Bells Rehearsal
DESCRIPTION:
URL:https://firstpresbyterianchurchsl.org/event/chancel-bells-rehearsal/2026-05-11/
LOCATION:First Presbyterian Church of San Leandro\, 180 Estudillo Avenue\, San Leandros\, 94577
CATEGORIES:Fireside Room
END:VEVENT
BEGIN:VEVENT
DTSTART;TZID=America/Los_Angeles:20260518T181700
DTEND;TZID=America/Los_Angeles:20260518T193000
DTSTAMP:20260421T111447
CREATED:20260325T182826Z
LAST-MODIFIED:20260325T182826Z
UID:10000741-1779128220-1779132600@firstpresbyterianchurchsl.org
SUMMARY:Chancel Bells Rehearsal
DESCRIPTION:
URL:https://firstpresbyterianchurchsl.org/event/chancel-bells-rehearsal/2026-05-18/
LOCATION:First Presbyterian Church of San Leandro\, 180 Estudillo Avenue\, San Leandros\, 94577
CATEGORIES:Fireside Room
END:VEVENT
BEGIN:VEVENT
DTSTART;TZID=America/Los_Angeles:20260525T181700
DTEND;TZID=America/Los_Angeles:20260525T193000
DTSTAMP:20260421T111447
CREATED:20260325T182826Z
LAST-MODIFIED:20260325T182826Z
UID:10000742-1779733020-1779737400@firstpresbyterianchurchsl.org
SUMMARY:Chancel Bells Rehearsal
DESCRIPTION:
URL:https://firstpresbyterianchurchsl.org/event/chancel-bells-rehearsal/2026-05-25/
LOCATION:First Presbyterian Church of San Leandro\, 180 Estudillo Avenue\, San Leandros\, 94577
CATEGORIES:Fireside Room
END:VEVENT
BEGIN:VEVENT
DTSTART;TZID=America/Los_Angeles:20260601T181700
DTEND;TZID=America/Los_Angeles:20260601T193000
DTSTAMP:20260421T111447
CREATED:20260325T182826Z
LAST-MODIFIED:20260325T182826Z
UID:10000743-1780337820-1780342200@firstpresbyterianchurchsl.org
SUMMARY:Chancel Bells Rehearsal
DESCRIPTION:
URL:https://firstpresbyterianchurchsl.org/event/chancel-bells-rehearsal/2026-06-01/
LOCATION:First Presbyterian Church of San Leandro\, 180 Estudillo Avenue\, San Leandros\, 94577
CATEGORIES:Fireside Room
END:VEVENT
BEGIN:VEVENT
DTSTART;TZID=America/Los_Angeles:20260608T181700
DTEND;TZID=America/Los_Angeles:20260608T193000
DTSTAMP:20260421T111447
CREATED:20260325T182826Z
LAST-MODIFIED:20260325T182826Z
UID:10000744-1780942620-1780947000@firstpresbyterianchurchsl.org
SUMMARY:Chancel Bells Rehearsal
DESCRIPTION:
URL:https://firstpresbyterianchurchsl.org/event/chancel-bells-rehearsal/2026-06-08/
LOCATION:First Presbyterian Church of San Leandro\, 180 Estudillo Avenue\, San Leandros\, 94577
CATEGORIES:Fireside Room
END:VEVENT
BEGIN:VEVENT
DTSTART;TZID=America/Los_Angeles:20260615T181700
DTEND;TZID=America/Los_Angeles:20260615T193000
DTSTAMP:20260421T111447
CREATED:20260325T182826Z
LAST-MODIFIED:20260325T182826Z
UID:10000745-1781547420-1781551800@firstpresbyterianchurchsl.org
SUMMARY:Chancel Bells Rehearsal
DESCRIPTION:
URL:https://firstpresbyterianchurchsl.org/event/chancel-bells-rehearsal/2026-06-15/
LOCATION:First Presbyterian Church of San Leandro\, 180 Estudillo Avenue\, San Leandros\, 94577
CATEGORIES:Fireside Room
END:VEVENT
BEGIN:VEVENT
DTSTART;TZID=America/Los_Angeles:20260622T181700
DTEND;TZID=America/Los_Angeles:20260622T193000
DTSTAMP:20260421T111447
CREATED:20260325T182826Z
LAST-MODIFIED:20260325T182826Z
UID:10000746-1782152220-1782156600@firstpresbyterianchurchsl.org
SUMMARY:Chancel Bells Rehearsal
DESCRIPTION:
URL:https://firstpresbyterianchurchsl.org/event/chancel-bells-rehearsal/2026-06-22/
LOCATION:First Presbyterian Church of San Leandro\, 180 Estudillo Avenue\, San Leandros\, 94577
CATEGORIES:Fireside Room
END:VEVENT
END:VCALENDAR