BEGIN:VCALENDAR
VERSION:2.0
PRODID:-//First Presbyterian Church SL - ECPv6.15.20//NONSGML v1.0//EN
CALSCALE:GREGORIAN
METHOD:PUBLISH
X-ORIGINAL-URL:https://firstpresbyterianchurchsl.org
X-WR-CALDESC:Events for First Presbyterian Church SL
REFRESH-INTERVAL;VALUE=DURATION:PT1H
X-Robots-Tag:noindex
X-PUBLISHED-TTL:PT1H
BEGIN:VTIMEZONE
TZID:America/Los_Angeles
BEGIN:DAYLIGHT
TZOFFSETFROM:-0800
TZOFFSETTO:-0700
TZNAME:PDT
DTSTART:20250309T100000
END:DAYLIGHT
BEGIN:STANDARD
TZOFFSETFROM:-0700
TZOFFSETTO:-0800
TZNAME:PST
DTSTART:20251102T090000
END:STANDARD
BEGIN:DAYLIGHT
TZOFFSETFROM:-0800
TZOFFSETTO:-0700
TZNAME:PDT
DTSTART:20260308T100000
END:DAYLIGHT
BEGIN:STANDARD
TZOFFSETFROM:-0700
TZOFFSETTO:-0800
TZNAME:PST
DTSTART:20261101T090000
END:STANDARD
BEGIN:DAYLIGHT
TZOFFSETFROM:-0800
TZOFFSETTO:-0700
TZNAME:PDT
DTSTART:20270314T100000
END:DAYLIGHT
BEGIN:STANDARD
TZOFFSETFROM:-0700
TZOFFSETTO:-0800
TZNAME:PST
DTSTART:20271107T090000
END:STANDARD
END:VTIMEZONE
BEGIN:VEVENT
DTSTART;TZID=America/Los_Angeles:20260307T073000
DTEND;TZID=America/Los_Angeles:20260307T083000
DTSTAMP:20260421T165313
CREATED:20260324T162141Z
LAST-MODIFIED:20260326T170223Z
UID:10000483-1772868600-1772872200@firstpresbyterianchurchsl.org
SUMMARY:Men's Bible Study and Breakfast/Women's Fellowship Breakfast @ Manor Grill
DESCRIPTION:Join us for a relaxed morning of conversation\, community\, and breakfast. Each month\, the men gather for a casual Bible study while the women meet at a nearby table for fellowship and connection. \nThis is a welcoming\, informal gathering where you can enjoy good food\, meaningful conversation\, and time together before the day begins. Whether you’re new to the church or have been attending for years\, all are welcome. \nHosted by First Presbyterian Church of San Leandro\, this monthly gathering is a great way to build friendships and grow in faith in a comfortable setting.
URL:https://firstpresbyterianchurchsl.org/event/mens-bible-study-and-breakfast-womens-fellowship-breakfast-manor-grill/2026-03-07/
LOCATION:First Presbyterian Church of San Leandro\, 180 Estudillo Avenue\, San Leandros\, 94577
CATEGORIES:Offsite
END:VEVENT
BEGIN:VEVENT
DTSTART;TZID=America/Los_Angeles:20260307T103000
DTEND;TZID=America/Los_Angeles:20260307T113000
DTSTAMP:20260421T165313
CREATED:20260326T183334Z
LAST-MODIFIED:20260326T183334Z
UID:10000948-1772879400-1772883000@firstpresbyterianchurchsl.org
SUMMARY:Memorial Service for Tarulata Vyas
DESCRIPTION:
URL:https://firstpresbyterianchurchsl.org/event/memorial-service-for-tarulata-vyas/
LOCATION:First Presbyterian Church of San Leandro\, 180 Estudillo Avenue\, San Leandros\, 94577
CATEGORIES:Sanctuary
END:VEVENT
BEGIN:VEVENT
DTSTART;TZID=America/Los_Angeles:20260307T140000
DTEND;TZID=America/Los_Angeles:20260307T160000
DTSTAMP:20260421T165313
CREATED:20260326T184151Z
LAST-MODIFIED:20260326T184151Z
UID:10000949-1772892000-1772899200@firstpresbyterianchurchsl.org
SUMMARY:Memorial Service for Bill Gile
DESCRIPTION:📍 Sanctuary\, Fireside Room\, and Fellowship Hall
URL:https://firstpresbyterianchurchsl.org/event/memorial-service-for-bill-gile/
LOCATION:First Presbyterian Church of San Leandro\, 180 Estudillo Avenue\, San Leandros\, 94577
CATEGORIES:Sanctuary
END:VEVENT
BEGIN:VEVENT
DTSTART;VALUE=DATE:20260308
DTEND;VALUE=DATE:20260309
DTSTAMP:20260421T165313
CREATED:20260326T184255Z
LAST-MODIFIED:20260326T184330Z
UID:10000950-1772928000-1773014399@firstpresbyterianchurchsl.org
SUMMARY:Annual Congregational Meeting
DESCRIPTION:
URL:https://firstpresbyterianchurchsl.org/event/annual-congregational-meeting/
LOCATION:First Presbyterian Church of San Leandro\, 180 Estudillo Avenue\, San Leandros\, 94577
CATEGORIES:Fellowship Hall
END:VEVENT
BEGIN:VEVENT
DTSTART;TZID=America/Los_Angeles:20260308T083000
DTEND;TZID=America/Los_Angeles:20260308T091000
DTSTAMP:20260421T165313
CREATED:20260324T162404Z
LAST-MODIFIED:20260324T162404Z
UID:10000495-1772958600-1772961000@firstpresbyterianchurchsl.org
SUMMARY:Chancel Choir Rehearsal
DESCRIPTION:
URL:https://firstpresbyterianchurchsl.org/event/chancel-choir-rehearsal/2026-03-08/
LOCATION:First Presbyterian Church of San Leandro\, 180 Estudillo Avenue\, San Leandros\, 94577
CATEGORIES:Fireside Room
END:VEVENT
BEGIN:VEVENT
DTSTART;TZID=America/Los_Angeles:20260308T093000
DTEND;TZID=America/Los_Angeles:20260308T103000
DTSTAMP:20260421T165313
CREATED:20260324T160104Z
LAST-MODIFIED:20260324T160104Z
UID:10000216-1772962200-1772965800@firstpresbyterianchurchsl.org
SUMMARY:In-Person Worship Service
DESCRIPTION:Our service includes meaningful music\, prayer\, and a thoughtful message\, followed by a time of fellowship and connection. All are welcome!
URL:https://firstpresbyterianchurchsl.org/event/in-person-worship-service/2026-03-08/
LOCATION:First Presbyterian Church of San Leandro\, 180 Estudillo Avenue\, San Leandros\, 94577
CATEGORIES:Sanctuary
END:VEVENT
BEGIN:VEVENT
DTSTART;TZID=America/Los_Angeles:20260308T103000
DTEND;TZID=America/Los_Angeles:20260308T113000
DTSTAMP:20260421T165313
CREATED:20260326T181248Z
LAST-MODIFIED:20260326T181248Z
UID:10000864-1772965800-1772969400@firstpresbyterianchurchsl.org
SUMMARY:Coffee Fellowship/Manna Bags & Equal Exchange
DESCRIPTION:
URL:https://firstpresbyterianchurchsl.org/event/coffee-fellowship-manna-bags-equal-exchange/2026-03-08/
LOCATION:First Presbyterian Church of San Leandro\, 180 Estudillo Avenue\, San Leandros\, 94577
CATEGORIES:Fellowship Hall
END:VEVENT
BEGIN:VEVENT
DTSTART;TZID=America/Los_Angeles:20260309T181700
DTEND;TZID=America/Los_Angeles:20260309T193000
DTSTAMP:20260421T165314
CREATED:20260325T182826Z
LAST-MODIFIED:20260325T182826Z
UID:10000731-1773080220-1773084600@firstpresbyterianchurchsl.org
SUMMARY:Chancel Bells Rehearsal
DESCRIPTION:
URL:https://firstpresbyterianchurchsl.org/event/chancel-bells-rehearsal/2026-03-09/
LOCATION:First Presbyterian Church of San Leandro\, 180 Estudillo Avenue\, San Leandros\, 94577
CATEGORIES:Fireside Room
END:VEVENT
BEGIN:VEVENT
DTSTART;TZID=America/Los_Angeles:20260310T133000
DTEND;TZID=America/Los_Angeles:20260310T143000
DTSTAMP:20260421T165314
CREATED:20260326T181732Z
LAST-MODIFIED:20260326T181732Z
UID:10000931-1773149400-1773153000@firstpresbyterianchurchsl.org
SUMMARY:Let's Read This Book!
DESCRIPTION:
URL:https://firstpresbyterianchurchsl.org/event/lets-read-this-book/2026-03-10/
LOCATION:First Presbyterian Church of San Leandro\, 180 Estudillo Avenue\, San Leandros\, 94577
CATEGORIES:Fireside Room
END:VEVENT
BEGIN:VEVENT
DTSTART;TZID=America/Los_Angeles:20260310T170000
DTEND;TZID=America/Los_Angeles:20260310T200000
DTSTAMP:20260421T165314
CREATED:20260326T184415Z
LAST-MODIFIED:20260326T184415Z
UID:10000951-1773162000-1773172800@firstpresbyterianchurchsl.org
SUMMARY:SLAA Meeting
DESCRIPTION:
URL:https://firstpresbyterianchurchsl.org/event/slaa-meeting/
LOCATION:First Presbyterian Church of San Leandro\, 180 Estudillo Avenue\, San Leandros\, 94577
CATEGORIES:Fellowship Hall
END:VEVENT
BEGIN:VEVENT
DTSTART;TZID=America/Los_Angeles:20260311T173000
DTEND;TZID=America/Los_Angeles:20260311T183000
DTSTAMP:20260421T165314
CREATED:20260326T183137Z
LAST-MODIFIED:20260326T183137Z
UID:10000944-1773250200-1773253800@firstpresbyterianchurchsl.org
SUMMARY:Casseroles & Questions
DESCRIPTION:
URL:https://firstpresbyterianchurchsl.org/event/casseroles-questions/2026-03-11/
LOCATION:First Presbyterian Church of San Leandro\, 180 Estudillo Avenue\, San Leandros\, 94577
CATEGORIES:Fireside Room
END:VEVENT
BEGIN:VEVENT
DTSTART;TZID=America/Los_Angeles:20260312T123000
DTEND;TZID=America/Los_Angeles:20260312T143000
DTSTAMP:20260421T165314
CREATED:20260325T183135Z
LAST-MODIFIED:20260325T183135Z
UID:10000749-1773318600-1773325800@firstpresbyterianchurchsl.org
SUMMARY:Heart to Heart Women's Ministry
DESCRIPTION:
URL:https://firstpresbyterianchurchsl.org/event/heart-to-heart-womens-ministry-2/2026-03-12/
LOCATION:First Presbyterian Church of San Leandro\, 180 Estudillo Avenue\, San Leandros\, 94577
CATEGORIES:Fireside Room
END:VEVENT
BEGIN:VEVENT
DTSTART;TZID=America/Los_Angeles:20260312T190000
DTEND;TZID=America/Los_Angeles:20260312T201500
DTSTAMP:20260421T165314
CREATED:20260325T183852Z
LAST-MODIFIED:20260325T183852Z
UID:10000755-1773342000-1773346500@firstpresbyterianchurchsl.org
SUMMARY:Chancel Choir Rehearsal
DESCRIPTION:
URL:https://firstpresbyterianchurchsl.org/event/chancel-choir-rehearsal-2/2026-03-12/
LOCATION:First Presbyterian Church of San Leandro\, 180 Estudillo Avenue\, San Leandros\, 94577
CATEGORIES:Fireside Room
END:VEVENT
BEGIN:VEVENT
DTSTART;TZID=America/Los_Angeles:20260314T140000
DTEND;TZID=America/Los_Angeles:20260314T150000
DTSTAMP:20260421T165314
CREATED:20260326T184541Z
LAST-MODIFIED:20260326T184541Z
UID:10000952-1773496800-1773500400@firstpresbyterianchurchsl.org
SUMMARY:Memorial for Joan Flanagan
DESCRIPTION:Sanctuary and Fireside Room
URL:https://firstpresbyterianchurchsl.org/event/memorial-for-joan-flanagan/
LOCATION:First Presbyterian Church of San Leandro\, 180 Estudillo Avenue\, San Leandros\, 94577
CATEGORIES:Sanctuary
END:VEVENT
BEGIN:VEVENT
DTSTART;TZID=America/Los_Angeles:20260315T083000
DTEND;TZID=America/Los_Angeles:20260315T091000
DTSTAMP:20260421T165314
CREATED:20260324T162404Z
LAST-MODIFIED:20260324T162404Z
UID:10000496-1773563400-1773565800@firstpresbyterianchurchsl.org
SUMMARY:Chancel Choir Rehearsal
DESCRIPTION:
URL:https://firstpresbyterianchurchsl.org/event/chancel-choir-rehearsal/2026-03-15/
LOCATION:First Presbyterian Church of San Leandro\, 180 Estudillo Avenue\, San Leandros\, 94577
CATEGORIES:Fireside Room
END:VEVENT
BEGIN:VEVENT
DTSTART;TZID=America/Los_Angeles:20260315T093000
DTEND;TZID=America/Los_Angeles:20260315T103000
DTSTAMP:20260421T165314
CREATED:20260324T160104Z
LAST-MODIFIED:20260324T160104Z
UID:10000217-1773567000-1773570600@firstpresbyterianchurchsl.org
SUMMARY:In-Person Worship Service
DESCRIPTION:Our service includes meaningful music\, prayer\, and a thoughtful message\, followed by a time of fellowship and connection. All are welcome!
URL:https://firstpresbyterianchurchsl.org/event/in-person-worship-service/2026-03-15/
LOCATION:First Presbyterian Church of San Leandro\, 180 Estudillo Avenue\, San Leandros\, 94577
CATEGORIES:Sanctuary
END:VEVENT
BEGIN:VEVENT
DTSTART;TZID=America/Los_Angeles:20260315T103000
DTEND;TZID=America/Los_Angeles:20260315T113000
DTSTAMP:20260421T165314
CREATED:20260324T163227Z
LAST-MODIFIED:20260324T163227Z
UID:10000519-1773570600-1773574200@firstpresbyterianchurchsl.org
SUMMARY:Coffee Fellowship
DESCRIPTION:
URL:https://firstpresbyterianchurchsl.org/event/coffee-fellowship/2026-03-15/
LOCATION:First Presbyterian Church of San Leandro\, 180 Estudillo Avenue\, San Leandros\, 94577
CATEGORIES:Fellowship Hall
END:VEVENT
BEGIN:VEVENT
DTSTART;TZID=America/Los_Angeles:20260315T110000
DTEND;TZID=America/Los_Angeles:20260315T120000
DTSTAMP:20260421T165314
CREATED:20260325T184350Z
LAST-MODIFIED:20260325T184350Z
UID:10000767-1773572400-1773576000@firstpresbyterianchurchsl.org
SUMMARY:The Years of Ripening Class
DESCRIPTION:
URL:https://firstpresbyterianchurchsl.org/event/the-years-of-ripening-class/2026-03-15/
LOCATION:First Presbyterian Church of San Leandro\, 180 Estudillo Avenue\, San Leandros\, 94577
CATEGORIES:Fireside Room
END:VEVENT
BEGIN:VEVENT
DTSTART;TZID=America/Los_Angeles:20260315T110000
DTEND;TZID=America/Los_Angeles:20260315T120000
DTSTAMP:20260421T165314
CREATED:20260326T184618Z
LAST-MODIFIED:20260326T184618Z
UID:10000953-1773572400-1773576000@firstpresbyterianchurchsl.org
SUMMARY:Deacons Meeting
DESCRIPTION:
URL:https://firstpresbyterianchurchsl.org/event/deacons-meeting-2/
LOCATION:First Presbyterian Church of San Leandro\, 180 Estudillo Avenue\, San Leandros\, 94577
CATEGORIES:Conference Room
END:VEVENT
BEGIN:VEVENT
DTSTART;TZID=America/Los_Angeles:20260316T181700
DTEND;TZID=America/Los_Angeles:20260316T193000
DTSTAMP:20260421T165314
CREATED:20260325T182826Z
LAST-MODIFIED:20260325T182826Z
UID:10000732-1773685020-1773689400@firstpresbyterianchurchsl.org
SUMMARY:Chancel Bells Rehearsal
DESCRIPTION:
URL:https://firstpresbyterianchurchsl.org/event/chancel-bells-rehearsal/2026-03-16/
LOCATION:First Presbyterian Church of San Leandro\, 180 Estudillo Avenue\, San Leandros\, 94577
CATEGORIES:Fireside Room
END:VEVENT
BEGIN:VEVENT
DTSTART;TZID=America/Los_Angeles:20260317T133000
DTEND;TZID=America/Los_Angeles:20260317T143000
DTSTAMP:20260421T165314
CREATED:20260326T181732Z
LAST-MODIFIED:20260326T181732Z
UID:10000932-1773754200-1773757800@firstpresbyterianchurchsl.org
SUMMARY:Let's Read This Book!
DESCRIPTION:
URL:https://firstpresbyterianchurchsl.org/event/lets-read-this-book/2026-03-17/
LOCATION:First Presbyterian Church of San Leandro\, 180 Estudillo Avenue\, San Leandros\, 94577
CATEGORIES:Fireside Room
END:VEVENT
BEGIN:VEVENT
DTSTART;TZID=America/Los_Angeles:20260317T180000
DTEND;TZID=America/Los_Angeles:20260317T190000
DTSTAMP:20260421T165314
CREATED:20260326T171555Z
LAST-MODIFIED:20260326T171555Z
UID:10000789-1773770400-1773774000@firstpresbyterianchurchsl.org
SUMMARY:Session Meeting
DESCRIPTION:
URL:https://firstpresbyterianchurchsl.org/event/session-meeting/2026-03-17/
LOCATION:First Presbyterian Church of San Leandro\, 180 Estudillo Avenue\, San Leandros\, 94577
CATEGORIES:Fireside Room
END:VEVENT
BEGIN:VEVENT
DTSTART;TZID=America/Los_Angeles:20260318T173000
DTEND;TZID=America/Los_Angeles:20260318T183000
DTSTAMP:20260421T165314
CREATED:20260326T183137Z
LAST-MODIFIED:20260326T183137Z
UID:10000945-1773855000-1773858600@firstpresbyterianchurchsl.org
SUMMARY:Casseroles & Questions
DESCRIPTION:
URL:https://firstpresbyterianchurchsl.org/event/casseroles-questions/2026-03-18/
LOCATION:First Presbyterian Church of San Leandro\, 180 Estudillo Avenue\, San Leandros\, 94577
CATEGORIES:Fireside Room
END:VEVENT
BEGIN:VEVENT
DTSTART;TZID=America/Los_Angeles:20260319T113000
DTEND;TZID=America/Los_Angeles:20260319T133000
DTSTAMP:20260421T165314
CREATED:20260325T184759Z
LAST-MODIFIED:20260325T184759Z
UID:10000773-1773919800-1773927000@firstpresbyterianchurchsl.org
SUMMARY:Young at Heart
DESCRIPTION:
URL:https://firstpresbyterianchurchsl.org/event/young-at-heart/2026-03-19/
LOCATION:First Presbyterian Church of San Leandro\, 180 Estudillo Avenue\, San Leandros\, 94577
CATEGORIES:Fellowship Hall
END:VEVENT
BEGIN:VEVENT
DTSTART;TZID=America/Los_Angeles:20260321T120000
DTEND;TZID=America/Los_Angeles:20260321T160000
DTSTAMP:20260421T165314
CREATED:20260326T185039Z
LAST-MODIFIED:20260326T185039Z
UID:10000954-1774094400-1774108800@firstpresbyterianchurchsl.org
SUMMARY:San Leandro Art Association
DESCRIPTION:
URL:https://firstpresbyterianchurchsl.org/event/san-leandro-art-association-2/2026-03-21/
LOCATION:First Presbyterian Church of San Leandro\, 180 Estudillo Avenue\, San Leandros\, 94577
CATEGORIES:PEAK Room
END:VEVENT
BEGIN:VEVENT
DTSTART;TZID=America/Los_Angeles:20260322T083000
DTEND;TZID=America/Los_Angeles:20260322T091000
DTSTAMP:20260421T165314
CREATED:20260324T162404Z
LAST-MODIFIED:20260324T162404Z
UID:10000497-1774168200-1774170600@firstpresbyterianchurchsl.org
SUMMARY:Chancel Choir Rehearsal
DESCRIPTION:
URL:https://firstpresbyterianchurchsl.org/event/chancel-choir-rehearsal/2026-03-22/
LOCATION:First Presbyterian Church of San Leandro\, 180 Estudillo Avenue\, San Leandros\, 94577
CATEGORIES:Fireside Room
END:VEVENT
BEGIN:VEVENT
DTSTART;TZID=America/Los_Angeles:20260322T093000
DTEND;TZID=America/Los_Angeles:20260322T103000
DTSTAMP:20260421T165314
CREATED:20260324T160104Z
LAST-MODIFIED:20260324T160104Z
UID:10000218-1774171800-1774175400@firstpresbyterianchurchsl.org
SUMMARY:In-Person Worship Service
DESCRIPTION:Our service includes meaningful music\, prayer\, and a thoughtful message\, followed by a time of fellowship and connection. All are welcome!
URL:https://firstpresbyterianchurchsl.org/event/in-person-worship-service/2026-03-22/
LOCATION:First Presbyterian Church of San Leandro\, 180 Estudillo Avenue\, San Leandros\, 94577
CATEGORIES:Sanctuary
END:VEVENT
BEGIN:VEVENT
DTSTART;TZID=America/Los_Angeles:20260322T103000
DTEND;TZID=America/Los_Angeles:20260322T113000
DTSTAMP:20260421T165314
CREATED:20260324T163227Z
LAST-MODIFIED:20260324T163227Z
UID:10000520-1774175400-1774179000@firstpresbyterianchurchsl.org
SUMMARY:Coffee Fellowship
DESCRIPTION:
URL:https://firstpresbyterianchurchsl.org/event/coffee-fellowship/2026-03-22/
LOCATION:First Presbyterian Church of San Leandro\, 180 Estudillo Avenue\, San Leandros\, 94577
CATEGORIES:Fellowship Hall
END:VEVENT
BEGIN:VEVENT
DTSTART;TZID=America/Los_Angeles:20260322T110000
DTEND;TZID=America/Los_Angeles:20260322T120000
DTSTAMP:20260421T165314
CREATED:20260325T184350Z
LAST-MODIFIED:20260325T184350Z
UID:10000768-1774177200-1774180800@firstpresbyterianchurchsl.org
SUMMARY:The Years of Ripening Class
DESCRIPTION:
URL:https://firstpresbyterianchurchsl.org/event/the-years-of-ripening-class/2026-03-22/
LOCATION:First Presbyterian Church of San Leandro\, 180 Estudillo Avenue\, San Leandros\, 94577
CATEGORIES:Fireside Room
END:VEVENT
BEGIN:VEVENT
DTSTART;TZID=America/Los_Angeles:20260322T140000
DTEND;TZID=America/Los_Angeles:20260322T160000
DTSTAMP:20260421T165314
CREATED:20260326T185220Z
LAST-MODIFIED:20260326T185220Z
UID:10000956-1774188000-1774195200@firstpresbyterianchurchsl.org
SUMMARY:Memorial Service for Doreen Wellman
DESCRIPTION:Sanctuary and Fellowship Hall
URL:https://firstpresbyterianchurchsl.org/event/memorial-service-for-doreen-wellman/
LOCATION:First Presbyterian Church of San Leandro\, 180 Estudillo Avenue\, San Leandros\, 94577
CATEGORIES:Sanctuary
END:VEVENT
END:VCALENDAR