BEGIN:VCALENDAR
VERSION:2.0
PRODID:-//First Presbyterian Church SL - ECPv6.15.20//NONSGML v1.0//EN
CALSCALE:GREGORIAN
METHOD:PUBLISH
X-WR-CALNAME:First Presbyterian Church SL
X-ORIGINAL-URL:https://firstpresbyterianchurchsl.org
X-WR-CALDESC:Events for First Presbyterian Church SL
REFRESH-INTERVAL;VALUE=DURATION:PT1H
X-Robots-Tag:noindex
X-PUBLISHED-TTL:PT1H
BEGIN:VTIMEZONE
TZID:UTC
BEGIN:STANDARD
TZOFFSETFROM:+0000
TZOFFSETTO:+0000
TZNAME:UTC
DTSTART:20220101T000000
END:STANDARD
END:VTIMEZONE
BEGIN:VEVENT
DTSTART;TZID=UTC:20240501T080000
DTEND;TZID=UTC:20240501T170000
DTSTAMP:20260424T020336
CREATED:20240426T034114Z
LAST-MODIFIED:20240426T034114Z
UID:10000153-1714550400-1714582800@firstpresbyterianchurchsl.org
SUMMARY:Session voted to lift all remaining church COVID protocols beginning on May 1.
DESCRIPTION:In April\, Session voted to lift all remaining church COVID protocols beginning on May 1. This includes the elimination of worship attendance check-in and the prohibition of the choir sitting in the choir loft. In May we will once again use attendance pads in the pews. \nOf course\, mask wearing will always be acceptable and those who choose to do so will be respected and supported.
URL:https://firstpresbyterianchurchsl.org/event/session-voted-to-lift-all-remaining-church-covid-protocols-beginning-on-may-1/
END:VEVENT
BEGIN:VEVENT
DTSTART;TZID=UTC:20230813T110000
DTEND;TZID=UTC:20230813T130000
DTSTAMP:20260424T020336
CREATED:20230801T004636Z
LAST-MODIFIED:20230801T005219Z
UID:10000125-1691924400-1691931600@firstpresbyterianchurchsl.org
SUMMARY:Prayer Shawl Ministry
DESCRIPTION:This crafting group meets once a month for fellowship and sharing tools and ideas. All small crafters are welcome. Meetings are on the Second Sunday of each month at 11:00 a.m. in the Fireside Room.
URL:https://firstpresbyterianchurchsl.org/event/prayer-shawl-ministry/
END:VEVENT
END:VCALENDAR