BEGIN:VCALENDAR
VERSION:2.0
PRODID:-//First Presbyterian Church SL - ECPv6.15.20//NONSGML v1.0//EN
CALSCALE:GREGORIAN
METHOD:PUBLISH
X-WR-CALNAME:First Presbyterian Church SL
X-ORIGINAL-URL:https://firstpresbyterianchurchsl.org
X-WR-CALDESC:Events for First Presbyterian Church SL
REFRESH-INTERVAL;VALUE=DURATION:PT1H
X-Robots-Tag:noindex
X-PUBLISHED-TTL:PT1H
BEGIN:VTIMEZONE
TZID:America/Los_Angeles
BEGIN:DAYLIGHT
TZOFFSETFROM:-0800
TZOFFSETTO:-0700
TZNAME:PDT
DTSTART:20250309T100000
END:DAYLIGHT
BEGIN:STANDARD
TZOFFSETFROM:-0700
TZOFFSETTO:-0800
TZNAME:PST
DTSTART:20251102T090000
END:STANDARD
BEGIN:DAYLIGHT
TZOFFSETFROM:-0800
TZOFFSETTO:-0700
TZNAME:PDT
DTSTART:20260308T100000
END:DAYLIGHT
BEGIN:STANDARD
TZOFFSETFROM:-0700
TZOFFSETTO:-0800
TZNAME:PST
DTSTART:20261101T090000
END:STANDARD
BEGIN:DAYLIGHT
TZOFFSETFROM:-0800
TZOFFSETTO:-0700
TZNAME:PDT
DTSTART:20270314T100000
END:DAYLIGHT
BEGIN:STANDARD
TZOFFSETFROM:-0700
TZOFFSETTO:-0800
TZNAME:PST
DTSTART:20271107T090000
END:STANDARD
END:VTIMEZONE
BEGIN:VTIMEZONE
TZID:UTC
BEGIN:STANDARD
TZOFFSETFROM:+0000
TZOFFSETTO:+0000
TZNAME:UTC
DTSTART:20230101T000000
END:STANDARD
END:VTIMEZONE
BEGIN:VEVENT
DTSTART;TZID=America/Los_Angeles:20260118T083000
DTEND;TZID=America/Los_Angeles:20260118T091000
DTSTAMP:20260422T145021
CREATED:20260324T162404Z
LAST-MODIFIED:20260324T162404Z
UID:10000488-1768725000-1768727400@firstpresbyterianchurchsl.org
SUMMARY:Chancel Choir Rehearsal
DESCRIPTION:
URL:https://firstpresbyterianchurchsl.org/event/chancel-choir-rehearsal/2026-01-18/
LOCATION:First Presbyterian Church of San Leandro\, 180 Estudillo Avenue\, San Leandros\, 94577
CATEGORIES:Fireside Room
END:VEVENT
BEGIN:VEVENT
DTSTART;TZID=America/Los_Angeles:20260117T090000
DTEND;TZID=America/Los_Angeles:20260117T130000
DTSTAMP:20260422T145021
CREATED:20260325T185053Z
LAST-MODIFIED:20260325T185053Z
UID:10000778-1768640400-1768654800@firstpresbyterianchurchsl.org
SUMMARY:Session Retreat
DESCRIPTION:
URL:https://firstpresbyterianchurchsl.org/event/session-retreat/
LOCATION:First Presbyterian Church of San Leandro\, 180 Estudillo Avenue\, San Leandros\, 94577
CATEGORIES:Fellowship Hall,Fireside Room
END:VEVENT
BEGIN:VEVENT
DTSTART;TZID=America/Los_Angeles:20260116T170000
DTEND;TZID=America/Los_Angeles:20260116T190000
DTSTAMP:20260422T145021
CREATED:20260325T184931Z
LAST-MODIFIED:20260325T184931Z
UID:10000777-1768582800-1768590000@firstpresbyterianchurchsl.org
SUMMARY:PNC
DESCRIPTION:
URL:https://firstpresbyterianchurchsl.org/event/pnc/
LOCATION:First Presbyterian Church of San Leandro\, 180 Estudillo Avenue\, San Leandros\, 94577
CATEGORIES:Conference Room
END:VEVENT
BEGIN:VEVENT
DTSTART;TZID=America/Los_Angeles:20260115T190000
DTEND;TZID=America/Los_Angeles:20260115T201500
DTSTAMP:20260422T145021
CREATED:20260326T165039Z
LAST-MODIFIED:20260326T165039Z
UID:10000781-1768503600-1768508100@firstpresbyterianchurchsl.org
SUMMARY:Chancel Choir Rehearsal
DESCRIPTION:
URL:https://firstpresbyterianchurchsl.org/event/chancel-choir-rehearsal-3/
LOCATION:First Presbyterian Church of San Leandro\, 180 Estudillo Avenue\, San Leandros\, 94577
CATEGORIES:Fireside Room
END:VEVENT
BEGIN:VEVENT
DTSTART;TZID=America/Los_Angeles:20260115T113000
DTEND;TZID=America/Los_Angeles:20260115T133000
DTSTAMP:20260422T145021
CREATED:20260325T184759Z
LAST-MODIFIED:20260325T184759Z
UID:10000771-1768476600-1768483800@firstpresbyterianchurchsl.org
SUMMARY:Young at Heart
DESCRIPTION:
URL:https://firstpresbyterianchurchsl.org/event/young-at-heart/2026-01-15/
LOCATION:First Presbyterian Church of San Leandro\, 180 Estudillo Avenue\, San Leandros\, 94577
CATEGORIES:Fellowship Hall
END:VEVENT
BEGIN:VEVENT
DTSTART;TZID=America/Los_Angeles:20260113T181700
DTEND;TZID=America/Los_Angeles:20260113T193000
DTSTAMP:20260422T145021
CREATED:20260326T164724Z
LAST-MODIFIED:20260326T164726Z
UID:10000723-1768328220-1768332600@firstpresbyterianchurchsl.org
SUMMARY:Chancel Bells Rehearsal
DESCRIPTION:
URL:https://firstpresbyterianchurchsl.org/event/chancel-bells-rehearsal-3/
LOCATION:First Presbyterian Church of San Leandro\, 180 Estudillo Avenue\, San Leandros\, 94577
CATEGORIES:Fireside Room
END:VEVENT
BEGIN:VEVENT
DTSTART;TZID=America/Los_Angeles:20260113T103000
DTEND;TZID=America/Los_Angeles:20260113T113000
DTSTAMP:20260422T145021
CREATED:20260325T184524Z
LAST-MODIFIED:20260325T184524Z
UID:10000770-1768300200-1768303800@firstpresbyterianchurchsl.org
SUMMARY:Outreach Committee Meeting
DESCRIPTION:
URL:https://firstpresbyterianchurchsl.org/event/outreach-committee-meeting/
LOCATION:First Presbyterian Church of San Leandro\, 180 Estudillo Avenue\, San Leandros\, 94577
CATEGORIES:Conference Room
END:VEVENT
BEGIN:VEVENT
DTSTART;TZID=America/Los_Angeles:20260111T110000
DTEND;TZID=America/Los_Angeles:20260111T120000
DTSTAMP:20260422T145021
CREATED:20260325T184350Z
LAST-MODIFIED:20260325T184350Z
UID:10000759-1768129200-1768132800@firstpresbyterianchurchsl.org
SUMMARY:The Years of Ripening Class
DESCRIPTION:
URL:https://firstpresbyterianchurchsl.org/event/the-years-of-ripening-class/2026-01-11/
LOCATION:First Presbyterian Church of San Leandro\, 180 Estudillo Avenue\, San Leandros\, 94577
CATEGORIES:Fireside Room
END:VEVENT
BEGIN:VEVENT
DTSTART;TZID=America/Los_Angeles:20260111T103000
DTEND;TZID=America/Los_Angeles:20260111T113000
DTSTAMP:20260422T145021
CREATED:20260326T181248Z
LAST-MODIFIED:20260326T181248Z
UID:10000862-1768127400-1768131000@firstpresbyterianchurchsl.org
SUMMARY:Coffee Fellowship/Manna Bags & Equal Exchange
DESCRIPTION:
URL:https://firstpresbyterianchurchsl.org/event/coffee-fellowship-manna-bags-equal-exchange/2026-01-11/
LOCATION:First Presbyterian Church of San Leandro\, 180 Estudillo Avenue\, San Leandros\, 94577
CATEGORIES:Fellowship Hall
END:VEVENT
BEGIN:VEVENT
DTSTART;TZID=America/Los_Angeles:20260111T093000
DTEND;TZID=America/Los_Angeles:20260111T103000
DTSTAMP:20260422T145021
CREATED:20260324T160104Z
LAST-MODIFIED:20260324T160104Z
UID:10000208-1768123800-1768127400@firstpresbyterianchurchsl.org
SUMMARY:In-Person Worship Service
DESCRIPTION:Our service includes meaningful music\, prayer\, and a thoughtful message\, followed by a time of fellowship and connection. All are welcome!
URL:https://firstpresbyterianchurchsl.org/event/in-person-worship-service/2026-01-11/
LOCATION:First Presbyterian Church of San Leandro\, 180 Estudillo Avenue\, San Leandros\, 94577
CATEGORIES:Sanctuary
END:VEVENT
BEGIN:VEVENT
DTSTART;TZID=America/Los_Angeles:20260111T083000
DTEND;TZID=America/Los_Angeles:20260111T091000
DTSTAMP:20260422T145021
CREATED:20260324T162404Z
LAST-MODIFIED:20260324T162404Z
UID:10000487-1768120200-1768122600@firstpresbyterianchurchsl.org
SUMMARY:Chancel Choir Rehearsal
DESCRIPTION:
URL:https://firstpresbyterianchurchsl.org/event/chancel-choir-rehearsal/2026-01-11/
LOCATION:First Presbyterian Church of San Leandro\, 180 Estudillo Avenue\, San Leandros\, 94577
CATEGORIES:Fireside Room
END:VEVENT
BEGIN:VEVENT
DTSTART;TZID=America/Los_Angeles:20260110T073000
DTEND;TZID=America/Los_Angeles:20260110T083000
DTSTAMP:20260422T145021
CREATED:20260326T170618Z
LAST-MODIFIED:20260326T170618Z
UID:10000786-1768030200-1768033800@firstpresbyterianchurchsl.org
SUMMARY:Men’s Bible Study and Breakfast/Women’s Fellowship Breakfast @ Manor Grill
DESCRIPTION:
URL:https://firstpresbyterianchurchsl.org/event/mens-bible-study-and-breakfast-womens-fellowship-breakfast-manor-grill-2/
LOCATION:First Presbyterian Church of San Leandro\, 180 Estudillo Avenue\, San Leandros\, 94577
CATEGORIES:Offsite
END:VEVENT
BEGIN:VEVENT
DTSTART;TZID=America/Los_Angeles:20260108T190000
DTEND;TZID=America/Los_Angeles:20260108T201500
DTSTAMP:20260422T145021
CREATED:20260325T183852Z
LAST-MODIFIED:20260325T183852Z
UID:10000753-1767898800-1767903300@firstpresbyterianchurchsl.org
SUMMARY:Chancel Choir Rehearsal
DESCRIPTION:
URL:https://firstpresbyterianchurchsl.org/event/chancel-choir-rehearsal-2/2026-01-08/
LOCATION:First Presbyterian Church of San Leandro\, 180 Estudillo Avenue\, San Leandros\, 94577
CATEGORIES:Fireside Room
END:VEVENT
BEGIN:VEVENT
DTSTART;TZID=America/Los_Angeles:20260108T123000
DTEND;TZID=America/Los_Angeles:20260108T143000
DTSTAMP:20260422T145021
CREATED:20260325T183135Z
LAST-MODIFIED:20260325T183135Z
UID:10000747-1767875400-1767882600@firstpresbyterianchurchsl.org
SUMMARY:Heart to Heart Women's Ministry
DESCRIPTION:
URL:https://firstpresbyterianchurchsl.org/event/heart-to-heart-womens-ministry-2/2026-01-08/
LOCATION:First Presbyterian Church of San Leandro\, 180 Estudillo Avenue\, San Leandros\, 94577
CATEGORIES:Fireside Room
END:VEVENT
BEGIN:VEVENT
DTSTART;TZID=America/Los_Angeles:20260106T181700
DTEND;TZID=America/Los_Angeles:20260106T193000
DTSTAMP:20260422T145021
CREATED:20260326T164648Z
LAST-MODIFIED:20260326T164650Z
UID:10000722-1767723420-1767727800@firstpresbyterianchurchsl.org
SUMMARY:Chancel Bells Rehearsal
DESCRIPTION:
URL:https://firstpresbyterianchurchsl.org/event/chancel-bells-rehearsal-2/
LOCATION:First Presbyterian Church of San Leandro\, 180 Estudillo Avenue\, San Leandros\, 94577
CATEGORIES:Fireside Room
END:VEVENT
BEGIN:VEVENT
DTSTART;TZID=America/Los_Angeles:20260104T103000
DTEND;TZID=America/Los_Angeles:20260104T113000
DTSTAMP:20260422T145021
CREATED:20260324T163227Z
LAST-MODIFIED:20260324T163227Z
UID:10000512-1767522600-1767526200@firstpresbyterianchurchsl.org
SUMMARY:Coffee Fellowship
DESCRIPTION:
URL:https://firstpresbyterianchurchsl.org/event/coffee-fellowship/2026-01-04/
LOCATION:First Presbyterian Church of San Leandro\, 180 Estudillo Avenue\, San Leandros\, 94577
CATEGORIES:Fellowship Hall
END:VEVENT
BEGIN:VEVENT
DTSTART;TZID=America/Los_Angeles:20260104T093000
DTEND;TZID=America/Los_Angeles:20260104T103000
DTSTAMP:20260422T145021
CREATED:20260324T160104Z
LAST-MODIFIED:20260324T160104Z
UID:10000207-1767519000-1767522600@firstpresbyterianchurchsl.org
SUMMARY:In-Person Worship Service
DESCRIPTION:Our service includes meaningful music\, prayer\, and a thoughtful message\, followed by a time of fellowship and connection. All are welcome!
URL:https://firstpresbyterianchurchsl.org/event/in-person-worship-service/2026-01-04/
LOCATION:First Presbyterian Church of San Leandro\, 180 Estudillo Avenue\, San Leandros\, 94577
CATEGORIES:Sanctuary
END:VEVENT
BEGIN:VEVENT
DTSTART;TZID=America/Los_Angeles:20260104T083000
DTEND;TZID=America/Los_Angeles:20260104T091000
DTSTAMP:20260422T145021
CREATED:20260324T162404Z
LAST-MODIFIED:20260324T162404Z
UID:10000486-1767515400-1767517800@firstpresbyterianchurchsl.org
SUMMARY:Chancel Choir Rehearsal
DESCRIPTION:
URL:https://firstpresbyterianchurchsl.org/event/chancel-choir-rehearsal/2026-01-04/
LOCATION:First Presbyterian Church of San Leandro\, 180 Estudillo Avenue\, San Leandros\, 94577
CATEGORIES:Fireside Room
END:VEVENT
BEGIN:VEVENT
DTSTART;TZID=UTC:20250918T113000
DTEND;TZID=UTC:20250918T133000
DTSTAMP:20260422T145021
CREATED:20250904T234814Z
LAST-MODIFIED:20250904T234814Z
UID:10000206-1758195000-1758202200@firstpresbyterianchurchsl.org
SUMMARY:Young at Heart- Senior Luncheon
DESCRIPTION:This month’s program features Sung Lee\, “The Bee Charmer\,” who will share the fascinating world of bees\, why they matter\, and how we can help them thrive. \nThe luncheon is free for all seniors\, with an optional $5 donation to help sustain the program. Space is limited\, so please call 510-483-2772 to reserve seats.
URL:https://firstpresbyterianchurchsl.org/event/young-at-heart-senior-luncheon/
LOCATION:Fellowship Hall\, 180 Estudillo Ave\, San Leandro\, CA\, 94577\, United States
ATTACH;FMTTYPE=image/png:https://firstpresbyterianchurchsl.org/wp-content/uploads/2025/09/Young-at-Heart-The-Bee-Charmer.png
ORGANIZER;CN="First Presbyterian Church of San Leandro":MAILTO:office@firstpresbyterianchurchsl.org
END:VEVENT
BEGIN:VEVENT
DTSTART;TZID=UTC:20241023T183000
DTEND;TZID=UTC:20241023T193000
DTSTAMP:20260422T145021
CREATED:20240906T045118Z
LAST-MODIFIED:20240906T045118Z
UID:10000191-1729708200-1729711800@firstpresbyterianchurchsl.org
SUMMARY:Do Unto Others: Mid-week Study
DESCRIPTION:Mid-week Study: Cultivating Kindness through Scripture & Community\nJoin us on Wednesday evenings at 6:30 p.m. at the church for a small group study that will complement the Do Unto Others Sunday sermon series. We will explore the scriptural call to bless others and wrestle with what this looks like in our day-to-day lives. We will use the great biblical love ethic Do unto others as you would have them do unto you (Matthew 7:12) as a guide for how to engage with people both inside our congregation and outside the church in an attempt to de-polarize our communities and love our neighbors through kindness.
URL:https://firstpresbyterianchurchsl.org/event/do-unto-others-mid-week-study/2024-10-23/
END:VEVENT
BEGIN:VEVENT
DTSTART;TZID=UTC:20241020T110000
DTEND;TZID=UTC:20241020T120000
DTSTAMP:20260422T145021
CREATED:20240906T045921Z
LAST-MODIFIED:20240906T050026Z
UID:10000199-1729422000-1729425600@firstpresbyterianchurchsl.org
SUMMARY:Sunday Morning Sermon Discussion
DESCRIPTION:On Sunday mornings\, Pastor Renee will hold Sermon Talk Back sessions from 11 am to Noon in the Fireside Room. All are invited to come and join the conversation as we further explore and discuss the sermon topic together. Come ask questions\, seek clarification\, share your thoughts and insights regarding the Biblical mandate to Do Unto Others.
URL:https://firstpresbyterianchurchsl.org/event/sunday-morning-sermon-discussion/2024-10-20/
END:VEVENT
BEGIN:VEVENT
DTSTART;TZID=UTC:20241020T093000
DTEND;TZID=UTC:20241020T103000
DTSTAMP:20260422T145021
CREATED:20240902T061647Z
LAST-MODIFIED:20240909T040947Z
UID:10000205-1729416600-1729420200@firstpresbyterianchurchsl.org
SUMMARY:Sunday Worship Series: Do Unto Others
DESCRIPTION:With divisiveness–and anxiety about that divisiveness–at an all-time high\, our new Fall worship series beginning the Sunday after Labor Day will consider How does our faith equip us to survive\, and perhaps eventhrive spiritually\, in this moment? From everyone’s viewpoint (diverse to be sure)\, there is a lot at stake for the wellbeing of our lives\, our families\, our communities\, and our world. I believe that it is an important time to be talking about “doing unto others” in ways that we hope will foster kindness\, compassion\, humility\, peacemaking\, respect\, and love in the world. \nAs Christians\, we have enough humility to know that we don’t have all the answers\, but thankfully we do have the teachings of Jesus\, who lived in his own turbulent times. And there are lessons for us in them – in the ways that he invited us to focus on treating others in generous ways – because we know first-hand what it’s like to receive that kind of love. \nYou are invited to reflect on these topics by joining us in worship and in a variety of different Christian Education opportunities (see page 2) – where we gather together in the fragility of a time that feels challenging. We gather and remember how Jesus called together friends and foes and offered the grace and love of God indiscriminately. We’ll take a look at how the church could model coming together to care for one another in the midst of what feels like so much hate and distrust.
URL:https://firstpresbyterianchurchsl.org/event/do-unto-others-a-worship-series-beginning/2024-10-20/
END:VEVENT
BEGIN:VEVENT
DTSTART;TZID=UTC:20241016T183000
DTEND;TZID=UTC:20241016T193000
DTSTAMP:20260422T145021
CREATED:20240906T045118Z
LAST-MODIFIED:20240906T045118Z
UID:10000190-1729103400-1729107000@firstpresbyterianchurchsl.org
SUMMARY:Do Unto Others: Mid-week Study
DESCRIPTION:Mid-week Study: Cultivating Kindness through Scripture & Community\nJoin us on Wednesday evenings at 6:30 p.m. at the church for a small group study that will complement the Do Unto Others Sunday sermon series. We will explore the scriptural call to bless others and wrestle with what this looks like in our day-to-day lives. We will use the great biblical love ethic Do unto others as you would have them do unto you (Matthew 7:12) as a guide for how to engage with people both inside our congregation and outside the church in an attempt to de-polarize our communities and love our neighbors through kindness.
URL:https://firstpresbyterianchurchsl.org/event/do-unto-others-mid-week-study/2024-10-16/
END:VEVENT
BEGIN:VEVENT
DTSTART;TZID=UTC:20241013T110000
DTEND;TZID=UTC:20241013T120000
DTSTAMP:20260422T145021
CREATED:20240906T045921Z
LAST-MODIFIED:20240906T050026Z
UID:10000198-1728817200-1728820800@firstpresbyterianchurchsl.org
SUMMARY:Sunday Morning Sermon Discussion
DESCRIPTION:On Sunday mornings\, Pastor Renee will hold Sermon Talk Back sessions from 11 am to Noon in the Fireside Room. All are invited to come and join the conversation as we further explore and discuss the sermon topic together. Come ask questions\, seek clarification\, share your thoughts and insights regarding the Biblical mandate to Do Unto Others.
URL:https://firstpresbyterianchurchsl.org/event/sunday-morning-sermon-discussion/2024-10-13/
END:VEVENT
BEGIN:VEVENT
DTSTART;TZID=UTC:20241013T093000
DTEND;TZID=UTC:20241013T103000
DTSTAMP:20260422T145021
CREATED:20240902T061647Z
LAST-MODIFIED:20240909T040947Z
UID:10000204-1728811800-1728815400@firstpresbyterianchurchsl.org
SUMMARY:Sunday Worship Series: Do Unto Others
DESCRIPTION:With divisiveness–and anxiety about that divisiveness–at an all-time high\, our new Fall worship series beginning the Sunday after Labor Day will consider How does our faith equip us to survive\, and perhaps eventhrive spiritually\, in this moment? From everyone’s viewpoint (diverse to be sure)\, there is a lot at stake for the wellbeing of our lives\, our families\, our communities\, and our world. I believe that it is an important time to be talking about “doing unto others” in ways that we hope will foster kindness\, compassion\, humility\, peacemaking\, respect\, and love in the world. \nAs Christians\, we have enough humility to know that we don’t have all the answers\, but thankfully we do have the teachings of Jesus\, who lived in his own turbulent times. And there are lessons for us in them – in the ways that he invited us to focus on treating others in generous ways – because we know first-hand what it’s like to receive that kind of love. \nYou are invited to reflect on these topics by joining us in worship and in a variety of different Christian Education opportunities (see page 2) – where we gather together in the fragility of a time that feels challenging. We gather and remember how Jesus called together friends and foes and offered the grace and love of God indiscriminately. We’ll take a look at how the church could model coming together to care for one another in the midst of what feels like so much hate and distrust.
URL:https://firstpresbyterianchurchsl.org/event/do-unto-others-a-worship-series-beginning/2024-10-13/
END:VEVENT
BEGIN:VEVENT
DTSTART;TZID=UTC:20241009T183000
DTEND;TZID=UTC:20241009T193000
DTSTAMP:20260422T145021
CREATED:20240906T045118Z
LAST-MODIFIED:20240906T045118Z
UID:10000189-1728498600-1728502200@firstpresbyterianchurchsl.org
SUMMARY:Do Unto Others: Mid-week Study
DESCRIPTION:Mid-week Study: Cultivating Kindness through Scripture & Community\nJoin us on Wednesday evenings at 6:30 p.m. at the church for a small group study that will complement the Do Unto Others Sunday sermon series. We will explore the scriptural call to bless others and wrestle with what this looks like in our day-to-day lives. We will use the great biblical love ethic Do unto others as you would have them do unto you (Matthew 7:12) as a guide for how to engage with people both inside our congregation and outside the church in an attempt to de-polarize our communities and love our neighbors through kindness.
URL:https://firstpresbyterianchurchsl.org/event/do-unto-others-mid-week-study/2024-10-09/
END:VEVENT
BEGIN:VEVENT
DTSTART;TZID=UTC:20241006T110000
DTEND;TZID=UTC:20241006T120000
DTSTAMP:20260422T145021
CREATED:20240906T045921Z
LAST-MODIFIED:20240906T050026Z
UID:10000197-1728212400-1728216000@firstpresbyterianchurchsl.org
SUMMARY:Sunday Morning Sermon Discussion
DESCRIPTION:On Sunday mornings\, Pastor Renee will hold Sermon Talk Back sessions from 11 am to Noon in the Fireside Room. All are invited to come and join the conversation as we further explore and discuss the sermon topic together. Come ask questions\, seek clarification\, share your thoughts and insights regarding the Biblical mandate to Do Unto Others.
URL:https://firstpresbyterianchurchsl.org/event/sunday-morning-sermon-discussion/2024-10-06/
END:VEVENT
BEGIN:VEVENT
DTSTART;TZID=UTC:20241006T093000
DTEND;TZID=UTC:20241006T103000
DTSTAMP:20260422T145021
CREATED:20240902T061647Z
LAST-MODIFIED:20240909T040947Z
UID:10000203-1728207000-1728210600@firstpresbyterianchurchsl.org
SUMMARY:Sunday Worship Series: Do Unto Others
DESCRIPTION:With divisiveness–and anxiety about that divisiveness–at an all-time high\, our new Fall worship series beginning the Sunday after Labor Day will consider How does our faith equip us to survive\, and perhaps eventhrive spiritually\, in this moment? From everyone’s viewpoint (diverse to be sure)\, there is a lot at stake for the wellbeing of our lives\, our families\, our communities\, and our world. I believe that it is an important time to be talking about “doing unto others” in ways that we hope will foster kindness\, compassion\, humility\, peacemaking\, respect\, and love in the world. \nAs Christians\, we have enough humility to know that we don’t have all the answers\, but thankfully we do have the teachings of Jesus\, who lived in his own turbulent times. And there are lessons for us in them – in the ways that he invited us to focus on treating others in generous ways – because we know first-hand what it’s like to receive that kind of love. \nYou are invited to reflect on these topics by joining us in worship and in a variety of different Christian Education opportunities (see page 2) – where we gather together in the fragility of a time that feels challenging. We gather and remember how Jesus called together friends and foes and offered the grace and love of God indiscriminately. We’ll take a look at how the church could model coming together to care for one another in the midst of what feels like so much hate and distrust.
URL:https://firstpresbyterianchurchsl.org/event/do-unto-others-a-worship-series-beginning/2024-10-06/
END:VEVENT
BEGIN:VEVENT
DTSTART;TZID=UTC:20241005T073000
DTEND;TZID=UTC:20241005T090000
DTSTAMP:20260422T145021
CREATED:20220531T090923Z
LAST-MODIFIED:20240928T100126Z
UID:10000052-1728113400-1728118800@firstpresbyterianchurchsl.org
SUMMARY:Men’s Breakfast/Bible Study and Women’s Fellowship Breakfast
DESCRIPTION:The monthly Men’s Bible Study Breakfast and Women’s Fellowship Breakfast will both take place on Saturday\, October 5 at 7:30 am at the Manor Grill\, located at 526 Manor Blvd. in San Leandro. All are invited and welcome to join! \n 
URL:https://firstpresbyterianchurchsl.org/event/mens-breakfast-bible-study-and-womens-fellowship-breakfast/
LOCATION:First Presbyterian Church of San Leandro\, 180 Estudillo Avenue\, San Leandros\, 94577
END:VEVENT
BEGIN:VEVENT
DTSTART;TZID=UTC:20241002T183000
DTEND;TZID=UTC:20241002T193000
DTSTAMP:20260422T145021
CREATED:20240906T045118Z
LAST-MODIFIED:20240906T045118Z
UID:10000188-1727893800-1727897400@firstpresbyterianchurchsl.org
SUMMARY:Do Unto Others: Mid-week Study
DESCRIPTION:Mid-week Study: Cultivating Kindness through Scripture & Community\nJoin us on Wednesday evenings at 6:30 p.m. at the church for a small group study that will complement the Do Unto Others Sunday sermon series. We will explore the scriptural call to bless others and wrestle with what this looks like in our day-to-day lives. We will use the great biblical love ethic Do unto others as you would have them do unto you (Matthew 7:12) as a guide for how to engage with people both inside our congregation and outside the church in an attempt to de-polarize our communities and love our neighbors through kindness.
URL:https://firstpresbyterianchurchsl.org/event/do-unto-others-mid-week-study/2024-10-02/
END:VEVENT
END:VCALENDAR