BEGIN:VCALENDAR
VERSION:2.0
PRODID:-//First Presbyterian Church SL - ECPv6.15.20//NONSGML v1.0//EN
CALSCALE:GREGORIAN
METHOD:PUBLISH
X-WR-CALNAME:First Presbyterian Church SL
X-ORIGINAL-URL:https://firstpresbyterianchurchsl.org
X-WR-CALDESC:Events for First Presbyterian Church SL
REFRESH-INTERVAL;VALUE=DURATION:PT1H
X-Robots-Tag:noindex
X-PUBLISHED-TTL:PT1H
BEGIN:VTIMEZONE
TZID:UTC
BEGIN:STANDARD
TZOFFSETFROM:+0000
TZOFFSETTO:+0000
TZNAME:UTC
DTSTART:20220101T000000
END:STANDARD
END:VTIMEZONE
BEGIN:VEVENT
DTSTART;TZID=UTC:20240619T183000
DTEND;TZID=UTC:20240619T193000
DTSTAMP:20260422T144946
CREATED:20240603T042131Z
LAST-MODIFIED:20240603T042131Z
UID:10000162-1718821800-1718825400@firstpresbyterianchurchsl.org
SUMMARY:Summer Mid-Week Study “Is That in the Bible?”
DESCRIPTION:Summer Mid-Week Study “Is That in the Bible?” begins June 12th\nJoin us on Wednesdays on the church patio under the shade of pop-up tents for a fun and engaging study about what IS in the Bible and what we think is but ISN’T. Come early at 6:00 p.m. to wander over to the Farmers’ Market at the Library and pick up some fresh flowers\, produce or even something to eat for dinner. We’ll gather together on the patio and start our study at 6:30 pm.\nPart 1: June 12th – July 10th – Old Testament\nPart 2: July 31st – August 28th – New Testament
URL:https://firstpresbyterianchurchsl.org/event/summer-mid-week-study-is-that-in-the-bible/2024-06-19/
END:VEVENT
BEGIN:VEVENT
DTSTART;TZID=UTC:20240616T093000
DTEND;TZID=UTC:20240616T103000
DTSTAMP:20260422T144946
CREATED:20240603T041740Z
LAST-MODIFIED:20240603T041740Z
UID:10000157-1718530200-1718533800@firstpresbyterianchurchsl.org
SUMMARY:Summer Sermon Series - Character Matters
DESCRIPTION:This summer our worship is focusing on biblical characters. There are so many to choose from – from saints to adversaries. Each Sunday we will look at a character from the Bible and look at what matters about them. Why is Abraham the father of nations? How did the prostitute Rahab save a people? What’s so special about the Hebrew prophets like Jeremiah and Micah? How did people such as Cornelius and Lydia help expand the early church’s notions of who belongs to the way of Jesus? Why is Barnabas a model character for us in the church to follow? \nJune Sundays:\nJune 2: Jacob and Esau\nJune 9: Rahab\n*June 16: Ruth and Naomi\n*June 23rd: Young David\n*June 30th: Jeremiah \n*Summer Sermon Talk-back: On Sundays throughout the summer when there is not a meal or special program following worship\, Pastor Renée will offer further discussion of the Bible character and the questions that are raised for our lives in the Fireside Room from 11 – Noon. Come add to the discussion and further explore What and Why Character Matters! June 16\, 23 and 30
URL:https://firstpresbyterianchurchsl.org/event/summer-sermon-series-character-matters/2024-06-16/
END:VEVENT
BEGIN:VEVENT
DTSTART;TZID=UTC:20240612T183000
DTEND;TZID=UTC:20240612T193000
DTSTAMP:20260422T144946
CREATED:20240603T042131Z
LAST-MODIFIED:20240603T042131Z
UID:10000161-1718217000-1718220600@firstpresbyterianchurchsl.org
SUMMARY:Summer Mid-Week Study “Is That in the Bible?”
DESCRIPTION:Summer Mid-Week Study “Is That in the Bible?” begins June 12th\nJoin us on Wednesdays on the church patio under the shade of pop-up tents for a fun and engaging study about what IS in the Bible and what we think is but ISN’T. Come early at 6:00 p.m. to wander over to the Farmers’ Market at the Library and pick up some fresh flowers\, produce or even something to eat for dinner. We’ll gather together on the patio and start our study at 6:30 pm.\nPart 1: June 12th – July 10th – Old Testament\nPart 2: July 31st – August 28th – New Testament
URL:https://firstpresbyterianchurchsl.org/event/summer-mid-week-study-is-that-in-the-bible/2024-06-12/
END:VEVENT
BEGIN:VEVENT
DTSTART;TZID=UTC:20240609T093000
DTEND;TZID=UTC:20240609T103000
DTSTAMP:20260422T144946
CREATED:20240603T041740Z
LAST-MODIFIED:20240603T041740Z
UID:10000156-1717925400-1717929000@firstpresbyterianchurchsl.org
SUMMARY:Summer Sermon Series - Character Matters
DESCRIPTION:This summer our worship is focusing on biblical characters. There are so many to choose from – from saints to adversaries. Each Sunday we will look at a character from the Bible and look at what matters about them. Why is Abraham the father of nations? How did the prostitute Rahab save a people? What’s so special about the Hebrew prophets like Jeremiah and Micah? How did people such as Cornelius and Lydia help expand the early church’s notions of who belongs to the way of Jesus? Why is Barnabas a model character for us in the church to follow? \nJune Sundays:\nJune 2: Jacob and Esau\nJune 9: Rahab\n*June 16: Ruth and Naomi\n*June 23rd: Young David\n*June 30th: Jeremiah \n*Summer Sermon Talk-back: On Sundays throughout the summer when there is not a meal or special program following worship\, Pastor Renée will offer further discussion of the Bible character and the questions that are raised for our lives in the Fireside Room from 11 – Noon. Come add to the discussion and further explore What and Why Character Matters! June 16\, 23 and 30
URL:https://firstpresbyterianchurchsl.org/event/summer-sermon-series-character-matters/2024-06-09/
END:VEVENT
BEGIN:VEVENT
DTSTART;TZID=UTC:20240501T080000
DTEND;TZID=UTC:20240501T170000
DTSTAMP:20260422T144946
CREATED:20240426T034114Z
LAST-MODIFIED:20240426T034114Z
UID:10000153-1714550400-1714582800@firstpresbyterianchurchsl.org
SUMMARY:Session voted to lift all remaining church COVID protocols beginning on May 1.
DESCRIPTION:In April\, Session voted to lift all remaining church COVID protocols beginning on May 1. This includes the elimination of worship attendance check-in and the prohibition of the choir sitting in the choir loft. In May we will once again use attendance pads in the pews. \nOf course\, mask wearing will always be acceptable and those who choose to do so will be respected and supported.
URL:https://firstpresbyterianchurchsl.org/event/session-voted-to-lift-all-remaining-church-covid-protocols-beginning-on-may-1/
END:VEVENT
BEGIN:VEVENT
DTSTART;TZID=UTC:20230813T110000
DTEND;TZID=UTC:20230813T130000
DTSTAMP:20260422T144946
CREATED:20230801T004636Z
LAST-MODIFIED:20230801T005219Z
UID:10000125-1691924400-1691931600@firstpresbyterianchurchsl.org
SUMMARY:Prayer Shawl Ministry
DESCRIPTION:This crafting group meets once a month for fellowship and sharing tools and ideas. All small crafters are welcome. Meetings are on the Second Sunday of each month at 11:00 a.m. in the Fireside Room.
URL:https://firstpresbyterianchurchsl.org/event/prayer-shawl-ministry/
END:VEVENT
END:VCALENDAR