BEGIN:VCALENDAR
VERSION:2.0
PRODID:-//First Presbyterian Church SL - ECPv6.15.20//NONSGML v1.0//EN
CALSCALE:GREGORIAN
METHOD:PUBLISH
X-WR-CALNAME:First Presbyterian Church SL
X-ORIGINAL-URL:https://firstpresbyterianchurchsl.org
X-WR-CALDESC:Events for First Presbyterian Church SL
REFRESH-INTERVAL;VALUE=DURATION:PT1H
X-Robots-Tag:noindex
X-PUBLISHED-TTL:PT1H
BEGIN:VTIMEZONE
TZID:America/Los_Angeles
BEGIN:DAYLIGHT
TZOFFSETFROM:-0800
TZOFFSETTO:-0700
TZNAME:PDT
DTSTART:20250309T100000
END:DAYLIGHT
BEGIN:STANDARD
TZOFFSETFROM:-0700
TZOFFSETTO:-0800
TZNAME:PST
DTSTART:20251102T090000
END:STANDARD
BEGIN:DAYLIGHT
TZOFFSETFROM:-0800
TZOFFSETTO:-0700
TZNAME:PDT
DTSTART:20260308T100000
END:DAYLIGHT
BEGIN:STANDARD
TZOFFSETFROM:-0700
TZOFFSETTO:-0800
TZNAME:PST
DTSTART:20261101T090000
END:STANDARD
BEGIN:DAYLIGHT
TZOFFSETFROM:-0800
TZOFFSETTO:-0700
TZNAME:PDT
DTSTART:20270314T100000
END:DAYLIGHT
BEGIN:STANDARD
TZOFFSETFROM:-0700
TZOFFSETTO:-0800
TZNAME:PST
DTSTART:20271107T090000
END:STANDARD
END:VTIMEZONE
BEGIN:VEVENT
DTSTART;TZID=America/Los_Angeles:20260225T130000
DTEND;TZID=America/Los_Angeles:20260225T140000
DTSTAMP:20260422T145159
CREATED:20260326T172005Z
LAST-MODIFIED:20260326T172005Z
UID:10000851-1772024400-1772028000@firstpresbyterianchurchsl.org
SUMMARY:Christian Education Team Meeting
DESCRIPTION:
URL:https://firstpresbyterianchurchsl.org/event/christian-education-team-meeting/2026-02-25/
LOCATION:First Presbyterian Church of San Leandro\, 180 Estudillo Avenue\, San Leandros\, 94577
CATEGORIES:Conference Room
END:VEVENT
BEGIN:VEVENT
DTSTART;TZID=America/Los_Angeles:20260224T133000
DTEND;TZID=America/Los_Angeles:20260224T143000
DTSTAMP:20260422T145159
CREATED:20260326T181732Z
LAST-MODIFIED:20260326T181732Z
UID:10000929-1771939800-1771943400@firstpresbyterianchurchsl.org
SUMMARY:Let's Read This Book!
DESCRIPTION:
URL:https://firstpresbyterianchurchsl.org/event/lets-read-this-book/2026-02-24/
LOCATION:First Presbyterian Church of San Leandro\, 180 Estudillo Avenue\, San Leandros\, 94577
CATEGORIES:Fireside Room
END:VEVENT
BEGIN:VEVENT
DTSTART;TZID=America/Los_Angeles:20260223T181700
DTEND;TZID=America/Los_Angeles:20260223T193000
DTSTAMP:20260422T145159
CREATED:20260325T182826Z
LAST-MODIFIED:20260325T182826Z
UID:10000729-1771870620-1771875000@firstpresbyterianchurchsl.org
SUMMARY:Chancel Bells Rehearsal
DESCRIPTION:
URL:https://firstpresbyterianchurchsl.org/event/chancel-bells-rehearsal/2026-02-23/
LOCATION:First Presbyterian Church of San Leandro\, 180 Estudillo Avenue\, San Leandros\, 94577
CATEGORIES:Fireside Room
END:VEVENT
BEGIN:VEVENT
DTSTART;TZID=America/Los_Angeles:20260222T110000
DTEND;TZID=America/Los_Angeles:20260222T120000
DTSTAMP:20260422T145159
CREATED:20260325T184350Z
LAST-MODIFIED:20260325T184350Z
UID:10000765-1771758000-1771761600@firstpresbyterianchurchsl.org
SUMMARY:The Years of Ripening Class
DESCRIPTION:
URL:https://firstpresbyterianchurchsl.org/event/the-years-of-ripening-class/2026-02-22/
LOCATION:First Presbyterian Church of San Leandro\, 180 Estudillo Avenue\, San Leandros\, 94577
CATEGORIES:Fireside Room
END:VEVENT
BEGIN:VEVENT
DTSTART;TZID=America/Los_Angeles:20260222T103000
DTEND;TZID=America/Los_Angeles:20260222T113000
DTSTAMP:20260422T145159
CREATED:20260324T163227Z
LAST-MODIFIED:20260324T163227Z
UID:10000517-1771756200-1771759800@firstpresbyterianchurchsl.org
SUMMARY:Coffee Fellowship
DESCRIPTION:
URL:https://firstpresbyterianchurchsl.org/event/coffee-fellowship/2026-02-22/
LOCATION:First Presbyterian Church of San Leandro\, 180 Estudillo Avenue\, San Leandros\, 94577
CATEGORIES:Fellowship Hall
END:VEVENT
BEGIN:VEVENT
DTSTART;TZID=America/Los_Angeles:20260222T093000
DTEND;TZID=America/Los_Angeles:20260222T103000
DTSTAMP:20260422T145159
CREATED:20260324T160104Z
LAST-MODIFIED:20260324T160104Z
UID:10000214-1771752600-1771756200@firstpresbyterianchurchsl.org
SUMMARY:In-Person Worship Service
DESCRIPTION:Our service includes meaningful music\, prayer\, and a thoughtful message\, followed by a time of fellowship and connection. All are welcome!
URL:https://firstpresbyterianchurchsl.org/event/in-person-worship-service/2026-02-22/
LOCATION:First Presbyterian Church of San Leandro\, 180 Estudillo Avenue\, San Leandros\, 94577
CATEGORIES:Sanctuary
END:VEVENT
BEGIN:VEVENT
DTSTART;TZID=America/Los_Angeles:20260222T083000
DTEND;TZID=America/Los_Angeles:20260222T091000
DTSTAMP:20260422T145159
CREATED:20260324T162404Z
LAST-MODIFIED:20260324T162404Z
UID:10000493-1771749000-1771751400@firstpresbyterianchurchsl.org
SUMMARY:Chancel Choir Rehearsal
DESCRIPTION:
URL:https://firstpresbyterianchurchsl.org/event/chancel-choir-rehearsal/2026-02-22/
LOCATION:First Presbyterian Church of San Leandro\, 180 Estudillo Avenue\, San Leandros\, 94577
CATEGORIES:Fireside Room
END:VEVENT
BEGIN:VEVENT
DTSTART;TZID=America/Los_Angeles:20260221T120000
DTEND;TZID=America/Los_Angeles:20260221T160000
DTSTAMP:20260422T145159
CREATED:20260326T182034Z
LAST-MODIFIED:20260326T182034Z
UID:10000941-1771675200-1771689600@firstpresbyterianchurchsl.org
SUMMARY:San Leandro Art Association
DESCRIPTION:
URL:https://firstpresbyterianchurchsl.org/event/san-leandro-art-association/
LOCATION:First Presbyterian Church of San Leandro\, 180 Estudillo Avenue\, San Leandros\, 94577
CATEGORIES:PEAK Room
END:VEVENT
BEGIN:VEVENT
DTSTART;TZID=America/Los_Angeles:20260219T113000
DTEND;TZID=America/Los_Angeles:20260219T133000
DTSTAMP:20260422T145159
CREATED:20260325T184759Z
LAST-MODIFIED:20260325T184759Z
UID:10000772-1771500600-1771507800@firstpresbyterianchurchsl.org
SUMMARY:Young at Heart
DESCRIPTION:
URL:https://firstpresbyterianchurchsl.org/event/young-at-heart/2026-02-19/
LOCATION:First Presbyterian Church of San Leandro\, 180 Estudillo Avenue\, San Leandros\, 94577
CATEGORIES:Fellowship Hall
END:VEVENT
BEGIN:VEVENT
DTSTART;TZID=America/Los_Angeles:20260218T120000
DTEND;TZID=America/Los_Angeles:20260218T130000
DTSTAMP:20260422T145159
CREATED:20260326T181806Z
LAST-MODIFIED:20260326T181806Z
UID:10000940-1771416000-1771419600@firstpresbyterianchurchsl.org
SUMMARY:Ash Wednesday Service
DESCRIPTION:
URL:https://firstpresbyterianchurchsl.org/event/ash-wednesday-service/
LOCATION:First Presbyterian Church of San Leandro\, 180 Estudillo Avenue\, San Leandros\, 94577
CATEGORIES:Sanctuary
END:VEVENT
BEGIN:VEVENT
DTSTART;TZID=America/Los_Angeles:20260217T180000
DTEND;TZID=America/Los_Angeles:20260217T190000
DTSTAMP:20260422T145159
CREATED:20260326T171555Z
LAST-MODIFIED:20260326T171555Z
UID:10000788-1771351200-1771354800@firstpresbyterianchurchsl.org
SUMMARY:Session Meeting
DESCRIPTION:
URL:https://firstpresbyterianchurchsl.org/event/session-meeting/2026-02-17/
LOCATION:First Presbyterian Church of San Leandro\, 180 Estudillo Avenue\, San Leandros\, 94577
CATEGORIES:Fireside Room
END:VEVENT
BEGIN:VEVENT
DTSTART;TZID=America/Los_Angeles:20260217T133000
DTEND;TZID=America/Los_Angeles:20260217T143000
DTSTAMP:20260422T145159
CREATED:20260326T181732Z
LAST-MODIFIED:20260326T181732Z
UID:10000928-1771335000-1771338600@firstpresbyterianchurchsl.org
SUMMARY:Let's Read This Book!
DESCRIPTION:
URL:https://firstpresbyterianchurchsl.org/event/lets-read-this-book/2026-02-17/
LOCATION:First Presbyterian Church of San Leandro\, 180 Estudillo Avenue\, San Leandros\, 94577
CATEGORIES:Fireside Room
END:VEVENT
BEGIN:VEVENT
DTSTART;TZID=America/Los_Angeles:20260216T181700
DTEND;TZID=America/Los_Angeles:20260216T193000
DTSTAMP:20260422T145159
CREATED:20260325T182826Z
LAST-MODIFIED:20260325T182826Z
UID:10000728-1771265820-1771270200@firstpresbyterianchurchsl.org
SUMMARY:Chancel Bells Rehearsal
DESCRIPTION:
URL:https://firstpresbyterianchurchsl.org/event/chancel-bells-rehearsal/2026-02-16/
LOCATION:First Presbyterian Church of San Leandro\, 180 Estudillo Avenue\, San Leandros\, 94577
CATEGORIES:Fireside Room
END:VEVENT
BEGIN:VEVENT
DTSTART;TZID=America/Los_Angeles:20260215T140000
DTEND;TZID=America/Los_Angeles:20260215T160000
DTSTAMP:20260422T145159
CREATED:20260326T181642Z
LAST-MODIFIED:20260326T181642Z
UID:10000927-1771164000-1771171200@firstpresbyterianchurchsl.org
SUMMARY:Valentine Paint Party
DESCRIPTION:
URL:https://firstpresbyterianchurchsl.org/event/valentine-paint-party/
LOCATION:First Presbyterian Church of San Leandro\, 180 Estudillo Avenue\, San Leandros\, 94577
CATEGORIES:Fellowship Hall
END:VEVENT
BEGIN:VEVENT
DTSTART;TZID=America/Los_Angeles:20260215T110000
DTEND;TZID=America/Los_Angeles:20260215T120000
DTSTAMP:20260422T145159
CREATED:20260325T184350Z
LAST-MODIFIED:20260325T184350Z
UID:10000764-1771153200-1771156800@firstpresbyterianchurchsl.org
SUMMARY:The Years of Ripening Class
DESCRIPTION:
URL:https://firstpresbyterianchurchsl.org/event/the-years-of-ripening-class/2026-02-15/
LOCATION:First Presbyterian Church of San Leandro\, 180 Estudillo Avenue\, San Leandros\, 94577
CATEGORIES:Fireside Room
END:VEVENT
BEGIN:VEVENT
DTSTART;TZID=America/Los_Angeles:20260215T103000
DTEND;TZID=America/Los_Angeles:20260215T113000
DTSTAMP:20260422T145159
CREATED:20260324T163227Z
LAST-MODIFIED:20260324T163227Z
UID:10000516-1771151400-1771155000@firstpresbyterianchurchsl.org
SUMMARY:Coffee Fellowship
DESCRIPTION:
URL:https://firstpresbyterianchurchsl.org/event/coffee-fellowship/2026-02-15/
LOCATION:First Presbyterian Church of San Leandro\, 180 Estudillo Avenue\, San Leandros\, 94577
CATEGORIES:Fellowship Hall
END:VEVENT
BEGIN:VEVENT
DTSTART;TZID=America/Los_Angeles:20260215T093000
DTEND;TZID=America/Los_Angeles:20260215T103000
DTSTAMP:20260422T145159
CREATED:20260324T160104Z
LAST-MODIFIED:20260324T160104Z
UID:10000213-1771147800-1771151400@firstpresbyterianchurchsl.org
SUMMARY:In-Person Worship Service
DESCRIPTION:Our service includes meaningful music\, prayer\, and a thoughtful message\, followed by a time of fellowship and connection. All are welcome!
URL:https://firstpresbyterianchurchsl.org/event/in-person-worship-service/2026-02-15/
LOCATION:First Presbyterian Church of San Leandro\, 180 Estudillo Avenue\, San Leandros\, 94577
CATEGORIES:Sanctuary
END:VEVENT
BEGIN:VEVENT
DTSTART;TZID=America/Los_Angeles:20260215T083000
DTEND;TZID=America/Los_Angeles:20260215T091000
DTSTAMP:20260422T145159
CREATED:20260324T162404Z
LAST-MODIFIED:20260324T162404Z
UID:10000492-1771144200-1771146600@firstpresbyterianchurchsl.org
SUMMARY:Chancel Choir Rehearsal
DESCRIPTION:
URL:https://firstpresbyterianchurchsl.org/event/chancel-choir-rehearsal/2026-02-15/
LOCATION:First Presbyterian Church of San Leandro\, 180 Estudillo Avenue\, San Leandros\, 94577
CATEGORIES:Fireside Room
END:VEVENT
BEGIN:VEVENT
DTSTART;TZID=America/Los_Angeles:20260214T140000
DTEND;TZID=America/Los_Angeles:20260214T150000
DTSTAMP:20260422T145159
CREATED:20260326T181609Z
LAST-MODIFIED:20260326T181609Z
UID:10000926-1771077600-1771081200@firstpresbyterianchurchsl.org
SUMMARY:Chancel Bells Rehearsal
DESCRIPTION:
URL:https://firstpresbyterianchurchsl.org/event/chancel-bells-rehearsal-5/
LOCATION:First Presbyterian Church of San Leandro\, 180 Estudillo Avenue\, San Leandros\, 94577
CATEGORIES:Sanctuary
END:VEVENT
BEGIN:VEVENT
DTSTART;TZID=America/Los_Angeles:20260212T190000
DTEND;TZID=America/Los_Angeles:20260212T201500
DTSTAMP:20260422T145159
CREATED:20260325T183852Z
LAST-MODIFIED:20260325T183852Z
UID:10000754-1770922800-1770927300@firstpresbyterianchurchsl.org
SUMMARY:Chancel Choir Rehearsal
DESCRIPTION:
URL:https://firstpresbyterianchurchsl.org/event/chancel-choir-rehearsal-2/2026-02-12/
LOCATION:First Presbyterian Church of San Leandro\, 180 Estudillo Avenue\, San Leandros\, 94577
CATEGORIES:Fireside Room
END:VEVENT
BEGIN:VEVENT
DTSTART;TZID=America/Los_Angeles:20260212T123000
DTEND;TZID=America/Los_Angeles:20260212T143000
DTSTAMP:20260422T145159
CREATED:20260325T183135Z
LAST-MODIFIED:20260325T183135Z
UID:10000748-1770899400-1770906600@firstpresbyterianchurchsl.org
SUMMARY:Heart to Heart Women's Ministry
DESCRIPTION:
URL:https://firstpresbyterianchurchsl.org/event/heart-to-heart-womens-ministry-2/2026-02-12/
LOCATION:First Presbyterian Church of San Leandro\, 180 Estudillo Avenue\, San Leandros\, 94577
CATEGORIES:Fireside Room
END:VEVENT
BEGIN:VEVENT
DTSTART;TZID=America/Los_Angeles:20260209T181700
DTEND;TZID=America/Los_Angeles:20260209T193000
DTSTAMP:20260422T145159
CREATED:20260325T182826Z
LAST-MODIFIED:20260325T182826Z
UID:10000727-1770661020-1770665400@firstpresbyterianchurchsl.org
SUMMARY:Chancel Bells Rehearsal
DESCRIPTION:
URL:https://firstpresbyterianchurchsl.org/event/chancel-bells-rehearsal/2026-02-09/
LOCATION:First Presbyterian Church of San Leandro\, 180 Estudillo Avenue\, San Leandros\, 94577
CATEGORIES:Fireside Room
END:VEVENT
BEGIN:VEVENT
DTSTART;TZID=America/Los_Angeles:20260208T110000
DTEND;TZID=America/Los_Angeles:20260208T120000
DTSTAMP:20260422T145159
CREATED:20260326T181409Z
LAST-MODIFIED:20260326T181409Z
UID:10000925-1770548400-1770552000@firstpresbyterianchurchsl.org
SUMMARY:Mission Team Meeting
DESCRIPTION:
URL:https://firstpresbyterianchurchsl.org/event/mission-team-meeting/
LOCATION:First Presbyterian Church of San Leandro\, 180 Estudillo Avenue\, San Leandros\, 94577
CATEGORIES:Conference Room
END:VEVENT
BEGIN:VEVENT
DTSTART;TZID=America/Los_Angeles:20260208T110000
DTEND;TZID=America/Los_Angeles:20260208T120000
DTSTAMP:20260422T145159
CREATED:20260325T184350Z
LAST-MODIFIED:20260325T184350Z
UID:10000763-1770548400-1770552000@firstpresbyterianchurchsl.org
SUMMARY:The Years of Ripening Class
DESCRIPTION:
URL:https://firstpresbyterianchurchsl.org/event/the-years-of-ripening-class/2026-02-08/
LOCATION:First Presbyterian Church of San Leandro\, 180 Estudillo Avenue\, San Leandros\, 94577
CATEGORIES:Fireside Room
END:VEVENT
BEGIN:VEVENT
DTSTART;TZID=America/Los_Angeles:20260208T103000
DTEND;TZID=America/Los_Angeles:20260208T113000
DTSTAMP:20260422T145159
CREATED:20260326T181248Z
LAST-MODIFIED:20260326T181248Z
UID:10000863-1770546600-1770550200@firstpresbyterianchurchsl.org
SUMMARY:Coffee Fellowship/Manna Bags & Equal Exchange
DESCRIPTION:
URL:https://firstpresbyterianchurchsl.org/event/coffee-fellowship-manna-bags-equal-exchange/2026-02-08/
LOCATION:First Presbyterian Church of San Leandro\, 180 Estudillo Avenue\, San Leandros\, 94577
CATEGORIES:Fellowship Hall
END:VEVENT
BEGIN:VEVENT
DTSTART;TZID=America/Los_Angeles:20260208T093000
DTEND;TZID=America/Los_Angeles:20260208T103000
DTSTAMP:20260422T145159
CREATED:20260324T160104Z
LAST-MODIFIED:20260324T160104Z
UID:10000212-1770543000-1770546600@firstpresbyterianchurchsl.org
SUMMARY:In-Person Worship Service
DESCRIPTION:Our service includes meaningful music\, prayer\, and a thoughtful message\, followed by a time of fellowship and connection. All are welcome!
URL:https://firstpresbyterianchurchsl.org/event/in-person-worship-service/2026-02-08/
LOCATION:First Presbyterian Church of San Leandro\, 180 Estudillo Avenue\, San Leandros\, 94577
CATEGORIES:Sanctuary
END:VEVENT
BEGIN:VEVENT
DTSTART;TZID=America/Los_Angeles:20260208T083000
DTEND;TZID=America/Los_Angeles:20260208T091000
DTSTAMP:20260422T145159
CREATED:20260324T162404Z
LAST-MODIFIED:20260324T162404Z
UID:10000491-1770539400-1770541800@firstpresbyterianchurchsl.org
SUMMARY:Chancel Choir Rehearsal
DESCRIPTION:
URL:https://firstpresbyterianchurchsl.org/event/chancel-choir-rehearsal/2026-02-08/
LOCATION:First Presbyterian Church of San Leandro\, 180 Estudillo Avenue\, San Leandros\, 94577
CATEGORIES:Fireside Room
END:VEVENT
BEGIN:VEVENT
DTSTART;TZID=America/Los_Angeles:20260207T094500
DTEND;TZID=America/Los_Angeles:20260207T104500
DTSTAMP:20260422T145159
CREATED:20260326T181057Z
LAST-MODIFIED:20260326T181057Z
UID:10000861-1770457500-1770461100@firstpresbyterianchurchsl.org
SUMMARY:Winter Bell Camp
DESCRIPTION:
URL:https://firstpresbyterianchurchsl.org/event/winter-bell-camp-2/
LOCATION:First Presbyterian Church of San Leandro\, 180 Estudillo Avenue\, San Leandros\, 94577
CATEGORIES:Fireside Room
END:VEVENT
BEGIN:VEVENT
DTSTART;TZID=America/Los_Angeles:20260207T073000
DTEND;TZID=America/Los_Angeles:20260207T083000
DTSTAMP:20260422T145159
CREATED:20260324T162141Z
LAST-MODIFIED:20260326T170223Z
UID:10000482-1770449400-1770453000@firstpresbyterianchurchsl.org
SUMMARY:Men's Bible Study and Breakfast/Women's Fellowship Breakfast @ Manor Grill
DESCRIPTION:Join us for a relaxed morning of conversation\, community\, and breakfast. Each month\, the men gather for a casual Bible study while the women meet at a nearby table for fellowship and connection. \nThis is a welcoming\, informal gathering where you can enjoy good food\, meaningful conversation\, and time together before the day begins. Whether you’re new to the church or have been attending for years\, all are welcome. \nHosted by First Presbyterian Church of San Leandro\, this monthly gathering is a great way to build friendships and grow in faith in a comfortable setting.
URL:https://firstpresbyterianchurchsl.org/event/mens-bible-study-and-breakfast-womens-fellowship-breakfast-manor-grill/2026-02-07/
LOCATION:First Presbyterian Church of San Leandro\, 180 Estudillo Avenue\, San Leandros\, 94577
CATEGORIES:Offsite
END:VEVENT
BEGIN:VEVENT
DTSTART;TZID=America/Los_Angeles:20260204T143000
DTEND;TZID=America/Los_Angeles:20260204T153000
DTSTAMP:20260422T145159
CREATED:20260326T181002Z
LAST-MODIFIED:20260326T181002Z
UID:10000860-1770215400-1770219000@firstpresbyterianchurchsl.org
SUMMARY:Chancel Bells Event
DESCRIPTION:
URL:https://firstpresbyterianchurchsl.org/event/chancel-bells-event/
LOCATION:First Presbyterian Church of San Leandro\, 180 Estudillo Avenue\, San Leandros\, 94577
CATEGORIES:Fireside Room
END:VEVENT
END:VCALENDAR