BEGIN:VCALENDAR
VERSION:2.0
PRODID:-//First Presbyterian Church SL - ECPv6.15.20//NONSGML v1.0//EN
CALSCALE:GREGORIAN
METHOD:PUBLISH
X-ORIGINAL-URL:https://firstpresbyterianchurchsl.org
X-WR-CALDESC:Events for First Presbyterian Church SL
REFRESH-INTERVAL;VALUE=DURATION:PT1H
X-Robots-Tag:noindex
X-PUBLISHED-TTL:PT1H
BEGIN:VTIMEZONE
TZID:UTC
BEGIN:STANDARD
TZOFFSETFROM:+0000
TZOFFSETTO:+0000
TZNAME:UTC
DTSTART:20230101T000000
END:STANDARD
END:VTIMEZONE
BEGIN:VEVENT
DTSTART;TZID=UTC:20240919T113000
DTEND;TZID=UTC:20240919T130000
DTSTAMP:20260424T091915
CREATED:20240906T045255Z
LAST-MODIFIED:20241024T010753Z
UID:10000192-1726745400-1726750800@firstpresbyterianchurchsl.org
SUMMARY:Young at Heart Luncheon
DESCRIPTION:The Young at Heart luncheon and program will kick-off on Thursday\, September 19 at 11:30 am. We are delighted to have Kathy and Joe Schmidt provide a fun and engaging sing-a-long program. Please be sure to sign up ahead of time\, so we have an accurate count for the delicious meal prepared by Bob Kraut and his team. Donations to cover the meal cost are appreciated on the day of the event.
URL:https://firstpresbyterianchurchsl.org/event/young-at-heart-luncheon/
LOCATION:Fireside Room
END:VEVENT
END:VCALENDAR